{"text_format":"1","workbook":"xlsx","n_sheets":3,"sheets":["ЮНИОРЫ","ВЗРОСЛЫЕ СУПЕРСПОРТ А","ВЗРОСЛЫЕ СУПЕРСПОРТ В"],"not_rendered":{"charts":0,"images":2,"macros":1,"external_links":0,"defined_names":3,"comments":0,"pivot_tables":0},"unopened":[],"bounds":{"document_bytes":16777216,"sheet_cells":100000,"rows_first":2000,"rows_last":500,"rows_between":2000,"halvings":0,"cell_chars":16384,"cell_head_chars":4096},"cells_cut":0,"cells_raw":0,"read":"whole","date_system":"1900"}

{"sheet":"ЮНИОРЫ","index":0,"n_rows":26,"n_cols":257,"rows_kept":26,"cut":false,"hidden":false,"merged":[[5,7,5,9],[0,14,3,14],[1,0,1,13],[2,0,2,13],[3,0,3,13],[4,0,4,13],[6,13,8,13],[6,14,8,14],[7,7,8,7],[7,8,8,8],[7,9,8,9],[7,10,8,10],[6,11,6,12],[7,11,8,11],[7,12,8,12],[21,0,21,6],[24,0,24,6],[6,6,8,6],[6,7,6,8],[6,9,6,10],[6,0,8,0],[6,1,8,1],[6,2,8,2],[6,3,8,3],[6,4,8,4],[6,5,8,5]]}
[]
["Первенство России по кроссу на снегоходах 2019 года - I-й этап."]
["ПРОТОКОЛ ЛИЧНОГО ЗАЧЕТА",null,null,null,null,null,null,null,null,null,null,null,null,null,null,null,null,null,null,null,null,null,null,null,null,null,null,null,null,null,null,null,null,null,null,null,null,null,null,null,null,null,null,null,null,null,null,null,null,null,null,null,null,null,null,null,null,null,null,null,null,null,null,null,null,null,null,null,null,null,null,null,null,null,null,null,null,null,null,null,null,null,null,null,null,null,null,null,null,null,null,null,null,null,null,null,null,null,null,null,null,null,null,null,null,null,null,null,null,null,null,null,null,null,null,null,null,null,null,null,null,null,null,null,null,null,null,null,null,null,null,null,null,null,null,null,null,null,null,null,null,null,null,null,null,null,null,null,null,null,null,null,null,null,null,null,null,null,null,null,null,null,null,null,null,null,null,null,null,null,null,null,null,"первый этап"]
["г. Волжск, Республика Марий Эл.                                                                                                                                                                                                                                                01 - 04 февраля 2019 года.",null,null,null,null,null,null,null,null,null,null,null,null,null,null,null,null,null,null,null,null,null,null,null,null,null,null,null,null,null,null,null,null,null,null,null,null,null,null,null,null,null,null,null,null,null,null,null,null,null,null,null,null,null,null,null,null,null,null,null,null,null,null,null,null,null,null,null,null,null,null,null,null,null,null,null,null,null,null,null,null,null,null,null,null,null,null,null,null,null,null,null,null,null,null,null,null,null,null,null,null,null,null,null,null,null,null,null,null,null,null,null,null,null,null,null,null,null,null,null,null,null,null,null,null,null,null,null,null,null,null,null,null,null,null,null,null,null,null,null,null,null,null,null,null,null,null,null,null,null,null,null,null,null,null,null,null,null,null,null,null,null,"первый заезд личные очки",null,null,null,null,null,null,null,null,null,null,null,null,null,null,null,null,null,null,null,null,null,"второй заезд личные очки",null,null,null,null,null,null,null,null,null,null,null,null,null,null,null,null,null,null,null,null,null,null,"Первый заезд командные очки",null,null,null,null,null,null,null,null,null,null,null,null,null,null,null,null,null,null,null,null,null,null,"Второй заезд командные очки"]
["Класс \"ЮНИОРЫ\" (0910203811А). ",null,null,null,null,null,null,null,null,null,null,null,null,null,null,null,null,null,null,null,null,null,null,null,null,null,null,null,null,null,null,null,null,null,null,null,null,null,null,null,null,null,null,null,null,null,null,null,null,null,null,null,null,null,null,null,null,null,null,null,null,null,null,null,null,null,null,null,null,null,null,null,null,null,null,null,null,null,null,null,null,null,null,null,null,null,null,null,null,null,null,null,null,null,null,null,null,null,null,null,null,null,null,null,null,null,null,null,null,null,null,null,null,null,null,null,null,null,null,null,null,null,null,null,null,null,null,null,null,null,null,null,null,null,null,null,null,null,null,null,null,null,null,null,null,null,null,null,null,null,null,null,null,null,null,null,null,null,null,null,null,1,2,3,4,5,6,7,8,9,10,11,12,13,14,15,16,17,18,19,20,21,"сх","Sym",1,2,3,4,5,6,7,8,9,10,11,12,13,14,15,16,17,18,19,20,21,"cx","sym",1,2,3,4,5,6,7,8,9,10,11,12,13,14,15,16,17,18,19,20,21,"сх","очки",1,2,3,4,5,6,7,8,9,10,11,12,13,14,15,16,17,18,19,20,21,"сх","очки",{"$f":"COUNT(FF5:IS5)","v":84},"Н. Стро","В. стро","место"]
[]
["Место ","Ст. №","Фамилия, Имя","Разряд","Город (край, район, область)","Команда","Марка снегохода","1-й заезд",null,"2-й заезд",null,"3-й заезд",null,"Сумма очков              в личном зачете","Сумма очк. в командном зачете"]
[null,null,null,null,null,null,null,"место","лич. очки","место","лич. очки","место","лич. очки",null,null,null,null,null,"первый заезд личные очки",null,null,null,null,null,null,null,null,null,null,null,null,null,null,null,null,null,null,null,null,null,"второй заезд личные очки",null,null,null,null,null,null,null,null,null,null,null,null,null,null,null,null,null,null,null,null,null,null,"Первый заезд командные очки",null,null,null,null,null,null,null,null,null,null,null,null,null,null,null,null,null,null,null,null,null,null,null,null,null,null,null,null,null,null,null,null,null,null,null,null,null,null,null,null,null,null,"Второй заезд командные очки",null,null,null,null,null,null,null,null,null,null,null,null,null,null,null,null,null,null,null,null,null,null,null,null,null,null,null,null,null,null,null,null,null,null,null,null,null,null,null,null,null,null,null,1,2,null,null,null,null,null,null,null,null,null,null,null,null,null,null,null,null,null,null,null,null,null,"первый этап"]
[null,null,null,null,null,null,null,null,null,null,null,null,null,null,null,null,null,1,2,3,4,5,6,7,8,9,10,11,12,13,14,15,16,17,18,19,20,21,"сх",null,1,2,3,4,5,6,7,8,9,10,11,12,13,14,15,16,17,18,19,20,null,"cx",null,1,2,3,4,5,6,7,8,9,10,11,12,13,14,15,16,17,18,19,20,21,22,23,24,25,26,27,28,29,30,31,32,33,34,35,36,37,38,39,40,null,null,null,1,2,3,4,5,6,7,8,9,10,11,12,13,14,15,16,17,18,19,20,21,22,23,24,25,26,27,28,29,30,31,32,33,34,35,36,37,38,39,40,null,null,null,null,null,null,null,"мин","Н. Стро","В. стро","место",null,"чр1","чр2",null,null,"первый заезд личные очки",null,null,null,null,null,null,null,null,null,null,null,null,null,null,null,null,null,null,null,null,null,"второй заезд личные очки",null,null,null,null,null,null,null,null,null,null,null,null,null,null,null,null,null,null,null,null,null,null,"Первый заезд командные очки",null,null,null,null,null,null,null,null,null,null,null,null,null,null,null,null,null,null,null,null,null,null,"Второй заезд командные очки"]
[1,88,"Кряков Александр","кмс","г. Новый Уренгой, Ямало-Ненецкий АО","СТК \"Ямбург\"","LYNX",1,25,1,25,"-",0,{"$f":"SUM(I10+K10+M10)","v":50},{"$f":"#REF!+#REF!","v":{"$error":"#REF!"}},null,null,{"$f":"IF(#REF!=1,25,0)","v":{"$error":"#REF!"}},{"$f":"IF(#REF!=2,22,0)","v":{"$error":"#REF!"}},{"$f":"IF(#REF!=3,20,0)","v":{"$error":"#REF!"}},{"$f":"IF(#REF!=4,18,0)","v":{"$error":"#REF!"}},{"$f":"IF(#REF!=5,16,0)","v":{"$error":"#REF!"}},{"$f":"IF(#REF!=6,15,0)","v":{"$error":"#REF!"}},{"$f":"IF(#REF!=7,14,0)","v":{"$error":"#REF!"}},{"$f":"IF(#REF!=8,13,0)","v":{"$error":"#REF!"}},{"$f":"IF(#REF!=9,12,0)","v":{"$error":"#REF!"}},{"$f":"IF(#REF!=10,11,0)","v":{"$error":"#REF!"}},{"$f":"IF(#REF!=11,10,0)","v":{"$error":"#REF!"}},{"$f":"IF(#REF!=12,9,0)","v":{"$error":"#REF!"}},{"$f":"IF(#REF!=13,8,0)","v":{"$error":"#REF!"}},{"$f":"IF(#REF!=14,7,0)","v":{"$error":"#REF!"}},{"$f":"IF(#REF!=15,6,0)","v":{"$error":"#REF!"}},{"$f":"IF(#REF!=16,5,0)","v":{"$error":"#REF!"}},{"$f":"IF(#REF!=17,4,0)","v":{"$error":"#REF!"}},{"$f":"IF(#REF!=18,3,0)","v":{"$error":"#REF!"}},{"$f":"IF(#REF!=19,2,0)","v":{"$error":"#REF!"}},{"$f":"IF(#REF!=20,1,0)","v":{"$error":"#REF!"}},{"$f":"IF(#REF!>20,0,0)","v":{"$error":"#REF!"}},{"$f":"IF(#REF!=\"сх\",0,0)","v":{"$error":"#REF!"}},{"$f":"SUM(R10:AL10)","v":{"$error":"#REF!"}},{"$f":"IF(#REF!=1,25,0)","v":{"$error":"#REF!"}},{"$f":"IF(#REF!=2,22,0)","v":{"$error":"#REF!"}},{"$f":"IF(#REF!=3,20,0)","v":{"$error":"#REF!"}},{"$f":"IF(#REF!=4,18,0)","v":{"$error":"#REF!"}},{"$f":"IF(#REF!=5,16,0)","v":{"$error":"#REF!"}},{"$f":"IF(#REF!=6,15,0)","v":{"$error":"#REF!"}},{"$f":"IF(#REF!=7,14,0)","v":{"$error":"#REF!"}},{"$f":"IF(#REF!=8,13,0)","v":{"$error":"#REF!"}},{"$f":"IF(#REF!=9,12,0)","v":{"$error":"#REF!"}},{"$f":"IF(#REF!=10,11,0)","v":{"$error":"#REF!"}},{"$f":"IF(#REF!=11,10,0)","v":{"$error":"#REF!"}},{"$f":"IF(#REF!=12,9,0)","v":{"$error":"#REF!"}},{"$f":"IF(#REF!=13,8,0)","v":{"$error":"#REF!"}},{"$f":"IF(#REF!=14,7,0)","v":{"$error":"#REF!"}},{"$f":"IF(#REF!=15,6,0)","v":{"$error":"#REF!"}},{"$f":"IF(#REF!=16,5,0)","v":{"$error":"#REF!"}},{"$f":"IF(#REF!=17,4,0)","v":{"$error":"#REF!"}},{"$f":"IF(#REF!=18,3,0)","v":{"$error":"#REF!"}},{"$f":"IF(#REF!=19,2,0)","v":{"$error":"#REF!"}},{"$f":"IF(#REF!=20,1,0)","v":{"$error":"#REF!"}},{"$f":"IF(#REF!>20,0,0)","v":{"$error":"#REF!"}},{"$f":"IF(#REF!=\"сх\",0,0)","v":{"$error":"#REF!"}},{"$f":"SUM(AO10:BI10)","v":{"$error":"#REF!"}},{"$f":"IF(#REF!=1,45,0)","v":{"$error":"#REF!"}},{"$f":"IF(#REF!=2,42,0)","v":{"$error":"#REF!"}},{"$f":"IF(#REF!=3,40,0)","v":{"$error":"#REF!"}},{"$f":"IF(#REF!=4,38,0)","v":{"$error":"#REF!"}},{"$f":"IF(#REF!=5,36,0)","v":{"$error":"#REF!"}},{"$f":"IF(#REF!=6,35,0)","v":{"$error":"#REF!"}},{"$f":"IF(#REF!=7,34,0)","v":{"$error":"#REF!"}},{"$f":"IF(#REF!=8,33,0)","v":{"$error":"#REF!"}},{"$f":"IF(#REF!=9,32,0)","v":{"$error":"#REF!"}},{"$f":"IF(#REF!=10,31,0)","v":{"$error":"#REF!"}},{"$f":"IF(#REF!=11,30,0)","v":{"$error":"#REF!"}},{"$f":"IF(#REF!=12,29,0)","v":{"$error":"#REF!"}},{"$f":"IF(#REF!=13,28,0)","v":{"$error":"#REF!"}},{"$f":"IF(#REF!=14,27,0)","v":{"$error":"#REF!"}},{"$f":"IF(#REF!=15,26,0)","v":{"$error":"#REF!"}},{"$f":"IF(#REF!=16,25,0)","v":{"$error":"#REF!"}},{"$f":"IF(#REF!=17,24,0)","v":{"$error":"#REF!"}},{"$f":"IF(#REF!=18,23,0)","v":{"$error":"#REF!"}},{"$f":"IF(#REF!=19,22,0)","v":{"$error":"#REF!"}},{"$f":"IF(#REF!=20,21,0)","v":{"$error":"#REF!"}},{"$f":"IF(#REF!=21,20,0)","v":{"$error":"#REF!"}},{"$f":"IF(#REF!=22,19,0)","v":{"$error":"#REF!"}},{"$f":"IF(#REF!=23,18,0)","v":{"$error":"#REF!"}},{"$f":"IF(#REF!=24,17,0)","v":{"$error":"#REF!"}},{"$f":"IF(#REF!=25,16,0)","v":{"$error":"#REF!"}},{"$f":"IF(#REF!=26,15,0)","v":{"$error":"#REF!"}},{"$f":"IF(#REF!=27,14,0)","v":{"$error":"#REF!"}},{"$f":"IF(#REF!=28,13,0)","v":{"$error":"#REF!"}},{"$f":"IF(#REF!=29,12,0)","v":{"$error":"#REF!"}},{"$f":"IF(#REF!=30,11,0)","v":{"$error":"#REF!"}},{"$f":"IF(#REF!=31,10,0)","v":{"$error":"#REF!"}},{"$f":"IF(#REF!=32,9,0)","v":{"$error":"#REF!"}},{"$f":"IF(#REF!=33,8,0)","v":{"$error":"#REF!"}},{"$f":"IF(#REF!=34,7,0)","v":{"$error":"#REF!"}},{"$f":"IF(#REF!=35,6,0)","v":{"$error":"#REF!"}},{"$f":"IF(#REF!=36,5,0)","v":{"$error":"#REF!"}},{"$f":"IF(#REF!=37,4,0)","v":{"$error":"#REF!"}},{"$f":"IF(#REF!=38,3,0)","v":{"$error":"#REF!"}},{"$f":"IF(#REF!=39,2,0)","v":{"$error":"#REF!"}},{"$f":"IF(#REF!=40,1,0)","v":{"$error":"#REF!"}},{"$f":"IF(#REF!>20,0,0)","v":{"$error":"#REF!"}},{"$f":"IF(#REF!=\"сх\",0,0)","v":{"$error":"#REF!"}},{"$f":"SUM(BL10:DA10)","v":{"$error":"#REF!"}},{"$f":"IF(#REF!=1,45,0)","v":{"$error":"#REF!"}},{"$f":"IF(#REF!=2,42,0)","v":{"$error":"#REF!"}},{"$f":"IF(#REF!=3,40,0)","v":{"$error":"#REF!"}},{"$f":"IF(#REF!=4,38,0)","v":{"$error":"#REF!"}},{"$f":"IF(#REF!=5,36,0)","v":{"$error":"#REF!"}},{"$f":"IF(#REF!=6,35,0)","v":{"$error":"#REF!"}},{"$f":"IF(#REF!=7,34,0)","v":{"$error":"#REF!"}},{"$f":"IF(#REF!=8,33,0)","v":{"$error":"#REF!"}},{"$f":"IF(#REF!=9,32,0)","v":{"$error":"#REF!"}},{"$f":"IF(#REF!=10,31,0)","v":{"$error":"#REF!"}},{"$f":"IF(#REF!=11,30,0)","v":{"$error":"#REF!"}},{"$f":"IF(#REF!=12,29,0)","v":{"$error":"#REF!"}},{"$f":"IF(#REF!=13,28,0)","v":{"$error":"#REF!"}},{"$f":"IF(#REF!=14,27,0)","v":{"$error":"#REF!"}},{"$f":"IF(#REF!=15,26,0)","v":{"$error":"#REF!"}},{"$f":"IF(#REF!=16,25,0)","v":{"$error":"#REF!"}},{"$f":"IF(#REF!=17,24,0)","v":{"$error":"#REF!"}},{"$f":"IF(#REF!=18,23,0)","v":{"$error":"#REF!"}},{"$f":"IF(#REF!=19,22,0)","v":{"$error":"#REF!"}},{"$f":"IF(#REF!=20,21,0)","v":{"$error":"#REF!"}},{"$f":"IF(#REF!=21,20,0)","v":{"$error":"#REF!"}},{"$f":"IF(#REF!=22,19,0)","v":{"$error":"#REF!"}},{"$f":"IF(#REF!=23,18,0)","v":{"$error":"#REF!"}},{"$f":"IF(#REF!=24,17,0)","v":{"$error":"#REF!"}},{"$f":"IF(#REF!=25,16,0)","v":{"$error":"#REF!"}},{"$f":"IF(#REF!=26,15,0)","v":{"$error":"#REF!"}},{"$f":"IF(#REF!=27,14,0)","v":{"$error":"#REF!"}},{"$f":"IF(#REF!=28,13,0)","v":{"$error":"#REF!"}},{"$f":"IF(#REF!=29,12,0)","v":{"$error":"#REF!"}},{"$f":"IF(#REF!=30,11,0)","v":{"$error":"#REF!"}},{"$f":"IF(#REF!=31,10,0)","v":{"$error":"#REF!"}},{"$f":"IF(#REF!=32,9,0)","v":{"$error":"#REF!"}},{"$f":"IF(#REF!=33,8,0)","v":{"$error":"#REF!"}},{"$f":"IF(#REF!=34,7,0)","v":{"$error":"#REF!"}},{"$f":"IF(#REF!=35,6,0)","v":{"$error":"#REF!"}},{"$f":"IF(#REF!=36,5,0)","v":{"$error":"#REF!"}},{"$f":"IF(#REF!=37,4,0)","v":{"$error":"#REF!"}},{"$f":"IF(#REF!=38,3,0)","v":{"$error":"#REF!"}},{"$f":"IF(#REF!=39,2,0)","v":{"$error":"#REF!"}},{"$f":"IF(#REF!=40,1,0)","v":{"$error":"#REF!"}},{"$f":"IF(#REF!>20,0,0)","v":{"$error":"#REF!"}},{"$f":"IF(#REF!=\"сх\",0,0)","v":{"$error":"#REF!"}},{"$f":"SUM(DC10:ER10)","v":{"$error":"#REF!"}},null,{"$f":"IF(#REF!=\"сх\",\"ноль\",IF(#REF!>0,#REF!,\"Ноль\"))","v":{"$error":"#REF!"}},{"$f":"IF(#REF!=\"сх\",\"ноль\",IF(#REF!>0,#REF!,\"Ноль\"))","v":{"$error":"#REF!"}},null,{"$f":"MIN(EU10,EV10)","v":{"$error":"#REF!"}},{"$f":"IF(N10=#REF!,IF(#REF!<#REF!,#REF!,FC10),#REF!)","v":{"$error":"#REF!"}},{"$f":"IF(N10=#REF!,IF(#REF!<#REF!,0,1))","v":{"$error":"#REF!"}},{"$f":"IF(AND(EX10>=21,EX10<>0),EX10,IF(N10<#REF!,\"СТОП\",EY10+EZ10))","v":{"$error":"#REF!"}},null,15,16,null,{"$f":"IF(#REF!=1,25,0)","v":{"$error":"#REF!"}},{"$f":"IF(#REF!=2,22,0)","v":{"$error":"#REF!"}},{"$f":"IF(#REF!=3,20,0)","v":{"$error":"#REF!"}},{"$f":"IF(#REF!=4,18,0)","v":{"$error":"#REF!"}},{"$f":"IF(#REF!=5,16,0)","v":{"$error":"#REF!"}},{"$f":"IF(#REF!=6,15,0)","v":{"$error":"#REF!"}},{"$f":"IF(#REF!=7,14,0)","v":{"$error":"#REF!"}},{"$f":"IF(#REF!=8,13,0)","v":{"$error":"#REF!"}},{"$f":"IF(#REF!=9,12,0)","v":{"$error":"#REF!"}},{"$f":"IF(#REF!=10,11,0)","v":{"$error":"#REF!"}},{"$f":"IF(#REF!=11,10,0)","v":{"$error":"#REF!"}},{"$f":"IF(#REF!=12,9,0)","v":{"$error":"#REF!"}},{"$f":"IF(#REF!=13,8,0)","v":{"$error":"#REF!"}},{"$f":"IF(#REF!=14,7,0)","v":{"$error":"#REF!"}},{"$f":"IF(#REF!=15,6,0)","v":{"$error":"#REF!"}},{"$f":"IF(#REF!=16,5,0)","v":{"$error":"#REF!"}},{"$f":"IF(#REF!=17,4,0)","v":{"$error":"#REF!"}},{"$f":"IF(#REF!=18,3,0)","v":{"$error":"#REF!"}},{"$f":"IF(#REF!=19,2,0)","v":{"$error":"#REF!"}},{"$f":"IF(#REF!=20,1,0)","v":{"$error":"#REF!"}},{"$f":"IF(#REF!>20,0,0)","v":{"$error":"#REF!"}},{"$f":"IF(#REF!=\"сх\",0,0)","v":{"$error":"#REF!"}},{"$f":"SUM(FF10:GA10)","v":{"$error":"#REF!"}},{"$f":"IF(#REF!=1,25,0)","v":{"$error":"#REF!"}},{"$f":"IF(#REF!=2,22,0)","v":{"$error":"#REF!"}},{"$f":"IF(#REF!=3,20,0)","v":{"$error":"#REF!"}},{"$f":"IF(#REF!=4,18,0)","v":{"$error":"#REF!"}},{"$f":"IF(#REF!=5,16,0)","v":{"$error":"#REF!"}},{"$f":"IF(#REF!=6,15,0)","v":{"$error":"#REF!"}},{"$f":"IF(#REF!=7,14,0)","v":{"$error":"#REF!"}},{"$f":"IF(#REF!=8,13,0)","v":{"$error":"#REF!"}},{"$f":"IF(#REF!=9,12,0)","v":{"$error":"#REF!"}},{"$f":"IF(#REF!=10,11,0)","v":{"$error":"#REF!"}},{"$f":"IF(#REF!=11,10,0)","v":{"$error":"#REF!"}},{"$f":"IF(#REF!=12,9,0)","v":{"$error":"#REF!"}},{"$f":"IF(#REF!=13,8,0)","v":{"$error":"#REF!"}},{"$f":"IF(#REF!=14,7,0)","v":{"$error":"#REF!"}},{"$f":"IF(#REF!=15,6,0)","v":{"$error":"#REF!"}},{"$f":"IF(#REF!=16,5,0)","v":{"$error":"#REF!"}},{"$f":"IF(#REF!=17,4,0)","v":{"$error":"#REF!"}},{"$f":"IF(#REF!=18,3,0)","v":{"$error":"#REF!"}},{"$f":"IF(#REF!=19,2,0)","v":{"$error":"#REF!"}},{"$f":"IF(#REF!=20,1,0)","v":{"$error":"#REF!"}},{"$f":"IF(#REF!>20,0,0)","v":{"$error":"#REF!"}},{"$f":"IF(#REF!=\"сх\",0,0)","v":{"$error":"#REF!"}},{"$f":"SUM(GC10:GX10)","v":{"$error":"#REF!"}},{"$f":"IF(#REF!=1,100,0)","v":{"$error":"#REF!"}},{"$f":"IF(#REF!=2,98,0)","v":{"$error":"#REF!"}},{"$f":"IF(#REF!=3,95,0)","v":{"$error":"#REF!"}},{"$f":"IF(#REF!=4,93,0)","v":{"$error":"#REF!"}},{"$f":"IF(#REF!=5,90,0)","v":{"$error":"#REF!"}},{"$f":"IF(#REF!=6,88,0)","v":{"$error":"#REF!"}},{"$f":"IF(#REF!=7,85,0)","v":{"$error":"#REF!"}},{"$f":"IF(#REF!=8,83,0)","v":{"$error":"#REF!"}},{"$f":"IF(#REF!=9,80,0)","v":{"$error":"#REF!"}},{"$f":"IF(#REF!=10,78,0)","v":{"$error":"#REF!"}},{"$f":"IF(#REF!=11,75,0)","v":{"$error":"#REF!"}},{"$f":"IF(#REF!=12,73,0)","v":{"$error":"#REF!"}},{"$f":"IF(#REF!=13,70,0)","v":{"$error":"#REF!"}},{"$f":"IF(#REF!=14,68,0)","v":{"$error":"#REF!"}},{"$f":"IF(#REF!=15,65,0)","v":{"$error":"#REF!"}},{"$f":"IF(#REF!=16,63,0)","v":{"$error":"#REF!"}},{"$f":"IF(#REF!=17,60,0)","v":{"$error":"#REF!"}},{"$f":"IF(#REF!=18,58,0)","v":{"$error":"#REF!"}},{"$f":"IF(#REF!=19,55,0)","v":{"$error":"#REF!"}},{"$f":"IF(#REF!=20,53,0)","v":{"$error":"#REF!"}},{"$f":"IF(#REF!>20,0,0)","v":{"$error":"#REF!"}},{"$f":"IF(#REF!=\"сх\",0,0)","v":{"$error":"#REF!"}},{"$f":"SUM(GZ10:HU10)","v":{"$error":"#REF!"}},{"$f":"IF(#REF!=1,100,0)","v":{"$error":"#REF!"}},{"$f":"IF(#REF!=2,98,0)","v":{"$error":"#REF!"}},{"$f":"IF(#REF!=3,95,0)","v":{"$error":"#REF!"}},{"$f":"IF(#REF!=4,93,0)","v":{"$error":"#REF!"}},{"$f":"IF(#REF!=5,90,0)","v":{"$error":"#REF!"}},{"$f":"IF(#REF!=6,88,0)","v":{"$error":"#REF!"}},{"$f":"IF(#REF!=7,85,0)","v":{"$error":"#REF!"}},{"$f":"IF(#REF!=8,83,0)","v":{"$error":"#REF!"}},{"$f":"IF(#REF!=9,80,0)","v":{"$error":"#REF!"}},{"$f":"IF(#REF!=10,78,0)","v":{"$error":"#REF!"}},{"$f":"IF(#REF!=11,75,0)","v":{"$error":"#REF!"}},{"$f":"IF(#REF!=12,73,0)","v":{"$error":"#REF!"}},{"$f":"IF(#REF!=13,70,0)","v":{"$error":"#REF!"}},{"$f":"IF(#REF!=14,68,0)","v":{"$error":"#REF!"}},{"$f":"IF(#REF!=15,65,0)","v":{"$error":"#REF!"}},{"$f":"IF(#REF!=16,63,0)","v":{"$error":"#REF!"}},{"$f":"IF(#REF!=17,60,0)","v":{"$error":"#REF!"}},{"$f":"IF(#REF!=18,58,0)","v":{"$error":"#REF!"}},{"$f":"IF(#REF!=19,55,0)","v":{"$error":"#REF!"}},{"$f":"IF(#REF!=20,53,0)","v":{"$error":"#REF!"}},{"$f":"IF(#REF!>20,0,0)","v":{"$error":"#REF!"}},{"$f":"IF(#REF!=\"сх\",0,0)","v":{"$error":"#REF!"}},{"$f":"SUM(HW10:IR10)","v":{"$error":"#REF!"}}]
[2,3,"Рылеев Максим","кмс","г. Новый Уренгой, Ямало-Ненецкий АО","СТК \"Ямбург\"","LYNX",2,22,2,22,"-",0,44]
[3,55,"Пархоменко Данила","I","г. Новый Уренгой, Ямало-Ненецкий АО","СТК \"Факел\"","LYNX",3,20,5,16,"-",0,36,{"$f":"#REF!+#REF!","v":{"$error":"#REF!"}},null,null,{"$f":"IF(#REF!=1,25,0)","v":{"$error":"#REF!"}},{"$f":"IF(#REF!=2,22,0)","v":{"$error":"#REF!"}},{"$f":"IF(#REF!=3,20,0)","v":{"$error":"#REF!"}},{"$f":"IF(#REF!=4,18,0)","v":{"$error":"#REF!"}},{"$f":"IF(#REF!=5,16,0)","v":{"$error":"#REF!"}},{"$f":"IF(#REF!=6,15,0)","v":{"$error":"#REF!"}},{"$f":"IF(#REF!=7,14,0)","v":{"$error":"#REF!"}},{"$f":"IF(#REF!=8,13,0)","v":{"$error":"#REF!"}},{"$f":"IF(#REF!=9,12,0)","v":{"$error":"#REF!"}},{"$f":"IF(#REF!=10,11,0)","v":{"$error":"#REF!"}},{"$f":"IF(#REF!=11,10,0)","v":{"$error":"#REF!"}},{"$f":"IF(#REF!=12,9,0)","v":{"$error":"#REF!"}},{"$f":"IF(#REF!=13,8,0)","v":{"$error":"#REF!"}},{"$f":"IF(#REF!=14,7,0)","v":{"$error":"#REF!"}},{"$f":"IF(#REF!=15,6,0)","v":{"$error":"#REF!"}},{"$f":"IF(#REF!=16,5,0)","v":{"$error":"#REF!"}},{"$f":"IF(#REF!=17,4,0)","v":{"$error":"#REF!"}},{"$f":"IF(#REF!=18,3,0)","v":{"$error":"#REF!"}},{"$f":"IF(#REF!=19,2,0)","v":{"$error":"#REF!"}},{"$f":"IF(#REF!=20,1,0)","v":{"$error":"#REF!"}},{"$f":"IF(#REF!>20,0,0)","v":{"$error":"#REF!"}},{"$f":"IF(#REF!=\"сх\",0,0)","v":{"$error":"#REF!"}},{"$error":"#REF!"},{"$f":"IF(#REF!=1,25,0)","v":{"$error":"#REF!"}},{"$f":"IF(#REF!=2,22,0)","v":{"$error":"#REF!"}},{"$f":"IF(#REF!=3,20,0)","v":{"$error":"#REF!"}},{"$f":"IF(#REF!=4,18,0)","v":{"$error":"#REF!"}},{"$f":"IF(#REF!=5,16,0)","v":{"$error":"#REF!"}},{"$f":"IF(#REF!=6,15,0)","v":{"$error":"#REF!"}},{"$f":"IF(#REF!=7,14,0)","v":{"$error":"#REF!"}},{"$f":"IF(#REF!=8,13,0)","v":{"$error":"#REF!"}},{"$f":"IF(#REF!=9,12,0)","v":{"$error":"#REF!"}},{"$f":"IF(#REF!=10,11,0)","v":{"$error":"#REF!"}},{"$f":"IF(#REF!=11,10,0)","v":{"$error":"#REF!"}},{"$f":"IF(#REF!=12,9,0)","v":{"$error":"#REF!"}},{"$f":"IF(#REF!=13,8,0)","v":{"$error":"#REF!"}},{"$f":"IF(#REF!=14,7,0)","v":{"$error":"#REF!"}},{"$f":"IF(#REF!=15,6,0)","v":{"$error":"#REF!"}},{"$f":"IF(#REF!=16,5,0)","v":{"$error":"#REF!"}},{"$f":"IF(#REF!=17,4,0)","v":{"$error":"#REF!"}},{"$f":"IF(#REF!=18,3,0)","v":{"$error":"#REF!"}},{"$f":"IF(#REF!=19,2,0)","v":{"$error":"#REF!"}},{"$f":"IF(#REF!=20,1,0)","v":{"$error":"#REF!"}},{"$f":"IF(#REF!>20,0,0)","v":{"$error":"#REF!"}},{"$f":"IF(#REF!=\"сх\",0,0)","v":{"$error":"#REF!"}},{"$error":"#REF!"},{"$f":"IF(#REF!=1,45,0)","v":{"$error":"#REF!"}},{"$f":"IF(#REF!=2,42,0)","v":{"$error":"#REF!"}},{"$f":"IF(#REF!=3,40,0)","v":{"$error":"#REF!"}},{"$f":"IF(#REF!=4,38,0)","v":{"$error":"#REF!"}},{"$f":"IF(#REF!=5,36,0)","v":{"$error":"#REF!"}},{"$f":"IF(#REF!=6,35,0)","v":{"$error":"#REF!"}},{"$f":"IF(#REF!=7,34,0)","v":{"$error":"#REF!"}},{"$f":"IF(#REF!=8,33,0)","v":{"$error":"#REF!"}},{"$f":"IF(#REF!=9,32,0)","v":{"$error":"#REF!"}},{"$f":"IF(#REF!=10,31,0)","v":{"$error":"#REF!"}},{"$f":"IF(#REF!=11,30,0)","v":{"$error":"#REF!"}},{"$f":"IF(#REF!=12,29,0)","v":{"$error":"#REF!"}},{"$f":"IF(#REF!=13,28,0)","v":{"$error":"#REF!"}},{"$f":"IF(#REF!=14,27,0)","v":{"$error":"#REF!"}},{"$f":"IF(#REF!=15,26,0)","v":{"$error":"#REF!"}},{"$f":"IF(#REF!=16,25,0)","v":{"$error":"#REF!"}},{"$f":"IF(#REF!=17,24,0)","v":{"$error":"#REF!"}},{"$f":"IF(#REF!=18,23,0)","v":{"$error":"#REF!"}},{"$f":"IF(#REF!=19,22,0)","v":{"$error":"#REF!"}},{"$f":"IF(#REF!=20,21,0)","v":{"$error":"#REF!"}},{"$f":"IF(#REF!=21,20,0)","v":{"$error":"#REF!"}},{"$f":"IF(#REF!=22,19,0)","v":{"$error":"#REF!"}},{"$f":"IF(#REF!=23,18,0)","v":{"$error":"#REF!"}},{"$f":"IF(#REF!=24,17,0)","v":{"$error":"#REF!"}},{"$f":"IF(#REF!=25,16,0)","v":{"$error":"#REF!"}},{"$f":"IF(#REF!=26,15,0)","v":{"$error":"#REF!"}},{"$f":"IF(#REF!=27,14,0)","v":{"$error":"#REF!"}},{"$f":"IF(#REF!=28,13,0)","v":{"$error":"#REF!"}},{"$f":"IF(#REF!=29,12,0)","v":{"$error":"#REF!"}},{"$f":"IF(#REF!=30,11,0)","v":{"$error":"#REF!"}},{"$f":"IF(#REF!=31,10,0)","v":{"$error":"#REF!"}},{"$f":"IF(#REF!=32,9,0)","v":{"$error":"#REF!"}},{"$f":"IF(#REF!=33,8,0)","v":{"$error":"#REF!"}},{"$f":"IF(#REF!=34,7,0)","v":{"$error":"#REF!"}},{"$f":"IF(#REF!=35,6,0)","v":{"$error":"#REF!"}},{"$f":"IF(#REF!=36,5,0)","v":{"$error":"#REF!"}},{"$f":"IF(#REF!=37,4,0)","v":{"$error":"#REF!"}},{"$f":"IF(#REF!=38,3,0)","v":{"$error":"#REF!"}},{"$f":"IF(#REF!=39,2,0)","v":{"$error":"#REF!"}},{"$f":"IF(#REF!=40,1,0)","v":{"$error":"#REF!"}},{"$f":"IF(#REF!>20,0,0)","v":{"$error":"#REF!"}},{"$f":"IF(#REF!=\"сх\",0,0)","v":{"$error":"#REF!"}},{"$error":"#REF!"},{"$f":"IF(#REF!=1,45,0)","v":{"$error":"#REF!"}},{"$f":"IF(#REF!=2,42,0)","v":{"$error":"#REF!"}},{"$f":"IF(#REF!=3,40,0)","v":{"$error":"#REF!"}},{"$f":"IF(#REF!=4,38,0)","v":{"$error":"#REF!"}},{"$f":"IF(#REF!=5,36,0)","v":{"$error":"#REF!"}},{"$f":"IF(#REF!=6,35,0)","v":{"$error":"#REF!"}},{"$f":"IF(#REF!=7,34,0)","v":{"$error":"#REF!"}},{"$f":"IF(#REF!=8,33,0)","v":{"$error":"#REF!"}},{"$f":"IF(#REF!=9,32,0)","v":{"$error":"#REF!"}},{"$f":"IF(#REF!=10,31,0)","v":{"$error":"#REF!"}},{"$f":"IF(#REF!=11,30,0)","v":{"$error":"#REF!"}},{"$f":"IF(#REF!=12,29,0)","v":{"$error":"#REF!"}},{"$f":"IF(#REF!=13,28,0)","v":{"$error":"#REF!"}},{"$f":"IF(#REF!=14,27,0)","v":{"$error":"#REF!"}},{"$f":"IF(#REF!=15,26,0)","v":{"$error":"#REF!"}},{"$f":"IF(#REF!=16,25,0)","v":{"$error":"#REF!"}},{"$f":"IF(#REF!=17,24,0)","v":{"$error":"#REF!"}},{"$f":"IF(#REF!=18,23,0)","v":{"$error":"#REF!"}},{"$f":"IF(#REF!=19,22,0)","v":{"$error":"#REF!"}},{"$f":"IF(#REF!=20,21,0)","v":{"$error":"#REF!"}},{"$f":"IF(#REF!=21,20,0)","v":{"$error":"#REF!"}},{"$f":"IF(#REF!=22,19,0)","v":{"$error":"#REF!"}},{"$f":"IF(#REF!=23,18,0)","v":{"$error":"#REF!"}},{"$f":"IF(#REF!=24,17,0)","v":{"$error":"#REF!"}},{"$f":"IF(#REF!=25,16,0)","v":{"$error":"#REF!"}},{"$f":"IF(#REF!=26,15,0)","v":{"$error":"#REF!"}},{"$f":"IF(#REF!=27,14,0)","v":{"$error":"#REF!"}},{"$f":"IF(#REF!=28,13,0)","v":{"$error":"#REF!"}},{"$f":"IF(#REF!=29,12,0)","v":{"$error":"#REF!"}},{"$f":"IF(#REF!=30,11,0)","v":{"$error":"#REF!"}},{"$f":"IF(#REF!=31,10,0)","v":{"$error":"#REF!"}},{"$f":"IF(#REF!=32,9,0)","v":{"$error":"#REF!"}},{"$f":"IF(#REF!=33,8,0)","v":{"$error":"#REF!"}},{"$f":"IF(#REF!=34,7,0)","v":{"$error":"#REF!"}},{"$f":"IF(#REF!=35,6,0)","v":{"$error":"#REF!"}},{"$f":"IF(#REF!=36,5,0)","v":{"$error":"#REF!"}},{"$f":"IF(#REF!=37,4,0)","v":{"$error":"#REF!"}},{"$f":"IF(#REF!=38,3,0)","v":{"$error":"#REF!"}},{"$f":"IF(#REF!=39,2,0)","v":{"$error":"#REF!"}},{"$f":"IF(#REF!=40,1,0)","v":{"$error":"#REF!"}},{"$f":"IF(#REF!>20,0,0)","v":{"$error":"#REF!"}},{"$f":"IF(#REF!=\"сх\",0,0)","v":{"$error":"#REF!"}},{"$error":"#REF!"},null,{"$f":"IF(#REF!=\"сх\",\"ноль\",IF(#REF!>0,#REF!,\"Ноль\"))","v":{"$error":"#REF!"}},{"$f":"IF(#REF!=\"сх\",\"ноль\",IF(#REF!>0,#REF!,\"Ноль\"))","v":{"$error":"#REF!"}},null,{"$error":"#REF!"},{"$f":"IF(N12=#REF!,IF(#REF!<#REF!,#REF!,FC12),#REF!)","v":{"$error":"#REF!"}},{"$f":"IF(N12=#REF!,IF(#REF!<#REF!,0,1))","v":{"$error":"#REF!"}},{"$f":"IF(AND(EX12>=21,EX12<>0),EX12,IF(N12<#REF!,\"СТОП\",EY12+EZ12))","v":{"$error":"#REF!"}},null,15,16,null,{"$f":"IF(#REF!=1,25,0)","v":{"$error":"#REF!"}},{"$f":"IF(#REF!=2,22,0)","v":{"$error":"#REF!"}},{"$f":"IF(#REF!=3,20,0)","v":{"$error":"#REF!"}},{"$f":"IF(#REF!=4,18,0)","v":{"$error":"#REF!"}},{"$f":"IF(#REF!=5,16,0)","v":{"$error":"#REF!"}},{"$f":"IF(#REF!=6,15,0)","v":{"$error":"#REF!"}},{"$f":"IF(#REF!=7,14,0)","v":{"$error":"#REF!"}},{"$f":"IF(#REF!=8,13,0)","v":{"$error":"#REF!"}},{"$f":"IF(#REF!=9,12,0)","v":{"$error":"#REF!"}},{"$f":"IF(#REF!=10,11,0)","v":{"$error":"#REF!"}},{"$f":"IF(#REF!=11,10,0)","v":{"$error":"#REF!"}},{"$f":"IF(#REF!=12,9,0)","v":{"$error":"#REF!"}},{"$f":"IF(#REF!=13,8,0)","v":{"$error":"#REF!"}},{"$f":"IF(#REF!=14,7,0)","v":{"$error":"#REF!"}},{"$f":"IF(#REF!=15,6,0)","v":{"$error":"#REF!"}},{"$f":"IF(#REF!=16,5,0)","v":{"$error":"#REF!"}},{"$f":"IF(#REF!=17,4,0)","v":{"$error":"#REF!"}},{"$f":"IF(#REF!=18,3,0)","v":{"$error":"#REF!"}},{"$f":"IF(#REF!=19,2,0)","v":{"$error":"#REF!"}},{"$f":"IF(#REF!=20,1,0)","v":{"$error":"#REF!"}},{"$f":"IF(#REF!>20,0,0)","v":{"$error":"#REF!"}},{"$f":"IF(#REF!=\"сх\",0,0)","v":{"$error":"#REF!"}},{"$error":"#REF!"},{"$f":"IF(#REF!=1,25,0)","v":{"$error":"#REF!"}},{"$f":"IF(#REF!=2,22,0)","v":{"$error":"#REF!"}},{"$f":"IF(#REF!=3,20,0)","v":{"$error":"#REF!"}},{"$f":"IF(#REF!=4,18,0)","v":{"$error":"#REF!"}},{"$f":"IF(#REF!=5,16,0)","v":{"$error":"#REF!"}},{"$f":"IF(#REF!=6,15,0)","v":{"$error":"#REF!"}},{"$f":"IF(#REF!=7,14,0)","v":{"$error":"#REF!"}},{"$f":"IF(#REF!=8,13,0)","v":{"$error":"#REF!"}},{"$f":"IF(#REF!=9,12,0)","v":{"$error":"#REF!"}},{"$f":"IF(#REF!=10,11,0)","v":{"$error":"#REF!"}},{"$f":"IF(#REF!=11,10,0)","v":{"$error":"#REF!"}},{"$f":"IF(#REF!=12,9,0)","v":{"$error":"#REF!"}},{"$f":"IF(#REF!=13,8,0)","v":{"$error":"#REF!"}},{"$f":"IF(#REF!=14,7,0)","v":{"$error":"#REF!"}},{"$f":"IF(#REF!=15,6,0)","v":{"$error":"#REF!"}},{"$f":"IF(#REF!=16,5,0)","v":{"$error":"#REF!"}},{"$f":"IF(#REF!=17,4,0)","v":{"$error":"#REF!"}},{"$f":"IF(#REF!=18,3,0)","v":{"$error":"#REF!"}},{"$f":"IF(#REF!=19,2,0)","v":{"$error":"#REF!"}},{"$f":"IF(#REF!=20,1,0)","v":{"$error":"#REF!"}},{"$f":"IF(#REF!>20,0,0)","v":{"$error":"#REF!"}},{"$f":"IF(#REF!=\"сх\",0,0)","v":{"$error":"#REF!"}},{"$error":"#REF!"},{"$f":"IF(#REF!=1,100,0)","v":{"$error":"#REF!"}},{"$f":"IF(#REF!=2,98,0)","v":{"$error":"#REF!"}},{"$f":"IF(#REF!=3,95,0)","v":{"$error":"#REF!"}},{"$f":"IF(#REF!=4,93,0)","v":{"$error":"#REF!"}},{"$f":"IF(#REF!=5,90,0)","v":{"$error":"#REF!"}},{"$f":"IF(#REF!=6,88,0)","v":{"$error":"#REF!"}},{"$f":"IF(#REF!=7,85,0)","v":{"$error":"#REF!"}},{"$f":"IF(#REF!=8,83,0)","v":{"$error":"#REF!"}},{"$f":"IF(#REF!=9,80,0)","v":{"$error":"#REF!"}},{"$f":"IF(#REF!=10,78,0)","v":{"$error":"#REF!"}},{"$f":"IF(#REF!=11,75,0)","v":{"$error":"#REF!"}},{"$f":"IF(#REF!=12,73,0)","v":{"$error":"#REF!"}},{"$f":"IF(#REF!=13,70,0)","v":{"$error":"#REF!"}},{"$f":"IF(#REF!=14,68,0)","v":{"$error":"#REF!"}},{"$f":"IF(#REF!=15,65,0)","v":{"$error":"#REF!"}},{"$f":"IF(#REF!=16,63,0)","v":{"$error":"#REF!"}},{"$f":"IF(#REF!=17,60,0)","v":{"$error":"#REF!"}},{"$f":"IF(#REF!=18,58,0)","v":{"$error":"#REF!"}},{"$f":"IF(#REF!=19,55,0)","v":{"$error":"#REF!"}},{"$f":"IF(#REF!=20,53,0)","v":{"$error":"#REF!"}},{"$f":"IF(#REF!>20,0,0)","v":{"$error":"#REF!"}},{"$f":"IF(#REF!=\"сх\",0,0)","v":{"$error":"#REF!"}},{"$error":"#REF!"},{"$f":"IF(#REF!=1,100,0)","v":{"$error":"#REF!"}},{"$f":"IF(#REF!=2,98,0)","v":{"$error":"#REF!"}},{"$f":"IF(#REF!=3,95,0)","v":{"$error":"#REF!"}},{"$f":"IF(#REF!=4,93,0)","v":{"$error":"#REF!"}},{"$f":"IF(#REF!=5,90,0)","v":{"$error":"#REF!"}},{"$f":"IF(#REF!=6,88,0)","v":{"$error":"#REF!"}},{"$f":"IF(#REF!=7,85,0)","v":{"$error":"#REF!"}},{"$f":"IF(#REF!=8,83,0)","v":{"$error":"#REF!"}},{"$f":"IF(#REF!=9,80,0)","v":{"$error":"#REF!"}},{"$f":"IF(#REF!=10,78,0)","v":{"$error":"#REF!"}},{"$f":"IF(#REF!=11,75,0)","v":{"$error":"#REF!"}},{"$f":"IF(#REF!=12,73,0)","v":{"$error":"#REF!"}},{"$f":"IF(#REF!=13,70,0)","v":{"$error":"#REF!"}},{"$f":"IF(#REF!=14,68,0)","v":{"$error":"#REF!"}},{"$f":"IF(#REF!=15,65,0)","v":{"$error":"#REF!"}},{"$f":"IF(#REF!=16,63,0)","v":{"$error":"#REF!"}},{"$f":"IF(#REF!=17,60,0)","v":{"$error":"#REF!"}},{"$f":"IF(#REF!=18,58,0)","v":{"$error":"#REF!"}},{"$f":"IF(#REF!=19,55,0)","v":{"$error":"#REF!"}},{"$f":"IF(#REF!=20,53,0)","v":{"$error":"#REF!"}},{"$f":"IF(#REF!>20,0,0)","v":{"$error":"#REF!"}},{"$f":"IF(#REF!=\"сх\",0,0)","v":{"$error":"#REF!"}},{"$error":"#REF!"}]
[4,6,"Хункаев Булат","II","г. Новый Уренгой, Ямало-Ненецкий АО","СТК \"Ямбург\"","LYNX",4,18,4,18,"-",0,36,{"$f":"#REF!+#REF!","v":{"$error":"#REF!"}},null,null,{"$f":"IF(#REF!=1,25,0)","v":{"$error":"#REF!"}},{"$f":"IF(#REF!=2,22,0)","v":{"$error":"#REF!"}},{"$f":"IF(#REF!=3,20,0)","v":{"$error":"#REF!"}},{"$f":"IF(#REF!=4,18,0)","v":{"$error":"#REF!"}},{"$f":"IF(#REF!=5,16,0)","v":{"$error":"#REF!"}},{"$f":"IF(#REF!=6,15,0)","v":{"$error":"#REF!"}},{"$f":"IF(#REF!=7,14,0)","v":{"$error":"#REF!"}},{"$f":"IF(#REF!=8,13,0)","v":{"$error":"#REF!"}},{"$f":"IF(#REF!=9,12,0)","v":{"$error":"#REF!"}},{"$f":"IF(#REF!=10,11,0)","v":{"$error":"#REF!"}},{"$f":"IF(#REF!=11,10,0)","v":{"$error":"#REF!"}},{"$f":"IF(#REF!=12,9,0)","v":{"$error":"#REF!"}},{"$f":"IF(#REF!=13,8,0)","v":{"$error":"#REF!"}},{"$f":"IF(#REF!=14,7,0)","v":{"$error":"#REF!"}},{"$f":"IF(#REF!=15,6,0)","v":{"$error":"#REF!"}},{"$f":"IF(#REF!=16,5,0)","v":{"$error":"#REF!"}},{"$f":"IF(#REF!=17,4,0)","v":{"$error":"#REF!"}},{"$f":"IF(#REF!=18,3,0)","v":{"$error":"#REF!"}},{"$f":"IF(#REF!=19,2,0)","v":{"$error":"#REF!"}},{"$f":"IF(#REF!=20,1,0)","v":{"$error":"#REF!"}},{"$f":"IF(#REF!>20,0,0)","v":{"$error":"#REF!"}},{"$f":"IF(#REF!=\"сх\",0,0)","v":{"$error":"#REF!"}},{"$error":"#REF!"},{"$f":"IF(#REF!=1,25,0)","v":{"$error":"#REF!"}},{"$f":"IF(#REF!=2,22,0)","v":{"$error":"#REF!"}},{"$f":"IF(#REF!=3,20,0)","v":{"$error":"#REF!"}},{"$f":"IF(#REF!=4,18,0)","v":{"$error":"#REF!"}},{"$f":"IF(#REF!=5,16,0)","v":{"$error":"#REF!"}},{"$f":"IF(#REF!=6,15,0)","v":{"$error":"#REF!"}},{"$f":"IF(#REF!=7,14,0)","v":{"$error":"#REF!"}},{"$f":"IF(#REF!=8,13,0)","v":{"$error":"#REF!"}},{"$f":"IF(#REF!=9,12,0)","v":{"$error":"#REF!"}},{"$f":"IF(#REF!=10,11,0)","v":{"$error":"#REF!"}},{"$f":"IF(#REF!=11,10,0)","v":{"$error":"#REF!"}},{"$f":"IF(#REF!=12,9,0)","v":{"$error":"#REF!"}},{"$f":"IF(#REF!=13,8,0)","v":{"$error":"#REF!"}},{"$f":"IF(#REF!=14,7,0)","v":{"$error":"#REF!"}},{"$f":"IF(#REF!=15,6,0)","v":{"$error":"#REF!"}},{"$f":"IF(#REF!=16,5,0)","v":{"$error":"#REF!"}},{"$f":"IF(#REF!=17,4,0)","v":{"$error":"#REF!"}},{"$f":"IF(#REF!=18,3,0)","v":{"$error":"#REF!"}},{"$f":"IF(#REF!=19,2,0)","v":{"$error":"#REF!"}},{"$f":"IF(#REF!=20,1,0)","v":{"$error":"#REF!"}},{"$f":"IF(#REF!>20,0,0)","v":{"$error":"#REF!"}},{"$f":"IF(#REF!=\"сх\",0,0)","v":{"$error":"#REF!"}},{"$error":"#REF!"},{"$f":"IF(#REF!=1,45,0)","v":{"$error":"#REF!"}},{"$f":"IF(#REF!=2,42,0)","v":{"$error":"#REF!"}},{"$f":"IF(#REF!=3,40,0)","v":{"$error":"#REF!"}},{"$f":"IF(#REF!=4,38,0)","v":{"$error":"#REF!"}},{"$f":"IF(#REF!=5,36,0)","v":{"$error":"#REF!"}},{"$f":"IF(#REF!=6,35,0)","v":{"$error":"#REF!"}},{"$f":"IF(#REF!=7,34,0)","v":{"$error":"#REF!"}},{"$f":"IF(#REF!=8,33,0)","v":{"$error":"#REF!"}},{"$f":"IF(#REF!=9,32,0)","v":{"$error":"#REF!"}},{"$f":"IF(#REF!=10,31,0)","v":{"$error":"#REF!"}},{"$f":"IF(#REF!=11,30,0)","v":{"$error":"#REF!"}},{"$f":"IF(#REF!=12,29,0)","v":{"$error":"#REF!"}},{"$f":"IF(#REF!=13,28,0)","v":{"$error":"#REF!"}},{"$f":"IF(#REF!=14,27,0)","v":{"$error":"#REF!"}},{"$f":"IF(#REF!=15,26,0)","v":{"$error":"#REF!"}},{"$f":"IF(#REF!=16,25,0)","v":{"$error":"#REF!"}},{"$f":"IF(#REF!=17,24,0)","v":{"$error":"#REF!"}},{"$f":"IF(#REF!=18,23,0)","v":{"$error":"#REF!"}},{"$f":"IF(#REF!=19,22,0)","v":{"$error":"#REF!"}},{"$f":"IF(#REF!=20,21,0)","v":{"$error":"#REF!"}},{"$f":"IF(#REF!=21,20,0)","v":{"$error":"#REF!"}},{"$f":"IF(#REF!=22,19,0)","v":{"$error":"#REF!"}},{"$f":"IF(#REF!=23,18,0)","v":{"$error":"#REF!"}},{"$f":"IF(#REF!=24,17,0)","v":{"$error":"#REF!"}},{"$f":"IF(#REF!=25,16,0)","v":{"$error":"#REF!"}},{"$f":"IF(#REF!=26,15,0)","v":{"$error":"#REF!"}},{"$f":"IF(#REF!=27,14,0)","v":{"$error":"#REF!"}},{"$f":"IF(#REF!=28,13,0)","v":{"$error":"#REF!"}},{"$f":"IF(#REF!=29,12,0)","v":{"$error":"#REF!"}},{"$f":"IF(#REF!=30,11,0)","v":{"$error":"#REF!"}},{"$f":"IF(#REF!=31,10,0)","v":{"$error":"#REF!"}},{"$f":"IF(#REF!=32,9,0)","v":{"$error":"#REF!"}},{"$f":"IF(#REF!=33,8,0)","v":{"$error":"#REF!"}},{"$f":"IF(#REF!=34,7,0)","v":{"$error":"#REF!"}},{"$f":"IF(#REF!=35,6,0)","v":{"$error":"#REF!"}},{"$f":"IF(#REF!=36,5,0)","v":{"$error":"#REF!"}},{"$f":"IF(#REF!=37,4,0)","v":{"$error":"#REF!"}},{"$f":"IF(#REF!=38,3,0)","v":{"$error":"#REF!"}},{"$f":"IF(#REF!=39,2,0)","v":{"$error":"#REF!"}},{"$f":"IF(#REF!=40,1,0)","v":{"$error":"#REF!"}},{"$f":"IF(#REF!>20,0,0)","v":{"$error":"#REF!"}},{"$f":"IF(#REF!=\"сх\",0,0)","v":{"$error":"#REF!"}},{"$error":"#REF!"},{"$f":"IF(#REF!=1,45,0)","v":{"$error":"#REF!"}},{"$f":"IF(#REF!=2,42,0)","v":{"$error":"#REF!"}},{"$f":"IF(#REF!=3,40,0)","v":{"$error":"#REF!"}},{"$f":"IF(#REF!=4,38,0)","v":{"$error":"#REF!"}},{"$f":"IF(#REF!=5,36,0)","v":{"$error":"#REF!"}},{"$f":"IF(#REF!=6,35,0)","v":{"$error":"#REF!"}},{"$f":"IF(#REF!=7,34,0)","v":{"$error":"#REF!"}},{"$f":"IF(#REF!=8,33,0)","v":{"$error":"#REF!"}},{"$f":"IF(#REF!=9,32,0)","v":{"$error":"#REF!"}},{"$f":"IF(#REF!=10,31,0)","v":{"$error":"#REF!"}},{"$f":"IF(#REF!=11,30,0)","v":{"$error":"#REF!"}},{"$f":"IF(#REF!=12,29,0)","v":{"$error":"#REF!"}},{"$f":"IF(#REF!=13,28,0)","v":{"$error":"#REF!"}},{"$f":"IF(#REF!=14,27,0)","v":{"$error":"#REF!"}},{"$f":"IF(#REF!=15,26,0)","v":{"$error":"#REF!"}},{"$f":"IF(#REF!=16,25,0)","v":{"$error":"#REF!"}},{"$f":"IF(#REF!=17,24,0)","v":{"$error":"#REF!"}},{"$f":"IF(#REF!=18,23,0)","v":{"$error":"#REF!"}},{"$f":"IF(#REF!=19,22,0)","v":{"$error":"#REF!"}},{"$f":"IF(#REF!=20,21,0)","v":{"$error":"#REF!"}},{"$f":"IF(#REF!=21,20,0)","v":{"$error":"#REF!"}},{"$f":"IF(#REF!=22,19,0)","v":{"$error":"#REF!"}},{"$f":"IF(#REF!=23,18,0)","v":{"$error":"#REF!"}},{"$f":"IF(#REF!=24,17,0)","v":{"$error":"#REF!"}},{"$f":"IF(#REF!=25,16,0)","v":{"$error":"#REF!"}},{"$f":"IF(#REF!=26,15,0)","v":{"$error":"#REF!"}},{"$f":"IF(#REF!=27,14,0)","v":{"$error":"#REF!"}},{"$f":"IF(#REF!=28,13,0)","v":{"$error":"#REF!"}},{"$f":"IF(#REF!=29,12,0)","v":{"$error":"#REF!"}},{"$f":"IF(#REF!=30,11,0)","v":{"$error":"#REF!"}},{"$f":"IF(#REF!=31,10,0)","v":{"$error":"#REF!"}},{"$f":"IF(#REF!=32,9,0)","v":{"$error":"#REF!"}},{"$f":"IF(#REF!=33,8,0)","v":{"$error":"#REF!"}},{"$f":"IF(#REF!=34,7,0)","v":{"$error":"#REF!"}},{"$f":"IF(#REF!=35,6,0)","v":{"$error":"#REF!"}},{"$f":"IF(#REF!=36,5,0)","v":{"$error":"#REF!"}},{"$f":"IF(#REF!=37,4,0)","v":{"$error":"#REF!"}},{"$f":"IF(#REF!=38,3,0)","v":{"$error":"#REF!"}},{"$f":"IF(#REF!=39,2,0)","v":{"$error":"#REF!"}},{"$f":"IF(#REF!=40,1,0)","v":{"$error":"#REF!"}},{"$f":"IF(#REF!>20,0,0)","v":{"$error":"#REF!"}},{"$f":"IF(#REF!=\"сх\",0,0)","v":{"$error":"#REF!"}},{"$error":"#REF!"},null,{"$f":"IF(#REF!=\"сх\",\"ноль\",IF(#REF!>0,#REF!,\"Ноль\"))","v":{"$error":"#REF!"}},{"$f":"IF(#REF!=\"сх\",\"ноль\",IF(#REF!>0,#REF!,\"Ноль\"))","v":{"$error":"#REF!"}},null,{"$error":"#REF!"},{"$f":"IF(N13=#REF!,IF(#REF!<#REF!,#REF!,FC13),#REF!)","v":{"$error":"#REF!"}},{"$f":"IF(N13=#REF!,IF(#REF!<#REF!,0,1))","v":{"$error":"#REF!"}},{"$f":"IF(AND(EX13>=21,EX13<>0),EX13,IF(N13<#REF!,\"СТОП\",EY13+EZ13))","v":{"$error":"#REF!"}},null,15,16,null,{"$f":"IF(#REF!=1,25,0)","v":{"$error":"#REF!"}},{"$f":"IF(#REF!=2,22,0)","v":{"$error":"#REF!"}},{"$f":"IF(#REF!=3,20,0)","v":{"$error":"#REF!"}},{"$f":"IF(#REF!=4,18,0)","v":{"$error":"#REF!"}},{"$f":"IF(#REF!=5,16,0)","v":{"$error":"#REF!"}},{"$f":"IF(#REF!=6,15,0)","v":{"$error":"#REF!"}},{"$f":"IF(#REF!=7,14,0)","v":{"$error":"#REF!"}},{"$f":"IF(#REF!=8,13,0)","v":{"$error":"#REF!"}},{"$f":"IF(#REF!=9,12,0)","v":{"$error":"#REF!"}},{"$f":"IF(#REF!=10,11,0)","v":{"$error":"#REF!"}},{"$f":"IF(#REF!=11,10,0)","v":{"$error":"#REF!"}},{"$f":"IF(#REF!=12,9,0)","v":{"$error":"#REF!"}},{"$f":"IF(#REF!=13,8,0)","v":{"$error":"#REF!"}},{"$f":"IF(#REF!=14,7,0)","v":{"$error":"#REF!"}},{"$f":"IF(#REF!=15,6,0)","v":{"$error":"#REF!"}},{"$f":"IF(#REF!=16,5,0)","v":{"$error":"#REF!"}},{"$f":"IF(#REF!=17,4,0)","v":{"$error":"#REF!"}},{"$f":"IF(#REF!=18,3,0)","v":{"$error":"#REF!"}},{"$f":"IF(#REF!=19,2,0)","v":{"$error":"#REF!"}},{"$f":"IF(#REF!=20,1,0)","v":{"$error":"#REF!"}},{"$f":"IF(#REF!>20,0,0)","v":{"$error":"#REF!"}},{"$f":"IF(#REF!=\"сх\",0,0)","v":{"$error":"#REF!"}},{"$error":"#REF!"},{"$f":"IF(#REF!=1,25,0)","v":{"$error":"#REF!"}},{"$f":"IF(#REF!=2,22,0)","v":{"$error":"#REF!"}},{"$f":"IF(#REF!=3,20,0)","v":{"$error":"#REF!"}},{"$f":"IF(#REF!=4,18,0)","v":{"$error":"#REF!"}},{"$f":"IF(#REF!=5,16,0)","v":{"$error":"#REF!"}},{"$f":"IF(#REF!=6,15,0)","v":{"$error":"#REF!"}},{"$f":"IF(#REF!=7,14,0)","v":{"$error":"#REF!"}},{"$f":"IF(#REF!=8,13,0)","v":{"$error":"#REF!"}},{"$f":"IF(#REF!=9,12,0)","v":{"$error":"#REF!"}},{"$f":"IF(#REF!=10,11,0)","v":{"$error":"#REF!"}},{"$f":"IF(#REF!=11,10,0)","v":{"$error":"#REF!"}},{"$f":"IF(#REF!=12,9,0)","v":{"$error":"#REF!"}},{"$f":"IF(#REF!=13,8,0)","v":{"$error":"#REF!"}},{"$f":"IF(#REF!=14,7,0)","v":{"$error":"#REF!"}},{"$f":"IF(#REF!=15,6,0)","v":{"$error":"#REF!"}},{"$f":"IF(#REF!=16,5,0)","v":{"$error":"#REF!"}},{"$f":"IF(#REF!=17,4,0)","v":{"$error":"#REF!"}},{"$f":"IF(#REF!=18,3,0)","v":{"$error":"#REF!"}},{"$f":"IF(#REF!=19,2,0)","v":{"$error":"#REF!"}},{"$f":"IF(#REF!=20,1,0)","v":{"$error":"#REF!"}},{"$f":"IF(#REF!>20,0,0)","v":{"$error":"#REF!"}},{"$f":"IF(#REF!=\"сх\",0,0)","v":{"$error":"#REF!"}},{"$error":"#REF!"},{"$f":"IF(#REF!=1,100,0)","v":{"$error":"#REF!"}},{"$f":"IF(#REF!=2,98,0)","v":{"$error":"#REF!"}},{"$f":"IF(#REF!=3,95,0)","v":{"$error":"#REF!"}},{"$f":"IF(#REF!=4,93,0)","v":{"$error":"#REF!"}},{"$f":"IF(#REF!=5,90,0)","v":{"$error":"#REF!"}},{"$f":"IF(#REF!=6,88,0)","v":{"$error":"#REF!"}},{"$f":"IF(#REF!=7,85,0)","v":{"$error":"#REF!"}},{"$f":"IF(#REF!=8,83,0)","v":{"$error":"#REF!"}},{"$f":"IF(#REF!=9,80,0)","v":{"$error":"#REF!"}},{"$f":"IF(#REF!=10,78,0)","v":{"$error":"#REF!"}},{"$f":"IF(#REF!=11,75,0)","v":{"$error":"#REF!"}},{"$f":"IF(#REF!=12,73,0)","v":{"$error":"#REF!"}},{"$f":"IF(#REF!=13,70,0)","v":{"$error":"#REF!"}},{"$f":"IF(#REF!=14,68,0)","v":{"$error":"#REF!"}},{"$f":"IF(#REF!=15,65,0)","v":{"$error":"#REF!"}},{"$f":"IF(#REF!=16,63,0)","v":{"$error":"#REF!"}},{"$f":"IF(#REF!=17,60,0)","v":{"$error":"#REF!"}},{"$f":"IF(#REF!=18,58,0)","v":{"$error":"#REF!"}},{"$f":"IF(#REF!=19,55,0)","v":{"$error":"#REF!"}},{"$f":"IF(#REF!=20,53,0)","v":{"$error":"#REF!"}},{"$f":"IF(#REF!>20,0,0)","v":{"$error":"#REF!"}},{"$f":"IF(#REF!=\"сх\",0,0)","v":{"$error":"#REF!"}},{"$error":"#REF!"},{"$f":"IF(#REF!=1,100,0)","v":{"$error":"#REF!"}},{"$f":"IF(#REF!=2,98,0)","v":{"$error":"#REF!"}},{"$f":"IF(#REF!=3,95,0)","v":{"$error":"#REF!"}},{"$f":"IF(#REF!=4,93,0)","v":{"$error":"#REF!"}},{"$f":"IF(#REF!=5,90,0)","v":{"$error":"#REF!"}},{"$f":"IF(#REF!=6,88,0)","v":{"$error":"#REF!"}},{"$f":"IF(#REF!=7,85,0)","v":{"$error":"#REF!"}},{"$f":"IF(#REF!=8,83,0)","v":{"$error":"#REF!"}},{"$f":"IF(#REF!=9,80,0)","v":{"$error":"#REF!"}},{"$f":"IF(#REF!=10,78,0)","v":{"$error":"#REF!"}},{"$f":"IF(#REF!=11,75,0)","v":{"$error":"#REF!"}},{"$f":"IF(#REF!=12,73,0)","v":{"$error":"#REF!"}},{"$f":"IF(#REF!=13,70,0)","v":{"$error":"#REF!"}},{"$f":"IF(#REF!=14,68,0)","v":{"$error":"#REF!"}},{"$f":"IF(#REF!=15,65,0)","v":{"$error":"#REF!"}},{"$f":"IF(#REF!=16,63,0)","v":{"$error":"#REF!"}},{"$f":"IF(#REF!=17,60,0)","v":{"$error":"#REF!"}},{"$f":"IF(#REF!=18,58,0)","v":{"$error":"#REF!"}},{"$f":"IF(#REF!=19,55,0)","v":{"$error":"#REF!"}},{"$f":"IF(#REF!=20,53,0)","v":{"$error":"#REF!"}},{"$f":"IF(#REF!>20,0,0)","v":{"$error":"#REF!"}},{"$f":"IF(#REF!=\"сх\",0,0)","v":{"$error":"#REF!"}},{"$error":"#REF!"}]
[5,11,"Грачев Сергей","I","г. Тюмень","лично","LYNX",8,13,3,20,"-",0,33,{"$f":"#REF!+#REF!","v":{"$error":"#REF!"}},null,null,{"$f":"IF(#REF!=1,25,0)","v":{"$error":"#REF!"}},{"$f":"IF(#REF!=2,22,0)","v":{"$error":"#REF!"}},{"$f":"IF(#REF!=3,20,0)","v":{"$error":"#REF!"}},{"$f":"IF(#REF!=4,18,0)","v":{"$error":"#REF!"}},{"$f":"IF(#REF!=5,16,0)","v":{"$error":"#REF!"}},{"$f":"IF(#REF!=6,15,0)","v":{"$error":"#REF!"}},{"$f":"IF(#REF!=7,14,0)","v":{"$error":"#REF!"}},{"$f":"IF(#REF!=8,13,0)","v":{"$error":"#REF!"}},{"$f":"IF(#REF!=9,12,0)","v":{"$error":"#REF!"}},{"$f":"IF(#REF!=10,11,0)","v":{"$error":"#REF!"}},{"$f":"IF(#REF!=11,10,0)","v":{"$error":"#REF!"}},{"$f":"IF(#REF!=12,9,0)","v":{"$error":"#REF!"}},{"$f":"IF(#REF!=13,8,0)","v":{"$error":"#REF!"}},{"$f":"IF(#REF!=14,7,0)","v":{"$error":"#REF!"}},{"$f":"IF(#REF!=15,6,0)","v":{"$error":"#REF!"}},{"$f":"IF(#REF!=16,5,0)","v":{"$error":"#REF!"}},{"$f":"IF(#REF!=17,4,0)","v":{"$error":"#REF!"}},{"$f":"IF(#REF!=18,3,0)","v":{"$error":"#REF!"}},{"$f":"IF(#REF!=19,2,0)","v":{"$error":"#REF!"}},{"$f":"IF(#REF!=20,1,0)","v":{"$error":"#REF!"}},{"$f":"IF(#REF!>20,0,0)","v":{"$error":"#REF!"}},{"$f":"IF(#REF!=\"сх\",0,0)","v":{"$error":"#REF!"}},{"$f":"SUM(R14:AL14)","v":{"$error":"#REF!"}},{"$f":"IF(#REF!=1,25,0)","v":{"$error":"#REF!"}},{"$f":"IF(#REF!=2,22,0)","v":{"$error":"#REF!"}},{"$f":"IF(#REF!=3,20,0)","v":{"$error":"#REF!"}},{"$f":"IF(#REF!=4,18,0)","v":{"$error":"#REF!"}},{"$f":"IF(#REF!=5,16,0)","v":{"$error":"#REF!"}},{"$f":"IF(#REF!=6,15,0)","v":{"$error":"#REF!"}},{"$f":"IF(#REF!=7,14,0)","v":{"$error":"#REF!"}},{"$f":"IF(#REF!=8,13,0)","v":{"$error":"#REF!"}},{"$f":"IF(#REF!=9,12,0)","v":{"$error":"#REF!"}},{"$f":"IF(#REF!=10,11,0)","v":{"$error":"#REF!"}},{"$f":"IF(#REF!=11,10,0)","v":{"$error":"#REF!"}},{"$f":"IF(#REF!=12,9,0)","v":{"$error":"#REF!"}},{"$f":"IF(#REF!=13,8,0)","v":{"$error":"#REF!"}},{"$f":"IF(#REF!=14,7,0)","v":{"$error":"#REF!"}},{"$f":"IF(#REF!=15,6,0)","v":{"$error":"#REF!"}},{"$f":"IF(#REF!=16,5,0)","v":{"$error":"#REF!"}},{"$f":"IF(#REF!=17,4,0)","v":{"$error":"#REF!"}},{"$f":"IF(#REF!=18,3,0)","v":{"$error":"#REF!"}},{"$f":"IF(#REF!=19,2,0)","v":{"$error":"#REF!"}},{"$f":"IF(#REF!=20,1,0)","v":{"$error":"#REF!"}},{"$f":"IF(#REF!>20,0,0)","v":{"$error":"#REF!"}},{"$f":"IF(#REF!=\"сх\",0,0)","v":{"$error":"#REF!"}},{"$f":"SUM(AO14:BI14)","v":{"$error":"#REF!"}},{"$f":"IF(#REF!=1,45,0)","v":{"$error":"#REF!"}},{"$f":"IF(#REF!=2,42,0)","v":{"$error":"#REF!"}},{"$f":"IF(#REF!=3,40,0)","v":{"$error":"#REF!"}},{"$f":"IF(#REF!=4,38,0)","v":{"$error":"#REF!"}},{"$f":"IF(#REF!=5,36,0)","v":{"$error":"#REF!"}},{"$f":"IF(#REF!=6,35,0)","v":{"$error":"#REF!"}},{"$f":"IF(#REF!=7,34,0)","v":{"$error":"#REF!"}},{"$f":"IF(#REF!=8,33,0)","v":{"$error":"#REF!"}},{"$f":"IF(#REF!=9,32,0)","v":{"$error":"#REF!"}},{"$f":"IF(#REF!=10,31,0)","v":{"$error":"#REF!"}},{"$f":"IF(#REF!=11,30,0)","v":{"$error":"#REF!"}},{"$f":"IF(#REF!=12,29,0)","v":{"$error":"#REF!"}},{"$f":"IF(#REF!=13,28,0)","v":{"$error":"#REF!"}},{"$f":"IF(#REF!=14,27,0)","v":{"$error":"#REF!"}},{"$f":"IF(#REF!=15,26,0)","v":{"$error":"#REF!"}},{"$f":"IF(#REF!=16,25,0)","v":{"$error":"#REF!"}},{"$f":"IF(#REF!=17,24,0)","v":{"$error":"#REF!"}},{"$f":"IF(#REF!=18,23,0)","v":{"$error":"#REF!"}},{"$f":"IF(#REF!=19,22,0)","v":{"$error":"#REF!"}},{"$f":"IF(#REF!=20,21,0)","v":{"$error":"#REF!"}},{"$f":"IF(#REF!=21,20,0)","v":{"$error":"#REF!"}},{"$f":"IF(#REF!=22,19,0)","v":{"$error":"#REF!"}},{"$f":"IF(#REF!=23,18,0)","v":{"$error":"#REF!"}},{"$f":"IF(#REF!=24,17,0)","v":{"$error":"#REF!"}},{"$f":"IF(#REF!=25,16,0)","v":{"$error":"#REF!"}},{"$f":"IF(#REF!=26,15,0)","v":{"$error":"#REF!"}},{"$f":"IF(#REF!=27,14,0)","v":{"$error":"#REF!"}},{"$f":"IF(#REF!=28,13,0)","v":{"$error":"#REF!"}},{"$f":"IF(#REF!=29,12,0)","v":{"$error":"#REF!"}},{"$f":"IF(#REF!=30,11,0)","v":{"$error":"#REF!"}},{"$f":"IF(#REF!=31,10,0)","v":{"$error":"#REF!"}},{"$f":"IF(#REF!=32,9,0)","v":{"$error":"#REF!"}},{"$f":"IF(#REF!=33,8,0)","v":{"$error":"#REF!"}},{"$f":"IF(#REF!=34,7,0)","v":{"$error":"#REF!"}},{"$f":"IF(#REF!=35,6,0)","v":{"$error":"#REF!"}},{"$f":"IF(#REF!=36,5,0)","v":{"$error":"#REF!"}},{"$f":"IF(#REF!=37,4,0)","v":{"$error":"#REF!"}},{"$f":"IF(#REF!=38,3,0)","v":{"$error":"#REF!"}},{"$f":"IF(#REF!=39,2,0)","v":{"$error":"#REF!"}},{"$f":"IF(#REF!=40,1,0)","v":{"$error":"#REF!"}},{"$f":"IF(#REF!>20,0,0)","v":{"$error":"#REF!"}},{"$f":"IF(#REF!=\"сх\",0,0)","v":{"$error":"#REF!"}},{"$f":"SUM(BL14:DA14)","v":{"$error":"#REF!"}},{"$f":"IF(#REF!=1,45,0)","v":{"$error":"#REF!"}},{"$f":"IF(#REF!=2,42,0)","v":{"$error":"#REF!"}},{"$f":"IF(#REF!=3,40,0)","v":{"$error":"#REF!"}},{"$f":"IF(#REF!=4,38,0)","v":{"$error":"#REF!"}},{"$f":"IF(#REF!=5,36,0)","v":{"$error":"#REF!"}},{"$f":"IF(#REF!=6,35,0)","v":{"$error":"#REF!"}},{"$f":"IF(#REF!=7,34,0)","v":{"$error":"#REF!"}},{"$f":"IF(#REF!=8,33,0)","v":{"$error":"#REF!"}},{"$f":"IF(#REF!=9,32,0)","v":{"$error":"#REF!"}},{"$f":"IF(#REF!=10,31,0)","v":{"$error":"#REF!"}},{"$f":"IF(#REF!=11,30,0)","v":{"$error":"#REF!"}},{"$f":"IF(#REF!=12,29,0)","v":{"$error":"#REF!"}},{"$f":"IF(#REF!=13,28,0)","v":{"$error":"#REF!"}},{"$f":"IF(#REF!=14,27,0)","v":{"$error":"#REF!"}},{"$f":"IF(#REF!=15,26,0)","v":{"$error":"#REF!"}},{"$f":"IF(#REF!=16,25,0)","v":{"$error":"#REF!"}},{"$f":"IF(#REF!=17,24,0)","v":{"$error":"#REF!"}},{"$f":"IF(#REF!=18,23,0)","v":{"$error":"#REF!"}},{"$f":"IF(#REF!=19,22,0)","v":{"$error":"#REF!"}},{"$f":"IF(#REF!=20,21,0)","v":{"$error":"#REF!"}},{"$f":"IF(#REF!=21,20,0)","v":{"$error":"#REF!"}},{"$f":"IF(#REF!=22,19,0)","v":{"$error":"#REF!"}},{"$f":"IF(#REF!=23,18,0)","v":{"$error":"#REF!"}},{"$f":"IF(#REF!=24,17,0)","v":{"$error":"#REF!"}},{"$f":"IF(#REF!=25,16,0)","v":{"$error":"#REF!"}},{"$f":"IF(#REF!=26,15,0)","v":{"$error":"#REF!"}},{"$f":"IF(#REF!=27,14,0)","v":{"$error":"#REF!"}},{"$f":"IF(#REF!=28,13,0)","v":{"$error":"#REF!"}},{"$f":"IF(#REF!=29,12,0)","v":{"$error":"#REF!"}},{"$f":"IF(#REF!=30,11,0)","v":{"$error":"#REF!"}},{"$f":"IF(#REF!=31,10,0)","v":{"$error":"#REF!"}},{"$f":"IF(#REF!=32,9,0)","v":{"$error":"#REF!"}},{"$f":"IF(#REF!=33,8,0)","v":{"$error":"#REF!"}},{"$f":"IF(#REF!=34,7,0)","v":{"$error":"#REF!"}},{"$f":"IF(#REF!=35,6,0)","v":{"$error":"#REF!"}},{"$f":"IF(#REF!=36,5,0)","v":{"$error":"#REF!"}},{"$f":"IF(#REF!=37,4,0)","v":{"$error":"#REF!"}},{"$f":"IF(#REF!=38,3,0)","v":{"$error":"#REF!"}},{"$f":"IF(#REF!=39,2,0)","v":{"$error":"#REF!"}},{"$f":"IF(#REF!=40,1,0)","v":{"$error":"#REF!"}},{"$f":"IF(#REF!>20,0,0)","v":{"$error":"#REF!"}},{"$f":"IF(#REF!=\"сх\",0,0)","v":{"$error":"#REF!"}},{"$f":"SUM(DC14:ER14)","v":{"$error":"#REF!"}},null,{"$f":"IF(#REF!=\"сх\",\"ноль\",IF(#REF!>0,#REF!,\"Ноль\"))","v":{"$error":"#REF!"}},{"$f":"IF(#REF!=\"сх\",\"ноль\",IF(#REF!>0,#REF!,\"Ноль\"))","v":{"$error":"#REF!"}},null,{"$f":"MIN(EU14,EV14)","v":{"$error":"#REF!"}},{"$f":"IF(N14=#REF!,IF(#REF!<#REF!,#REF!,FC14),#REF!)","v":{"$error":"#REF!"}},{"$f":"IF(N14=#REF!,IF(#REF!<#REF!,0,1))","v":{"$error":"#REF!"}},{"$f":"IF(AND(EX14>=21,EX14<>0),EX14,IF(N14<#REF!,\"СТОП\",EY14+EZ14))","v":{"$error":"#REF!"}},null,15,16,null,{"$f":"IF(#REF!=1,25,0)","v":{"$error":"#REF!"}},{"$f":"IF(#REF!=2,22,0)","v":{"$error":"#REF!"}},{"$f":"IF(#REF!=3,20,0)","v":{"$error":"#REF!"}},{"$f":"IF(#REF!=4,18,0)","v":{"$error":"#REF!"}},{"$f":"IF(#REF!=5,16,0)","v":{"$error":"#REF!"}},{"$f":"IF(#REF!=6,15,0)","v":{"$error":"#REF!"}},{"$f":"IF(#REF!=7,14,0)","v":{"$error":"#REF!"}},{"$f":"IF(#REF!=8,13,0)","v":{"$error":"#REF!"}},{"$f":"IF(#REF!=9,12,0)","v":{"$error":"#REF!"}},{"$f":"IF(#REF!=10,11,0)","v":{"$error":"#REF!"}},{"$f":"IF(#REF!=11,10,0)","v":{"$error":"#REF!"}},{"$f":"IF(#REF!=12,9,0)","v":{"$error":"#REF!"}},{"$f":"IF(#REF!=13,8,0)","v":{"$error":"#REF!"}},{"$f":"IF(#REF!=14,7,0)","v":{"$error":"#REF!"}},{"$f":"IF(#REF!=15,6,0)","v":{"$error":"#REF!"}},{"$f":"IF(#REF!=16,5,0)","v":{"$error":"#REF!"}},{"$f":"IF(#REF!=17,4,0)","v":{"$error":"#REF!"}},{"$f":"IF(#REF!=18,3,0)","v":{"$error":"#REF!"}},{"$f":"IF(#REF!=19,2,0)","v":{"$error":"#REF!"}},{"$f":"IF(#REF!=20,1,0)","v":{"$error":"#REF!"}},{"$f":"IF(#REF!>20,0,0)","v":{"$error":"#REF!"}},{"$f":"IF(#REF!=\"сх\",0,0)","v":{"$error":"#REF!"}},{"$f":"SUM(FF14:GA14)","v":{"$error":"#REF!"}},{"$f":"IF(#REF!=1,25,0)","v":{"$error":"#REF!"}},{"$f":"IF(#REF!=2,22,0)","v":{"$error":"#REF!"}},{"$f":"IF(#REF!=3,20,0)","v":{"$error":"#REF!"}},{"$f":"IF(#REF!=4,18,0)","v":{"$error":"#REF!"}},{"$f":"IF(#REF!=5,16,0)","v":{"$error":"#REF!"}},{"$f":"IF(#REF!=6,15,0)","v":{"$error":"#REF!"}},{"$f":"IF(#REF!=7,14,0)","v":{"$error":"#REF!"}},{"$f":"IF(#REF!=8,13,0)","v":{"$error":"#REF!"}},{"$f":"IF(#REF!=9,12,0)","v":{"$error":"#REF!"}},{"$f":"IF(#REF!=10,11,0)","v":{"$error":"#REF!"}},{"$f":"IF(#REF!=11,10,0)","v":{"$error":"#REF!"}},{"$f":"IF(#REF!=12,9,0)","v":{"$error":"#REF!"}},{"$f":"IF(#REF!=13,8,0)","v":{"$error":"#REF!"}},{"$f":"IF(#REF!=14,7,0)","v":{"$error":"#REF!"}},{"$f":"IF(#REF!=15,6,0)","v":{"$error":"#REF!"}},{"$f":"IF(#REF!=16,5,0)","v":{"$error":"#REF!"}},{"$f":"IF(#REF!=17,4,0)","v":{"$error":"#REF!"}},{"$f":"IF(#REF!=18,3,0)","v":{"$error":"#REF!"}},{"$f":"IF(#REF!=19,2,0)","v":{"$error":"#REF!"}},{"$f":"IF(#REF!=20,1,0)","v":{"$error":"#REF!"}},{"$f":"IF(#REF!>20,0,0)","v":{"$error":"#REF!"}},{"$f":"IF(#REF!=\"сх\",0,0)","v":{"$error":"#REF!"}},{"$f":"SUM(GC14:GX14)","v":{"$error":"#REF!"}},{"$f":"IF(#REF!=1,100,0)","v":{"$error":"#REF!"}},{"$f":"IF(#REF!=2,98,0)","v":{"$error":"#REF!"}},{"$f":"IF(#REF!=3,95,0)","v":{"$error":"#REF!"}},{"$f":"IF(#REF!=4,93,0)","v":{"$error":"#REF!"}},{"$f":"IF(#REF!=5,90,0)","v":{"$error":"#REF!"}},{"$f":"IF(#REF!=6,88,0)","v":{"$error":"#REF!"}},{"$f":"IF(#REF!=7,85,0)","v":{"$error":"#REF!"}},{"$f":"IF(#REF!=8,83,0)","v":{"$error":"#REF!"}},{"$f":"IF(#REF!=9,80,0)","v":{"$error":"#REF!"}},{"$f":"IF(#REF!=10,78,0)","v":{"$error":"#REF!"}},{"$f":"IF(#REF!=11,75,0)","v":{"$error":"#REF!"}},{"$f":"IF(#REF!=12,73,0)","v":{"$error":"#REF!"}},{"$f":"IF(#REF!=13,70,0)","v":{"$error":"#REF!"}},{"$f":"IF(#REF!=14,68,0)","v":{"$error":"#REF!"}},{"$f":"IF(#REF!=15,65,0)","v":{"$error":"#REF!"}},{"$f":"IF(#REF!=16,63,0)","v":{"$error":"#REF!"}},{"$f":"IF(#REF!=17,60,0)","v":{"$error":"#REF!"}},{"$f":"IF(#REF!=18,58,0)","v":{"$error":"#REF!"}},{"$f":"IF(#REF!=19,55,0)","v":{"$error":"#REF!"}},{"$f":"IF(#REF!=20,53,0)","v":{"$error":"#REF!"}},{"$f":"IF(#REF!>20,0,0)","v":{"$error":"#REF!"}},{"$f":"IF(#REF!=\"сх\",0,0)","v":{"$error":"#REF!"}},{"$f":"SUM(GZ14:HU14)","v":{"$error":"#REF!"}},{"$f":"IF(#REF!=1,100,0)","v":{"$error":"#REF!"}},{"$f":"IF(#REF!=2,98,0)","v":{"$error":"#REF!"}},{"$f":"IF(#REF!=3,95,0)","v":{"$error":"#REF!"}},{"$f":"IF(#REF!=4,93,0)","v":{"$error":"#REF!"}},{"$f":"IF(#REF!=5,90,0)","v":{"$error":"#REF!"}},{"$f":"IF(#REF!=6,88,0)","v":{"$error":"#REF!"}},{"$f":"IF(#REF!=7,85,0)","v":{"$error":"#REF!"}},{"$f":"IF(#REF!=8,83,0)","v":{"$error":"#REF!"}},{"$f":"IF(#REF!=9,80,0)","v":{"$error":"#REF!"}},{"$f":"IF(#REF!=10,78,0)","v":{"$error":"#REF!"}},{"$f":"IF(#REF!=11,75,0)","v":{"$error":"#REF!"}},{"$f":"IF(#REF!=12,73,0)","v":{"$error":"#REF!"}},{"$f":"IF(#REF!=13,70,0)","v":{"$error":"#REF!"}},{"$f":"IF(#REF!=14,68,0)","v":{"$error":"#REF!"}},{"$f":"IF(#REF!=15,65,0)","v":{"$error":"#REF!"}},{"$f":"IF(#REF!=16,63,0)","v":{"$error":"#REF!"}},{"$f":"IF(#REF!=17,60,0)","v":{"$error":"#REF!"}},{"$f":"IF(#REF!=18,58,0)","v":{"$error":"#REF!"}},{"$f":"IF(#REF!=19,55,0)","v":{"$error":"#REF!"}},{"$f":"IF(#REF!=20,53,0)","v":{"$error":"#REF!"}},{"$f":"IF(#REF!>20,0,0)","v":{"$error":"#REF!"}},{"$f":"IF(#REF!=\"сх\",0,0)","v":{"$error":"#REF!"}},{"$f":"SUM(HW14:IR14)","v":{"$error":"#REF!"}}]
[6,7,"Каленчин Дмитрий","II","г. Новый Уренгой, Ямало-Ненецкий АО","СТК \"Ямбург\"","LYNX",6,15,6,15,"-",0,30,{"$f":"#REF!+#REF!","v":{"$error":"#REF!"}},null,null,{"$f":"IF(#REF!=1,25,0)","v":{"$error":"#REF!"}},{"$f":"IF(#REF!=2,22,0)","v":{"$error":"#REF!"}},{"$f":"IF(#REF!=3,20,0)","v":{"$error":"#REF!"}},{"$f":"IF(#REF!=4,18,0)","v":{"$error":"#REF!"}},{"$f":"IF(#REF!=5,16,0)","v":{"$error":"#REF!"}},{"$f":"IF(#REF!=6,15,0)","v":{"$error":"#REF!"}},{"$f":"IF(#REF!=7,14,0)","v":{"$error":"#REF!"}},{"$f":"IF(#REF!=8,13,0)","v":{"$error":"#REF!"}},{"$f":"IF(#REF!=9,12,0)","v":{"$error":"#REF!"}},{"$f":"IF(#REF!=10,11,0)","v":{"$error":"#REF!"}},{"$f":"IF(#REF!=11,10,0)","v":{"$error":"#REF!"}},{"$f":"IF(#REF!=12,9,0)","v":{"$error":"#REF!"}},{"$f":"IF(#REF!=13,8,0)","v":{"$error":"#REF!"}},{"$f":"IF(#REF!=14,7,0)","v":{"$error":"#REF!"}},{"$f":"IF(#REF!=15,6,0)","v":{"$error":"#REF!"}},{"$f":"IF(#REF!=16,5,0)","v":{"$error":"#REF!"}},{"$f":"IF(#REF!=17,4,0)","v":{"$error":"#REF!"}},{"$f":"IF(#REF!=18,3,0)","v":{"$error":"#REF!"}},{"$f":"IF(#REF!=19,2,0)","v":{"$error":"#REF!"}},{"$f":"IF(#REF!=20,1,0)","v":{"$error":"#REF!"}},{"$f":"IF(#REF!>20,0,0)","v":{"$error":"#REF!"}},{"$f":"IF(#REF!=\"сх\",0,0)","v":{"$error":"#REF!"}},{"$error":"#REF!"},{"$f":"IF(#REF!=1,25,0)","v":{"$error":"#REF!"}},{"$f":"IF(#REF!=2,22,0)","v":{"$error":"#REF!"}},{"$f":"IF(#REF!=3,20,0)","v":{"$error":"#REF!"}},{"$f":"IF(#REF!=4,18,0)","v":{"$error":"#REF!"}},{"$f":"IF(#REF!=5,16,0)","v":{"$error":"#REF!"}},{"$f":"IF(#REF!=6,15,0)","v":{"$error":"#REF!"}},{"$f":"IF(#REF!=7,14,0)","v":{"$error":"#REF!"}},{"$f":"IF(#REF!=8,13,0)","v":{"$error":"#REF!"}},{"$f":"IF(#REF!=9,12,0)","v":{"$error":"#REF!"}},{"$f":"IF(#REF!=10,11,0)","v":{"$error":"#REF!"}},{"$f":"IF(#REF!=11,10,0)","v":{"$error":"#REF!"}},{"$f":"IF(#REF!=12,9,0)","v":{"$error":"#REF!"}},{"$f":"IF(#REF!=13,8,0)","v":{"$error":"#REF!"}},{"$f":"IF(#REF!=14,7,0)","v":{"$error":"#REF!"}},{"$f":"IF(#REF!=15,6,0)","v":{"$error":"#REF!"}},{"$f":"IF(#REF!=16,5,0)","v":{"$error":"#REF!"}},{"$f":"IF(#REF!=17,4,0)","v":{"$error":"#REF!"}},{"$f":"IF(#REF!=18,3,0)","v":{"$error":"#REF!"}},{"$f":"IF(#REF!=19,2,0)","v":{"$error":"#REF!"}},{"$f":"IF(#REF!=20,1,0)","v":{"$error":"#REF!"}},{"$f":"IF(#REF!>20,0,0)","v":{"$error":"#REF!"}},{"$f":"IF(#REF!=\"сх\",0,0)","v":{"$error":"#REF!"}},{"$error":"#REF!"},{"$f":"IF(#REF!=1,45,0)","v":{"$error":"#REF!"}},{"$f":"IF(#REF!=2,42,0)","v":{"$error":"#REF!"}},{"$f":"IF(#REF!=3,40,0)","v":{"$error":"#REF!"}},{"$f":"IF(#REF!=4,38,0)","v":{"$error":"#REF!"}},{"$f":"IF(#REF!=5,36,0)","v":{"$error":"#REF!"}},{"$f":"IF(#REF!=6,35,0)","v":{"$error":"#REF!"}},{"$f":"IF(#REF!=7,34,0)","v":{"$error":"#REF!"}},{"$f":"IF(#REF!=8,33,0)","v":{"$error":"#REF!"}},{"$f":"IF(#REF!=9,32,0)","v":{"$error":"#REF!"}},{"$f":"IF(#REF!=10,31,0)","v":{"$error":"#REF!"}},{"$f":"IF(#REF!=11,30,0)","v":{"$error":"#REF!"}},{"$f":"IF(#REF!=12,29,0)","v":{"$error":"#REF!"}},{"$f":"IF(#REF!=13,28,0)","v":{"$error":"#REF!"}},{"$f":"IF(#REF!=14,27,0)","v":{"$error":"#REF!"}},{"$f":"IF(#REF!=15,26,0)","v":{"$error":"#REF!"}},{"$f":"IF(#REF!=16,25,0)","v":{"$error":"#REF!"}},{"$f":"IF(#REF!=17,24,0)","v":{"$error":"#REF!"}},{"$f":"IF(#REF!=18,23,0)","v":{"$error":"#REF!"}},{"$f":"IF(#REF!=19,22,0)","v":{"$error":"#REF!"}},{"$f":"IF(#REF!=20,21,0)","v":{"$error":"#REF!"}},{"$f":"IF(#REF!=21,20,0)","v":{"$error":"#REF!"}},{"$f":"IF(#REF!=22,19,0)","v":{"$error":"#REF!"}},{"$f":"IF(#REF!=23,18,0)","v":{"$error":"#REF!"}},{"$f":"IF(#REF!=24,17,0)","v":{"$error":"#REF!"}},{"$f":"IF(#REF!=25,16,0)","v":{"$error":"#REF!"}},{"$f":"IF(#REF!=26,15,0)","v":{"$error":"#REF!"}},{"$f":"IF(#REF!=27,14,0)","v":{"$error":"#REF!"}},{"$f":"IF(#REF!=28,13,0)","v":{"$error":"#REF!"}},{"$f":"IF(#REF!=29,12,0)","v":{"$error":"#REF!"}},{"$f":"IF(#REF!=30,11,0)","v":{"$error":"#REF!"}},{"$f":"IF(#REF!=31,10,0)","v":{"$error":"#REF!"}},{"$f":"IF(#REF!=32,9,0)","v":{"$error":"#REF!"}},{"$f":"IF(#REF!=33,8,0)","v":{"$error":"#REF!"}},{"$f":"IF(#REF!=34,7,0)","v":{"$error":"#REF!"}},{"$f":"IF(#REF!=35,6,0)","v":{"$error":"#REF!"}},{"$f":"IF(#REF!=36,5,0)","v":{"$error":"#REF!"}},{"$f":"IF(#REF!=37,4,0)","v":{"$error":"#REF!"}},{"$f":"IF(#REF!=38,3,0)","v":{"$error":"#REF!"}},{"$f":"IF(#REF!=39,2,0)","v":{"$error":"#REF!"}},{"$f":"IF(#REF!=40,1,0)","v":{"$error":"#REF!"}},{"$f":"IF(#REF!>20,0,0)","v":{"$error":"#REF!"}},{"$f":"IF(#REF!=\"сх\",0,0)","v":{"$error":"#REF!"}},{"$error":"#REF!"},{"$f":"IF(#REF!=1,45,0)","v":{"$error":"#REF!"}},{"$f":"IF(#REF!=2,42,0)","v":{"$error":"#REF!"}},{"$f":"IF(#REF!=3,40,0)","v":{"$error":"#REF!"}},{"$f":"IF(#REF!=4,38,0)","v":{"$error":"#REF!"}},{"$f":"IF(#REF!=5,36,0)","v":{"$error":"#REF!"}},{"$f":"IF(#REF!=6,35,0)","v":{"$error":"#REF!"}},{"$f":"IF(#REF!=7,34,0)","v":{"$error":"#REF!"}},{"$f":"IF(#REF!=8,33,0)","v":{"$error":"#REF!"}},{"$f":"IF(#REF!=9,32,0)","v":{"$error":"#REF!"}},{"$f":"IF(#REF!=10,31,0)","v":{"$error":"#REF!"}},{"$f":"IF(#REF!=11,30,0)","v":{"$error":"#REF!"}},{"$f":"IF(#REF!=12,29,0)","v":{"$error":"#REF!"}},{"$f":"IF(#REF!=13,28,0)","v":{"$error":"#REF!"}},{"$f":"IF(#REF!=14,27,0)","v":{"$error":"#REF!"}},{"$f":"IF(#REF!=15,26,0)","v":{"$error":"#REF!"}},{"$f":"IF(#REF!=16,25,0)","v":{"$error":"#REF!"}},{"$f":"IF(#REF!=17,24,0)","v":{"$error":"#REF!"}},{"$f":"IF(#REF!=18,23,0)","v":{"$error":"#REF!"}},{"$f":"IF(#REF!=19,22,0)","v":{"$error":"#REF!"}},{"$f":"IF(#REF!=20,21,0)","v":{"$error":"#REF!"}},{"$f":"IF(#REF!=21,20,0)","v":{"$error":"#REF!"}},{"$f":"IF(#REF!=22,19,0)","v":{"$error":"#REF!"}},{"$f":"IF(#REF!=23,18,0)","v":{"$error":"#REF!"}},{"$f":"IF(#REF!=24,17,0)","v":{"$error":"#REF!"}},{"$f":"IF(#REF!=25,16,0)","v":{"$error":"#REF!"}},{"$f":"IF(#REF!=26,15,0)","v":{"$error":"#REF!"}},{"$f":"IF(#REF!=27,14,0)","v":{"$error":"#REF!"}},{"$f":"IF(#REF!=28,13,0)","v":{"$error":"#REF!"}},{"$f":"IF(#REF!=29,12,0)","v":{"$error":"#REF!"}},{"$f":"IF(#REF!=30,11,0)","v":{"$error":"#REF!"}},{"$f":"IF(#REF!=31,10,0)","v":{"$error":"#REF!"}},{"$f":"IF(#REF!=32,9,0)","v":{"$error":"#REF!"}},{"$f":"IF(#REF!=33,8,0)","v":{"$error":"#REF!"}},{"$f":"IF(#REF!=34,7,0)","v":{"$error":"#REF!"}},{"$f":"IF(#REF!=35,6,0)","v":{"$error":"#REF!"}},{"$f":"IF(#REF!=36,5,0)","v":{"$error":"#REF!"}},{"$f":"IF(#REF!=37,4,0)","v":{"$error":"#REF!"}},{"$f":"IF(#REF!=38,3,0)","v":{"$error":"#REF!"}},{"$f":"IF(#REF!=39,2,0)","v":{"$error":"#REF!"}},{"$f":"IF(#REF!=40,1,0)","v":{"$error":"#REF!"}},{"$f":"IF(#REF!>20,0,0)","v":{"$error":"#REF!"}},{"$f":"IF(#REF!=\"сх\",0,0)","v":{"$error":"#REF!"}},{"$error":"#REF!"},null,{"$f":"IF(#REF!=\"сх\",\"ноль\",IF(#REF!>0,#REF!,\"Ноль\"))","v":{"$error":"#REF!"}},{"$f":"IF(#REF!=\"сх\",\"ноль\",IF(#REF!>0,#REF!,\"Ноль\"))","v":{"$error":"#REF!"}},null,{"$error":"#REF!"},{"$f":"IF(N15=#REF!,IF(#REF!<#REF!,#REF!,FC15),#REF!)","v":{"$error":"#REF!"}},{"$f":"IF(N15=#REF!,IF(#REF!<#REF!,0,1))","v":{"$error":"#REF!"}},{"$f":"IF(AND(EX15>=21,EX15<>0),EX15,IF(N15<#REF!,\"СТОП\",EY15+EZ15))","v":{"$error":"#REF!"}},null,15,16,null,{"$f":"IF(#REF!=1,25,0)","v":{"$error":"#REF!"}},{"$f":"IF(#REF!=2,22,0)","v":{"$error":"#REF!"}},{"$f":"IF(#REF!=3,20,0)","v":{"$error":"#REF!"}},{"$f":"IF(#REF!=4,18,0)","v":{"$error":"#REF!"}},{"$f":"IF(#REF!=5,16,0)","v":{"$error":"#REF!"}},{"$f":"IF(#REF!=6,15,0)","v":{"$error":"#REF!"}},{"$f":"IF(#REF!=7,14,0)","v":{"$error":"#REF!"}},{"$f":"IF(#REF!=8,13,0)","v":{"$error":"#REF!"}},{"$f":"IF(#REF!=9,12,0)","v":{"$error":"#REF!"}},{"$f":"IF(#REF!=10,11,0)","v":{"$error":"#REF!"}},{"$f":"IF(#REF!=11,10,0)","v":{"$error":"#REF!"}},{"$f":"IF(#REF!=12,9,0)","v":{"$error":"#REF!"}},{"$f":"IF(#REF!=13,8,0)","v":{"$error":"#REF!"}},{"$f":"IF(#REF!=14,7,0)","v":{"$error":"#REF!"}},{"$f":"IF(#REF!=15,6,0)","v":{"$error":"#REF!"}},{"$f":"IF(#REF!=16,5,0)","v":{"$error":"#REF!"}},{"$f":"IF(#REF!=17,4,0)","v":{"$error":"#REF!"}},{"$f":"IF(#REF!=18,3,0)","v":{"$error":"#REF!"}},{"$f":"IF(#REF!=19,2,0)","v":{"$error":"#REF!"}},{"$f":"IF(#REF!=20,1,0)","v":{"$error":"#REF!"}},{"$f":"IF(#REF!>20,0,0)","v":{"$error":"#REF!"}},{"$f":"IF(#REF!=\"сх\",0,0)","v":{"$error":"#REF!"}},{"$error":"#REF!"},{"$f":"IF(#REF!=1,25,0)","v":{"$error":"#REF!"}},{"$f":"IF(#REF!=2,22,0)","v":{"$error":"#REF!"}},{"$f":"IF(#REF!=3,20,0)","v":{"$error":"#REF!"}},{"$f":"IF(#REF!=4,18,0)","v":{"$error":"#REF!"}},{"$f":"IF(#REF!=5,16,0)","v":{"$error":"#REF!"}},{"$f":"IF(#REF!=6,15,0)","v":{"$error":"#REF!"}},{"$f":"IF(#REF!=7,14,0)","v":{"$error":"#REF!"}},{"$f":"IF(#REF!=8,13,0)","v":{"$error":"#REF!"}},{"$f":"IF(#REF!=9,12,0)","v":{"$error":"#REF!"}},{"$f":"IF(#REF!=10,11,0)","v":{"$error":"#REF!"}},{"$f":"IF(#REF!=11,10,0)","v":{"$error":"#REF!"}},{"$f":"IF(#REF!=12,9,0)","v":{"$error":"#REF!"}},{"$f":"IF(#REF!=13,8,0)","v":{"$error":"#REF!"}},{"$f":"IF(#REF!=14,7,0)","v":{"$error":"#REF!"}},{"$f":"IF(#REF!=15,6,0)","v":{"$error":"#REF!"}},{"$f":"IF(#REF!=16,5,0)","v":{"$error":"#REF!"}},{"$f":"IF(#REF!=17,4,0)","v":{"$error":"#REF!"}},{"$f":"IF(#REF!=18,3,0)","v":{"$error":"#REF!"}},{"$f":"IF(#REF!=19,2,0)","v":{"$error":"#REF!"}},{"$f":"IF(#REF!=20,1,0)","v":{"$error":"#REF!"}},{"$f":"IF(#REF!>20,0,0)","v":{"$error":"#REF!"}},{"$f":"IF(#REF!=\"сх\",0,0)","v":{"$error":"#REF!"}},{"$error":"#REF!"},{"$f":"IF(#REF!=1,100,0)","v":{"$error":"#REF!"}},{"$f":"IF(#REF!=2,98,0)","v":{"$error":"#REF!"}},{"$f":"IF(#REF!=3,95,0)","v":{"$error":"#REF!"}},{"$f":"IF(#REF!=4,93,0)","v":{"$error":"#REF!"}},{"$f":"IF(#REF!=5,90,0)","v":{"$error":"#REF!"}},{"$f":"IF(#REF!=6,88,0)","v":{"$error":"#REF!"}},{"$f":"IF(#REF!=7,85,0)","v":{"$error":"#REF!"}},{"$f":"IF(#REF!=8,83,0)","v":{"$error":"#REF!"}},{"$f":"IF(#REF!=9,80,0)","v":{"$error":"#REF!"}},{"$f":"IF(#REF!=10,78,0)","v":{"$error":"#REF!"}},{"$f":"IF(#REF!=11,75,0)","v":{"$error":"#REF!"}},{"$f":"IF(#REF!=12,73,0)","v":{"$error":"#REF!"}},{"$f":"IF(#REF!=13,70,0)","v":{"$error":"#REF!"}},{"$f":"IF(#REF!=14,68,0)","v":{"$error":"#REF!"}},{"$f":"IF(#REF!=15,65,0)","v":{"$error":"#REF!"}},{"$f":"IF(#REF!=16,63,0)","v":{"$error":"#REF!"}},{"$f":"IF(#REF!=17,60,0)","v":{"$error":"#REF!"}},{"$f":"IF(#REF!=18,58,0)","v":{"$error":"#REF!"}},{"$f":"IF(#REF!=19,55,0)","v":{"$error":"#REF!"}},{"$f":"IF(#REF!=20,53,0)","v":{"$error":"#REF!"}},{"$f":"IF(#REF!>20,0,0)","v":{"$error":"#REF!"}},{"$f":"IF(#REF!=\"сх\",0,0)","v":{"$error":"#REF!"}},{"$error":"#REF!"},{"$f":"IF(#REF!=1,100,0)","v":{"$error":"#REF!"}},{"$f":"IF(#REF!=2,98,0)","v":{"$error":"#REF!"}},{"$f":"IF(#REF!=3,95,0)","v":{"$error":"#REF!"}},{"$f":"IF(#REF!=4,93,0)","v":{"$error":"#REF!"}},{"$f":"IF(#REF!=5,90,0)","v":{"$error":"#REF!"}},{"$f":"IF(#REF!=6,88,0)","v":{"$error":"#REF!"}},{"$f":"IF(#REF!=7,85,0)","v":{"$error":"#REF!"}},{"$f":"IF(#REF!=8,83,0)","v":{"$error":"#REF!"}},{"$f":"IF(#REF!=9,80,0)","v":{"$error":"#REF!"}},{"$f":"IF(#REF!=10,78,0)","v":{"$error":"#REF!"}},{"$f":"IF(#REF!=11,75,0)","v":{"$error":"#REF!"}},{"$f":"IF(#REF!=12,73,0)","v":{"$error":"#REF!"}},{"$f":"IF(#REF!=13,70,0)","v":{"$error":"#REF!"}},{"$f":"IF(#REF!=14,68,0)","v":{"$error":"#REF!"}},{"$f":"IF(#REF!=15,65,0)","v":{"$error":"#REF!"}},{"$f":"IF(#REF!=16,63,0)","v":{"$error":"#REF!"}},{"$f":"IF(#REF!=17,60,0)","v":{"$error":"#REF!"}},{"$f":"IF(#REF!=18,58,0)","v":{"$error":"#REF!"}},{"$f":"IF(#REF!=19,55,0)","v":{"$error":"#REF!"}},{"$f":"IF(#REF!=20,53,0)","v":{"$error":"#REF!"}},{"$f":"IF(#REF!>20,0,0)","v":{"$error":"#REF!"}},{"$f":"IF(#REF!=\"сх\",0,0)","v":{"$error":"#REF!"}},{"$error":"#REF!"}]
[7,77,"Колибаба Богдан","I","г. Новый Уренгой, Ямало-Ненецкий АО","СТК \"Факел\"","LYNX",5,16,8,13,"-",0,29,{"$f":"#REF!+#REF!","v":{"$error":"#REF!"}},null,null,{"$f":"IF(#REF!=1,25,0)","v":{"$error":"#REF!"}},{"$f":"IF(#REF!=2,22,0)","v":{"$error":"#REF!"}},{"$f":"IF(#REF!=3,20,0)","v":{"$error":"#REF!"}},{"$f":"IF(#REF!=4,18,0)","v":{"$error":"#REF!"}},{"$f":"IF(#REF!=5,16,0)","v":{"$error":"#REF!"}},{"$f":"IF(#REF!=6,15,0)","v":{"$error":"#REF!"}},{"$f":"IF(#REF!=7,14,0)","v":{"$error":"#REF!"}},{"$f":"IF(#REF!=8,13,0)","v":{"$error":"#REF!"}},{"$f":"IF(#REF!=9,12,0)","v":{"$error":"#REF!"}},{"$f":"IF(#REF!=10,11,0)","v":{"$error":"#REF!"}},{"$f":"IF(#REF!=11,10,0)","v":{"$error":"#REF!"}},{"$f":"IF(#REF!=12,9,0)","v":{"$error":"#REF!"}},{"$f":"IF(#REF!=13,8,0)","v":{"$error":"#REF!"}},{"$f":"IF(#REF!=14,7,0)","v":{"$error":"#REF!"}},{"$f":"IF(#REF!=15,6,0)","v":{"$error":"#REF!"}},{"$f":"IF(#REF!=16,5,0)","v":{"$error":"#REF!"}},{"$f":"IF(#REF!=17,4,0)","v":{"$error":"#REF!"}},{"$f":"IF(#REF!=18,3,0)","v":{"$error":"#REF!"}},{"$f":"IF(#REF!=19,2,0)","v":{"$error":"#REF!"}},{"$f":"IF(#REF!=20,1,0)","v":{"$error":"#REF!"}},{"$f":"IF(#REF!>20,0,0)","v":{"$error":"#REF!"}},{"$f":"IF(#REF!=\"сх\",0,0)","v":{"$error":"#REF!"}},{"$error":"#REF!"},{"$f":"IF(#REF!=1,25,0)","v":{"$error":"#REF!"}},{"$f":"IF(#REF!=2,22,0)","v":{"$error":"#REF!"}},{"$f":"IF(#REF!=3,20,0)","v":{"$error":"#REF!"}},{"$f":"IF(#REF!=4,18,0)","v":{"$error":"#REF!"}},{"$f":"IF(#REF!=5,16,0)","v":{"$error":"#REF!"}},{"$f":"IF(#REF!=6,15,0)","v":{"$error":"#REF!"}},{"$f":"IF(#REF!=7,14,0)","v":{"$error":"#REF!"}},{"$f":"IF(#REF!=8,13,0)","v":{"$error":"#REF!"}},{"$f":"IF(#REF!=9,12,0)","v":{"$error":"#REF!"}},{"$f":"IF(#REF!=10,11,0)","v":{"$error":"#REF!"}},{"$f":"IF(#REF!=11,10,0)","v":{"$error":"#REF!"}},{"$f":"IF(#REF!=12,9,0)","v":{"$error":"#REF!"}},{"$f":"IF(#REF!=13,8,0)","v":{"$error":"#REF!"}},{"$f":"IF(#REF!=14,7,0)","v":{"$error":"#REF!"}},{"$f":"IF(#REF!=15,6,0)","v":{"$error":"#REF!"}},{"$f":"IF(#REF!=16,5,0)","v":{"$error":"#REF!"}},{"$f":"IF(#REF!=17,4,0)","v":{"$error":"#REF!"}},{"$f":"IF(#REF!=18,3,0)","v":{"$error":"#REF!"}},{"$f":"IF(#REF!=19,2,0)","v":{"$error":"#REF!"}},{"$f":"IF(#REF!=20,1,0)","v":{"$error":"#REF!"}},{"$f":"IF(#REF!>20,0,0)","v":{"$error":"#REF!"}},{"$f":"IF(#REF!=\"сх\",0,0)","v":{"$error":"#REF!"}},{"$error":"#REF!"},{"$f":"IF(#REF!=1,45,0)","v":{"$error":"#REF!"}},{"$f":"IF(#REF!=2,42,0)","v":{"$error":"#REF!"}},{"$f":"IF(#REF!=3,40,0)","v":{"$error":"#REF!"}},{"$f":"IF(#REF!=4,38,0)","v":{"$error":"#REF!"}},{"$f":"IF(#REF!=5,36,0)","v":{"$error":"#REF!"}},{"$f":"IF(#REF!=6,35,0)","v":{"$error":"#REF!"}},{"$f":"IF(#REF!=7,34,0)","v":{"$error":"#REF!"}},{"$f":"IF(#REF!=8,33,0)","v":{"$error":"#REF!"}},{"$f":"IF(#REF!=9,32,0)","v":{"$error":"#REF!"}},{"$f":"IF(#REF!=10,31,0)","v":{"$error":"#REF!"}},{"$f":"IF(#REF!=11,30,0)","v":{"$error":"#REF!"}},{"$f":"IF(#REF!=12,29,0)","v":{"$error":"#REF!"}},{"$f":"IF(#REF!=13,28,0)","v":{"$error":"#REF!"}},{"$f":"IF(#REF!=14,27,0)","v":{"$error":"#REF!"}},{"$f":"IF(#REF!=15,26,0)","v":{"$error":"#REF!"}},{"$f":"IF(#REF!=16,25,0)","v":{"$error":"#REF!"}},{"$f":"IF(#REF!=17,24,0)","v":{"$error":"#REF!"}},{"$f":"IF(#REF!=18,23,0)","v":{"$error":"#REF!"}},{"$f":"IF(#REF!=19,22,0)","v":{"$error":"#REF!"}},{"$f":"IF(#REF!=20,21,0)","v":{"$error":"#REF!"}},{"$f":"IF(#REF!=21,20,0)","v":{"$error":"#REF!"}},{"$f":"IF(#REF!=22,19,0)","v":{"$error":"#REF!"}},{"$f":"IF(#REF!=23,18,0)","v":{"$error":"#REF!"}},{"$f":"IF(#REF!=24,17,0)","v":{"$error":"#REF!"}},{"$f":"IF(#REF!=25,16,0)","v":{"$error":"#REF!"}},{"$f":"IF(#REF!=26,15,0)","v":{"$error":"#REF!"}},{"$f":"IF(#REF!=27,14,0)","v":{"$error":"#REF!"}},{"$f":"IF(#REF!=28,13,0)","v":{"$error":"#REF!"}},{"$f":"IF(#REF!=29,12,0)","v":{"$error":"#REF!"}},{"$f":"IF(#REF!=30,11,0)","v":{"$error":"#REF!"}},{"$f":"IF(#REF!=31,10,0)","v":{"$error":"#REF!"}},{"$f":"IF(#REF!=32,9,0)","v":{"$error":"#REF!"}},{"$f":"IF(#REF!=33,8,0)","v":{"$error":"#REF!"}},{"$f":"IF(#REF!=34,7,0)","v":{"$error":"#REF!"}},{"$f":"IF(#REF!=35,6,0)","v":{"$error":"#REF!"}},{"$f":"IF(#REF!=36,5,0)","v":{"$error":"#REF!"}},{"$f":"IF(#REF!=37,4,0)","v":{"$error":"#REF!"}},{"$f":"IF(#REF!=38,3,0)","v":{"$error":"#REF!"}},{"$f":"IF(#REF!=39,2,0)","v":{"$error":"#REF!"}},{"$f":"IF(#REF!=40,1,0)","v":{"$error":"#REF!"}},{"$f":"IF(#REF!>20,0,0)","v":{"$error":"#REF!"}},{"$f":"IF(#REF!=\"сх\",0,0)","v":{"$error":"#REF!"}},{"$error":"#REF!"},{"$f":"IF(#REF!=1,45,0)","v":{"$error":"#REF!"}},{"$f":"IF(#REF!=2,42,0)","v":{"$error":"#REF!"}},{"$f":"IF(#REF!=3,40,0)","v":{"$error":"#REF!"}},{"$f":"IF(#REF!=4,38,0)","v":{"$error":"#REF!"}},{"$f":"IF(#REF!=5,36,0)","v":{"$error":"#REF!"}},{"$f":"IF(#REF!=6,35,0)","v":{"$error":"#REF!"}},{"$f":"IF(#REF!=7,34,0)","v":{"$error":"#REF!"}},{"$f":"IF(#REF!=8,33,0)","v":{"$error":"#REF!"}},{"$f":"IF(#REF!=9,32,0)","v":{"$error":"#REF!"}},{"$f":"IF(#REF!=10,31,0)","v":{"$error":"#REF!"}},{"$f":"IF(#REF!=11,30,0)","v":{"$error":"#REF!"}},{"$f":"IF(#REF!=12,29,0)","v":{"$error":"#REF!"}},{"$f":"IF(#REF!=13,28,0)","v":{"$error":"#REF!"}},{"$f":"IF(#REF!=14,27,0)","v":{"$error":"#REF!"}},{"$f":"IF(#REF!=15,26,0)","v":{"$error":"#REF!"}},{"$f":"IF(#REF!=16,25,0)","v":{"$error":"#REF!"}},{"$f":"IF(#REF!=17,24,0)","v":{"$error":"#REF!"}},{"$f":"IF(#REF!=18,23,0)","v":{"$error":"#REF!"}},{"$f":"IF(#REF!=19,22,0)","v":{"$error":"#REF!"}},{"$f":"IF(#REF!=20,21,0)","v":{"$error":"#REF!"}},{"$f":"IF(#REF!=21,20,0)","v":{"$error":"#REF!"}},{"$f":"IF(#REF!=22,19,0)","v":{"$error":"#REF!"}},{"$f":"IF(#REF!=23,18,0)","v":{"$error":"#REF!"}},{"$f":"IF(#REF!=24,17,0)","v":{"$error":"#REF!"}},{"$f":"IF(#REF!=25,16,0)","v":{"$error":"#REF!"}},{"$f":"IF(#REF!=26,15,0)","v":{"$error":"#REF!"}},{"$f":"IF(#REF!=27,14,0)","v":{"$error":"#REF!"}},{"$f":"IF(#REF!=28,13,0)","v":{"$error":"#REF!"}},{"$f":"IF(#REF!=29,12,0)","v":{"$error":"#REF!"}},{"$f":"IF(#REF!=30,11,0)","v":{"$error":"#REF!"}},{"$f":"IF(#REF!=31,10,0)","v":{"$error":"#REF!"}},{"$f":"IF(#REF!=32,9,0)","v":{"$error":"#REF!"}},{"$f":"IF(#REF!=33,8,0)","v":{"$error":"#REF!"}},{"$f":"IF(#REF!=34,7,0)","v":{"$error":"#REF!"}},{"$f":"IF(#REF!=35,6,0)","v":{"$error":"#REF!"}},{"$f":"IF(#REF!=36,5,0)","v":{"$error":"#REF!"}},{"$f":"IF(#REF!=37,4,0)","v":{"$error":"#REF!"}},{"$f":"IF(#REF!=38,3,0)","v":{"$error":"#REF!"}},{"$f":"IF(#REF!=39,2,0)","v":{"$error":"#REF!"}},{"$f":"IF(#REF!=40,1,0)","v":{"$error":"#REF!"}},{"$f":"IF(#REF!>20,0,0)","v":{"$error":"#REF!"}},{"$f":"IF(#REF!=\"сх\",0,0)","v":{"$error":"#REF!"}},{"$error":"#REF!"},null,{"$f":"IF(#REF!=\"сх\",\"ноль\",IF(#REF!>0,#REF!,\"Ноль\"))","v":{"$error":"#REF!"}},{"$f":"IF(#REF!=\"сх\",\"ноль\",IF(#REF!>0,#REF!,\"Ноль\"))","v":{"$error":"#REF!"}},null,{"$error":"#REF!"},{"$f":"IF(N16=#REF!,IF(#REF!<#REF!,#REF!,FC16),#REF!)","v":{"$error":"#REF!"}},{"$f":"IF(N16=#REF!,IF(#REF!<#REF!,0,1))","v":{"$error":"#REF!"}},{"$f":"IF(AND(EX16>=21,EX16<>0),EX16,IF(N16<#REF!,\"СТОП\",EY16+EZ16))","v":{"$error":"#REF!"}},null,15,16,null,{"$f":"IF(#REF!=1,25,0)","v":{"$error":"#REF!"}},{"$f":"IF(#REF!=2,22,0)","v":{"$error":"#REF!"}},{"$f":"IF(#REF!=3,20,0)","v":{"$error":"#REF!"}},{"$f":"IF(#REF!=4,18,0)","v":{"$error":"#REF!"}},{"$f":"IF(#REF!=5,16,0)","v":{"$error":"#REF!"}},{"$f":"IF(#REF!=6,15,0)","v":{"$error":"#REF!"}},{"$f":"IF(#REF!=7,14,0)","v":{"$error":"#REF!"}},{"$f":"IF(#REF!=8,13,0)","v":{"$error":"#REF!"}},{"$f":"IF(#REF!=9,12,0)","v":{"$error":"#REF!"}},{"$f":"IF(#REF!=10,11,0)","v":{"$error":"#REF!"}},{"$f":"IF(#REF!=11,10,0)","v":{"$error":"#REF!"}},{"$f":"IF(#REF!=12,9,0)","v":{"$error":"#REF!"}},{"$f":"IF(#REF!=13,8,0)","v":{"$error":"#REF!"}},{"$f":"IF(#REF!=14,7,0)","v":{"$error":"#REF!"}},{"$f":"IF(#REF!=15,6,0)","v":{"$error":"#REF!"}},{"$f":"IF(#REF!=16,5,0)","v":{"$error":"#REF!"}},{"$f":"IF(#REF!=17,4,0)","v":{"$error":"#REF!"}},{"$f":"IF(#REF!=18,3,0)","v":{"$error":"#REF!"}},{"$f":"IF(#REF!=19,2,0)","v":{"$error":"#REF!"}},{"$f":"IF(#REF!=20,1,0)","v":{"$error":"#REF!"}},{"$f":"IF(#REF!>20,0,0)","v":{"$error":"#REF!"}},{"$f":"IF(#REF!=\"сх\",0,0)","v":{"$error":"#REF!"}},{"$error":"#REF!"},{"$f":"IF(#REF!=1,25,0)","v":{"$error":"#REF!"}},{"$f":"IF(#REF!=2,22,0)","v":{"$error":"#REF!"}},{"$f":"IF(#REF!=3,20,0)","v":{"$error":"#REF!"}},{"$f":"IF(#REF!=4,18,0)","v":{"$error":"#REF!"}},{"$f":"IF(#REF!=5,16,0)","v":{"$error":"#REF!"}},{"$f":"IF(#REF!=6,15,0)","v":{"$error":"#REF!"}},{"$f":"IF(#REF!=7,14,0)","v":{"$error":"#REF!"}},{"$f":"IF(#REF!=8,13,0)","v":{"$error":"#REF!"}},{"$f":"IF(#REF!=9,12,0)","v":{"$error":"#REF!"}},{"$f":"IF(#REF!=10,11,0)","v":{"$error":"#REF!"}},{"$f":"IF(#REF!=11,10,0)","v":{"$error":"#REF!"}},{"$f":"IF(#REF!=12,9,0)","v":{"$error":"#REF!"}},{"$f":"IF(#REF!=13,8,0)","v":{"$error":"#REF!"}},{"$f":"IF(#REF!=14,7,0)","v":{"$error":"#REF!"}},{"$f":"IF(#REF!=15,6,0)","v":{"$error":"#REF!"}},{"$f":"IF(#REF!=16,5,0)","v":{"$error":"#REF!"}},{"$f":"IF(#REF!=17,4,0)","v":{"$error":"#REF!"}},{"$f":"IF(#REF!=18,3,0)","v":{"$error":"#REF!"}},{"$f":"IF(#REF!=19,2,0)","v":{"$error":"#REF!"}},{"$f":"IF(#REF!=20,1,0)","v":{"$error":"#REF!"}},{"$f":"IF(#REF!>20,0,0)","v":{"$error":"#REF!"}},{"$f":"IF(#REF!=\"сх\",0,0)","v":{"$error":"#REF!"}},{"$error":"#REF!"},{"$f":"IF(#REF!=1,100,0)","v":{"$error":"#REF!"}},{"$f":"IF(#REF!=2,98,0)","v":{"$error":"#REF!"}},{"$f":"IF(#REF!=3,95,0)","v":{"$error":"#REF!"}},{"$f":"IF(#REF!=4,93,0)","v":{"$error":"#REF!"}},{"$f":"IF(#REF!=5,90,0)","v":{"$error":"#REF!"}},{"$f":"IF(#REF!=6,88,0)","v":{"$error":"#REF!"}},{"$f":"IF(#REF!=7,85,0)","v":{"$error":"#REF!"}},{"$f":"IF(#REF!=8,83,0)","v":{"$error":"#REF!"}},{"$f":"IF(#REF!=9,80,0)","v":{"$error":"#REF!"}},{"$f":"IF(#REF!=10,78,0)","v":{"$error":"#REF!"}},{"$f":"IF(#REF!=11,75,0)","v":{"$error":"#REF!"}},{"$f":"IF(#REF!=12,73,0)","v":{"$error":"#REF!"}},{"$f":"IF(#REF!=13,70,0)","v":{"$error":"#REF!"}},{"$f":"IF(#REF!=14,68,0)","v":{"$error":"#REF!"}},{"$f":"IF(#REF!=15,65,0)","v":{"$error":"#REF!"}},{"$f":"IF(#REF!=16,63,0)","v":{"$error":"#REF!"}},{"$f":"IF(#REF!=17,60,0)","v":{"$error":"#REF!"}},{"$f":"IF(#REF!=18,58,0)","v":{"$error":"#REF!"}},{"$f":"IF(#REF!=19,55,0)","v":{"$error":"#REF!"}},{"$f":"IF(#REF!=20,53,0)","v":{"$error":"#REF!"}},{"$f":"IF(#REF!>20,0,0)","v":{"$error":"#REF!"}},{"$f":"IF(#REF!=\"сх\",0,0)","v":{"$error":"#REF!"}},{"$error":"#REF!"},{"$f":"IF(#REF!=1,100,0)","v":{"$error":"#REF!"}},{"$f":"IF(#REF!=2,98,0)","v":{"$error":"#REF!"}},{"$f":"IF(#REF!=3,95,0)","v":{"$error":"#REF!"}},{"$f":"IF(#REF!=4,93,0)","v":{"$error":"#REF!"}},{"$f":"IF(#REF!=5,90,0)","v":{"$error":"#REF!"}},{"$f":"IF(#REF!=6,88,0)","v":{"$error":"#REF!"}},{"$f":"IF(#REF!=7,85,0)","v":{"$error":"#REF!"}},{"$f":"IF(#REF!=8,83,0)","v":{"$error":"#REF!"}},{"$f":"IF(#REF!=9,80,0)","v":{"$error":"#REF!"}},{"$f":"IF(#REF!=10,78,0)","v":{"$error":"#REF!"}},{"$f":"IF(#REF!=11,75,0)","v":{"$error":"#REF!"}},{"$f":"IF(#REF!=12,73,0)","v":{"$error":"#REF!"}},{"$f":"IF(#REF!=13,70,0)","v":{"$error":"#REF!"}},{"$f":"IF(#REF!=14,68,0)","v":{"$error":"#REF!"}},{"$f":"IF(#REF!=15,65,0)","v":{"$error":"#REF!"}},{"$f":"IF(#REF!=16,63,0)","v":{"$error":"#REF!"}},{"$f":"IF(#REF!=17,60,0)","v":{"$error":"#REF!"}},{"$f":"IF(#REF!=18,58,0)","v":{"$error":"#REF!"}},{"$f":"IF(#REF!=19,55,0)","v":{"$error":"#REF!"}},{"$f":"IF(#REF!=20,53,0)","v":{"$error":"#REF!"}},{"$f":"IF(#REF!>20,0,0)","v":{"$error":"#REF!"}},{"$f":"IF(#REF!=\"сх\",0,0)","v":{"$error":"#REF!"}},{"$error":"#REF!"}]
[8,25,"Перфильев Сергей","I","г. Новый Уренгой, Ямало-Ненецкий АО","СТК \"Факел\"","LYNX",7,14,7,14,"-",0,28]
[9,16,"Гнатюк Егор","I","г. Новый Уренгой, Ямало-Ненецкий АО","СТК \"Факел\"","LYNX",9,12,9,12,"-",0,24]
[10,5,"Аглямов Руслан","II","г. Альметьевск, Республика Татарстан","СТК \"Ультиматум\"","LYNX",10,11,10,11,"-",0,22,{"$f":"#REF!+#REF!","v":{"$error":"#REF!"}},null,null,{"$f":"IF(#REF!=1,25,0)","v":{"$error":"#REF!"}},{"$f":"IF(#REF!=2,22,0)","v":{"$error":"#REF!"}},{"$f":"IF(#REF!=3,20,0)","v":{"$error":"#REF!"}},{"$f":"IF(#REF!=4,18,0)","v":{"$error":"#REF!"}},{"$f":"IF(#REF!=5,16,0)","v":{"$error":"#REF!"}},{"$f":"IF(#REF!=6,15,0)","v":{"$error":"#REF!"}},{"$f":"IF(#REF!=7,14,0)","v":{"$error":"#REF!"}},{"$f":"IF(#REF!=8,13,0)","v":{"$error":"#REF!"}},{"$f":"IF(#REF!=9,12,0)","v":{"$error":"#REF!"}},{"$f":"IF(#REF!=10,11,0)","v":{"$error":"#REF!"}},{"$f":"IF(#REF!=11,10,0)","v":{"$error":"#REF!"}},{"$f":"IF(#REF!=12,9,0)","v":{"$error":"#REF!"}},{"$f":"IF(#REF!=13,8,0)","v":{"$error":"#REF!"}},{"$f":"IF(#REF!=14,7,0)","v":{"$error":"#REF!"}},{"$f":"IF(#REF!=15,6,0)","v":{"$error":"#REF!"}},{"$f":"IF(#REF!=16,5,0)","v":{"$error":"#REF!"}},{"$f":"IF(#REF!=17,4,0)","v":{"$error":"#REF!"}},{"$f":"IF(#REF!=18,3,0)","v":{"$error":"#REF!"}},{"$f":"IF(#REF!=19,2,0)","v":{"$error":"#REF!"}},{"$f":"IF(#REF!=20,1,0)","v":{"$error":"#REF!"}},{"$f":"IF(#REF!>20,0,0)","v":{"$error":"#REF!"}},{"$f":"IF(#REF!=\"сх\",0,0)","v":{"$error":"#REF!"}},{"$error":"#REF!"},{"$f":"IF(#REF!=1,25,0)","v":{"$error":"#REF!"}},{"$f":"IF(#REF!=2,22,0)","v":{"$error":"#REF!"}},{"$f":"IF(#REF!=3,20,0)","v":{"$error":"#REF!"}},{"$f":"IF(#REF!=4,18,0)","v":{"$error":"#REF!"}},{"$f":"IF(#REF!=5,16,0)","v":{"$error":"#REF!"}},{"$f":"IF(#REF!=6,15,0)","v":{"$error":"#REF!"}},{"$f":"IF(#REF!=7,14,0)","v":{"$error":"#REF!"}},{"$f":"IF(#REF!=8,13,0)","v":{"$error":"#REF!"}},{"$f":"IF(#REF!=9,12,0)","v":{"$error":"#REF!"}},{"$f":"IF(#REF!=10,11,0)","v":{"$error":"#REF!"}},{"$f":"IF(#REF!=11,10,0)","v":{"$error":"#REF!"}},{"$f":"IF(#REF!=12,9,0)","v":{"$error":"#REF!"}},{"$f":"IF(#REF!=13,8,0)","v":{"$error":"#REF!"}},{"$f":"IF(#REF!=14,7,0)","v":{"$error":"#REF!"}},{"$f":"IF(#REF!=15,6,0)","v":{"$error":"#REF!"}},{"$f":"IF(#REF!=16,5,0)","v":{"$error":"#REF!"}},{"$f":"IF(#REF!=17,4,0)","v":{"$error":"#REF!"}},{"$f":"IF(#REF!=18,3,0)","v":{"$error":"#REF!"}},{"$f":"IF(#REF!=19,2,0)","v":{"$error":"#REF!"}},{"$f":"IF(#REF!=20,1,0)","v":{"$error":"#REF!"}},{"$f":"IF(#REF!>20,0,0)","v":{"$error":"#REF!"}},{"$f":"IF(#REF!=\"сх\",0,0)","v":{"$error":"#REF!"}},{"$error":"#REF!"},{"$f":"IF(#REF!=1,45,0)","v":{"$error":"#REF!"}},{"$f":"IF(#REF!=2,42,0)","v":{"$error":"#REF!"}},{"$f":"IF(#REF!=3,40,0)","v":{"$error":"#REF!"}},{"$f":"IF(#REF!=4,38,0)","v":{"$error":"#REF!"}},{"$f":"IF(#REF!=5,36,0)","v":{"$error":"#REF!"}},{"$f":"IF(#REF!=6,35,0)","v":{"$error":"#REF!"}},{"$f":"IF(#REF!=7,34,0)","v":{"$error":"#REF!"}},{"$f":"IF(#REF!=8,33,0)","v":{"$error":"#REF!"}},{"$f":"IF(#REF!=9,32,0)","v":{"$error":"#REF!"}},{"$f":"IF(#REF!=10,31,0)","v":{"$error":"#REF!"}},{"$f":"IF(#REF!=11,30,0)","v":{"$error":"#REF!"}},{"$f":"IF(#REF!=12,29,0)","v":{"$error":"#REF!"}},{"$f":"IF(#REF!=13,28,0)","v":{"$error":"#REF!"}},{"$f":"IF(#REF!=14,27,0)","v":{"$error":"#REF!"}},{"$f":"IF(#REF!=15,26,0)","v":{"$error":"#REF!"}},{"$f":"IF(#REF!=16,25,0)","v":{"$error":"#REF!"}},{"$f":"IF(#REF!=17,24,0)","v":{"$error":"#REF!"}},{"$f":"IF(#REF!=18,23,0)","v":{"$error":"#REF!"}},{"$f":"IF(#REF!=19,22,0)","v":{"$error":"#REF!"}},{"$f":"IF(#REF!=20,21,0)","v":{"$error":"#REF!"}},{"$f":"IF(#REF!=21,20,0)","v":{"$error":"#REF!"}},{"$f":"IF(#REF!=22,19,0)","v":{"$error":"#REF!"}},{"$f":"IF(#REF!=23,18,0)","v":{"$error":"#REF!"}},{"$f":"IF(#REF!=24,17,0)","v":{"$error":"#REF!"}},{"$f":"IF(#REF!=25,16,0)","v":{"$error":"#REF!"}},{"$f":"IF(#REF!=26,15,0)","v":{"$error":"#REF!"}},{"$f":"IF(#REF!=27,14,0)","v":{"$error":"#REF!"}},{"$f":"IF(#REF!=28,13,0)","v":{"$error":"#REF!"}},{"$f":"IF(#REF!=29,12,0)","v":{"$error":"#REF!"}},{"$f":"IF(#REF!=30,11,0)","v":{"$error":"#REF!"}},{"$f":"IF(#REF!=31,10,0)","v":{"$error":"#REF!"}},{"$f":"IF(#REF!=32,9,0)","v":{"$error":"#REF!"}},{"$f":"IF(#REF!=33,8,0)","v":{"$error":"#REF!"}},{"$f":"IF(#REF!=34,7,0)","v":{"$error":"#REF!"}},{"$f":"IF(#REF!=35,6,0)","v":{"$error":"#REF!"}},{"$f":"IF(#REF!=36,5,0)","v":{"$error":"#REF!"}},{"$f":"IF(#REF!=37,4,0)","v":{"$error":"#REF!"}},{"$f":"IF(#REF!=38,3,0)","v":{"$error":"#REF!"}},{"$f":"IF(#REF!=39,2,0)","v":{"$error":"#REF!"}},{"$f":"IF(#REF!=40,1,0)","v":{"$error":"#REF!"}},{"$f":"IF(#REF!>20,0,0)","v":{"$error":"#REF!"}},{"$f":"IF(#REF!=\"сх\",0,0)","v":{"$error":"#REF!"}},{"$error":"#REF!"},{"$f":"IF(#REF!=1,45,0)","v":{"$error":"#REF!"}},{"$f":"IF(#REF!=2,42,0)","v":{"$error":"#REF!"}},{"$f":"IF(#REF!=3,40,0)","v":{"$error":"#REF!"}},{"$f":"IF(#REF!=4,38,0)","v":{"$error":"#REF!"}},{"$f":"IF(#REF!=5,36,0)","v":{"$error":"#REF!"}},{"$f":"IF(#REF!=6,35,0)","v":{"$error":"#REF!"}},{"$f":"IF(#REF!=7,34,0)","v":{"$error":"#REF!"}},{"$f":"IF(#REF!=8,33,0)","v":{"$error":"#REF!"}},{"$f":"IF(#REF!=9,32,0)","v":{"$error":"#REF!"}},{"$f":"IF(#REF!=10,31,0)","v":{"$error":"#REF!"}},{"$f":"IF(#REF!=11,30,0)","v":{"$error":"#REF!"}},{"$f":"IF(#REF!=12,29,0)","v":{"$error":"#REF!"}},{"$f":"IF(#REF!=13,28,0)","v":{"$error":"#REF!"}},{"$f":"IF(#REF!=14,27,0)","v":{"$error":"#REF!"}},{"$f":"IF(#REF!=15,26,0)","v":{"$error":"#REF!"}},{"$f":"IF(#REF!=16,25,0)","v":{"$error":"#REF!"}},{"$f":"IF(#REF!=17,24,0)","v":{"$error":"#REF!"}},{"$f":"IF(#REF!=18,23,0)","v":{"$error":"#REF!"}},{"$f":"IF(#REF!=19,22,0)","v":{"$error":"#REF!"}},{"$f":"IF(#REF!=20,21,0)","v":{"$error":"#REF!"}},{"$f":"IF(#REF!=21,20,0)","v":{"$error":"#REF!"}},{"$f":"IF(#REF!=22,19,0)","v":{"$error":"#REF!"}},{"$f":"IF(#REF!=23,18,0)","v":{"$error":"#REF!"}},{"$f":"IF(#REF!=24,17,0)","v":{"$error":"#REF!"}},{"$f":"IF(#REF!=25,16,0)","v":{"$error":"#REF!"}},{"$f":"IF(#REF!=26,15,0)","v":{"$error":"#REF!"}},{"$f":"IF(#REF!=27,14,0)","v":{"$error":"#REF!"}},{"$f":"IF(#REF!=28,13,0)","v":{"$error":"#REF!"}},{"$f":"IF(#REF!=29,12,0)","v":{"$error":"#REF!"}},{"$f":"IF(#REF!=30,11,0)","v":{"$error":"#REF!"}},{"$f":"IF(#REF!=31,10,0)","v":{"$error":"#REF!"}},{"$f":"IF(#REF!=32,9,0)","v":{"$error":"#REF!"}},{"$f":"IF(#REF!=33,8,0)","v":{"$error":"#REF!"}},{"$f":"IF(#REF!=34,7,0)","v":{"$error":"#REF!"}},{"$f":"IF(#REF!=35,6,0)","v":{"$error":"#REF!"}},{"$f":"IF(#REF!=36,5,0)","v":{"$error":"#REF!"}},{"$f":"IF(#REF!=37,4,0)","v":{"$error":"#REF!"}},{"$f":"IF(#REF!=38,3,0)","v":{"$error":"#REF!"}},{"$f":"IF(#REF!=39,2,0)","v":{"$error":"#REF!"}},{"$f":"IF(#REF!=40,1,0)","v":{"$error":"#REF!"}},{"$f":"IF(#REF!>20,0,0)","v":{"$error":"#REF!"}},{"$f":"IF(#REF!=\"сх\",0,0)","v":{"$error":"#REF!"}},{"$error":"#REF!"},null,{"$f":"IF(#REF!=\"сх\",\"ноль\",IF(#REF!>0,#REF!,\"Ноль\"))","v":{"$error":"#REF!"}},{"$f":"IF(#REF!=\"сх\",\"ноль\",IF(#REF!>0,#REF!,\"Ноль\"))","v":{"$error":"#REF!"}},null,{"$error":"#REF!"},{"$f":"IF(N19=#REF!,IF(#REF!<#REF!,#REF!,FC19),#REF!)","v":{"$error":"#REF!"}},{"$f":"IF(N19=#REF!,IF(#REF!<#REF!,0,1))","v":{"$error":"#REF!"}},{"$f":"IF(AND(EX19>=21,EX19<>0),EX19,IF(N19<#REF!,\"СТОП\",EY19+EZ19))","v":{"$error":"#REF!"}},null,15,16,null,{"$f":"IF(#REF!=1,25,0)","v":{"$error":"#REF!"}},{"$f":"IF(#REF!=2,22,0)","v":{"$error":"#REF!"}},{"$f":"IF(#REF!=3,20,0)","v":{"$error":"#REF!"}},{"$f":"IF(#REF!=4,18,0)","v":{"$error":"#REF!"}},{"$f":"IF(#REF!=5,16,0)","v":{"$error":"#REF!"}},{"$f":"IF(#REF!=6,15,0)","v":{"$error":"#REF!"}},{"$f":"IF(#REF!=7,14,0)","v":{"$error":"#REF!"}},{"$f":"IF(#REF!=8,13,0)","v":{"$error":"#REF!"}},{"$f":"IF(#REF!=9,12,0)","v":{"$error":"#REF!"}},{"$f":"IF(#REF!=10,11,0)","v":{"$error":"#REF!"}},{"$f":"IF(#REF!=11,10,0)","v":{"$error":"#REF!"}},{"$f":"IF(#REF!=12,9,0)","v":{"$error":"#REF!"}},{"$f":"IF(#REF!=13,8,0)","v":{"$error":"#REF!"}},{"$f":"IF(#REF!=14,7,0)","v":{"$error":"#REF!"}},{"$f":"IF(#REF!=15,6,0)","v":{"$error":"#REF!"}},{"$f":"IF(#REF!=16,5,0)","v":{"$error":"#REF!"}},{"$f":"IF(#REF!=17,4,0)","v":{"$error":"#REF!"}},{"$f":"IF(#REF!=18,3,0)","v":{"$error":"#REF!"}},{"$f":"IF(#REF!=19,2,0)","v":{"$error":"#REF!"}},{"$f":"IF(#REF!=20,1,0)","v":{"$error":"#REF!"}},{"$f":"IF(#REF!>20,0,0)","v":{"$error":"#REF!"}},{"$f":"IF(#REF!=\"сх\",0,0)","v":{"$error":"#REF!"}},{"$error":"#REF!"},{"$f":"IF(#REF!=1,25,0)","v":{"$error":"#REF!"}},{"$f":"IF(#REF!=2,22,0)","v":{"$error":"#REF!"}},{"$f":"IF(#REF!=3,20,0)","v":{"$error":"#REF!"}},{"$f":"IF(#REF!=4,18,0)","v":{"$error":"#REF!"}},{"$f":"IF(#REF!=5,16,0)","v":{"$error":"#REF!"}},{"$f":"IF(#REF!=6,15,0)","v":{"$error":"#REF!"}},{"$f":"IF(#REF!=7,14,0)","v":{"$error":"#REF!"}},{"$f":"IF(#REF!=8,13,0)","v":{"$error":"#REF!"}},{"$f":"IF(#REF!=9,12,0)","v":{"$error":"#REF!"}},{"$f":"IF(#REF!=10,11,0)","v":{"$error":"#REF!"}},{"$f":"IF(#REF!=11,10,0)","v":{"$error":"#REF!"}},{"$f":"IF(#REF!=12,9,0)","v":{"$error":"#REF!"}},{"$f":"IF(#REF!=13,8,0)","v":{"$error":"#REF!"}},{"$f":"IF(#REF!=14,7,0)","v":{"$error":"#REF!"}},{"$f":"IF(#REF!=15,6,0)","v":{"$error":"#REF!"}},{"$f":"IF(#REF!=16,5,0)","v":{"$error":"#REF!"}},{"$f":"IF(#REF!=17,4,0)","v":{"$error":"#REF!"}},{"$f":"IF(#REF!=18,3,0)","v":{"$error":"#REF!"}},{"$f":"IF(#REF!=19,2,0)","v":{"$error":"#REF!"}},{"$f":"IF(#REF!=20,1,0)","v":{"$error":"#REF!"}},{"$f":"IF(#REF!>20,0,0)","v":{"$error":"#REF!"}},{"$f":"IF(#REF!=\"сх\",0,0)","v":{"$error":"#REF!"}},{"$error":"#REF!"},{"$f":"IF(#REF!=1,100,0)","v":{"$error":"#REF!"}},{"$f":"IF(#REF!=2,98,0)","v":{"$error":"#REF!"}},{"$f":"IF(#REF!=3,95,0)","v":{"$error":"#REF!"}},{"$f":"IF(#REF!=4,93,0)","v":{"$error":"#REF!"}},{"$f":"IF(#REF!=5,90,0)","v":{"$error":"#REF!"}},{"$f":"IF(#REF!=6,88,0)","v":{"$error":"#REF!"}},{"$f":"IF(#REF!=7,85,0)","v":{"$error":"#REF!"}},{"$f":"IF(#REF!=8,83,0)","v":{"$error":"#REF!"}},{"$f":"IF(#REF!=9,80,0)","v":{"$error":"#REF!"}},{"$f":"IF(#REF!=10,78,0)","v":{"$error":"#REF!"}},{"$f":"IF(#REF!=11,75,0)","v":{"$error":"#REF!"}},{"$f":"IF(#REF!=12,73,0)","v":{"$error":"#REF!"}},{"$f":"IF(#REF!=13,70,0)","v":{"$error":"#REF!"}},{"$f":"IF(#REF!=14,68,0)","v":{"$error":"#REF!"}},{"$f":"IF(#REF!=15,65,0)","v":{"$error":"#REF!"}},{"$f":"IF(#REF!=16,63,0)","v":{"$error":"#REF!"}},{"$f":"IF(#REF!=17,60,0)","v":{"$error":"#REF!"}},{"$f":"IF(#REF!=18,58,0)","v":{"$error":"#REF!"}},{"$f":"IF(#REF!=19,55,0)","v":{"$error":"#REF!"}},{"$f":"IF(#REF!=20,53,0)","v":{"$error":"#REF!"}},{"$f":"IF(#REF!>20,0,0)","v":{"$error":"#REF!"}},{"$f":"IF(#REF!=\"сх\",0,0)","v":{"$error":"#REF!"}},{"$error":"#REF!"},{"$f":"IF(#REF!=1,100,0)","v":{"$error":"#REF!"}},{"$f":"IF(#REF!=2,98,0)","v":{"$error":"#REF!"}},{"$f":"IF(#REF!=3,95,0)","v":{"$error":"#REF!"}},{"$f":"IF(#REF!=4,93,0)","v":{"$error":"#REF!"}},{"$f":"IF(#REF!=5,90,0)","v":{"$error":"#REF!"}},{"$f":"IF(#REF!=6,88,0)","v":{"$error":"#REF!"}},{"$f":"IF(#REF!=7,85,0)","v":{"$error":"#REF!"}},{"$f":"IF(#REF!=8,83,0)","v":{"$error":"#REF!"}},{"$f":"IF(#REF!=9,80,0)","v":{"$error":"#REF!"}},{"$f":"IF(#REF!=10,78,0)","v":{"$error":"#REF!"}},{"$f":"IF(#REF!=11,75,0)","v":{"$error":"#REF!"}},{"$f":"IF(#REF!=12,73,0)","v":{"$error":"#REF!"}},{"$f":"IF(#REF!=13,70,0)","v":{"$error":"#REF!"}},{"$f":"IF(#REF!=14,68,0)","v":{"$error":"#REF!"}},{"$f":"IF(#REF!=15,65,0)","v":{"$error":"#REF!"}},{"$f":"IF(#REF!=16,63,0)","v":{"$error":"#REF!"}},{"$f":"IF(#REF!=17,60,0)","v":{"$error":"#REF!"}},{"$f":"IF(#REF!=18,58,0)","v":{"$error":"#REF!"}},{"$f":"IF(#REF!=19,55,0)","v":{"$error":"#REF!"}},{"$f":"IF(#REF!=20,53,0)","v":{"$error":"#REF!"}},{"$f":"IF(#REF!>20,0,0)","v":{"$error":"#REF!"}},{"$f":"IF(#REF!=\"сх\",0,0)","v":{"$error":"#REF!"}},{"$error":"#REF!"}]
[11,58,"Овчинников Александр","II","г. Альметьевск, Республика Татарстан","СТК \"Ультиматум\"","SKI-DOO",11,10,11,10,"-",0,20,{"$f":"#REF!+#REF!","v":{"$error":"#REF!"}},null,null,{"$f":"IF(#REF!=1,25,0)","v":{"$error":"#REF!"}},{"$f":"IF(#REF!=2,22,0)","v":{"$error":"#REF!"}},{"$f":"IF(#REF!=3,20,0)","v":{"$error":"#REF!"}},{"$f":"IF(#REF!=4,18,0)","v":{"$error":"#REF!"}},{"$f":"IF(#REF!=5,16,0)","v":{"$error":"#REF!"}},{"$f":"IF(#REF!=6,15,0)","v":{"$error":"#REF!"}},{"$f":"IF(#REF!=7,14,0)","v":{"$error":"#REF!"}},{"$f":"IF(#REF!=8,13,0)","v":{"$error":"#REF!"}},{"$f":"IF(#REF!=9,12,0)","v":{"$error":"#REF!"}},{"$f":"IF(#REF!=10,11,0)","v":{"$error":"#REF!"}},{"$f":"IF(#REF!=11,10,0)","v":{"$error":"#REF!"}},{"$f":"IF(#REF!=12,9,0)","v":{"$error":"#REF!"}},{"$f":"IF(#REF!=13,8,0)","v":{"$error":"#REF!"}},{"$f":"IF(#REF!=14,7,0)","v":{"$error":"#REF!"}},{"$f":"IF(#REF!=15,6,0)","v":{"$error":"#REF!"}},{"$f":"IF(#REF!=16,5,0)","v":{"$error":"#REF!"}},{"$f":"IF(#REF!=17,4,0)","v":{"$error":"#REF!"}},{"$f":"IF(#REF!=18,3,0)","v":{"$error":"#REF!"}},{"$f":"IF(#REF!=19,2,0)","v":{"$error":"#REF!"}},{"$f":"IF(#REF!=20,1,0)","v":{"$error":"#REF!"}},{"$f":"IF(#REF!>20,0,0)","v":{"$error":"#REF!"}},{"$f":"IF(#REF!=\"сх\",0,0)","v":{"$error":"#REF!"}},{"$error":"#REF!"},{"$f":"IF(#REF!=1,25,0)","v":{"$error":"#REF!"}},{"$f":"IF(#REF!=2,22,0)","v":{"$error":"#REF!"}},{"$f":"IF(#REF!=3,20,0)","v":{"$error":"#REF!"}},{"$f":"IF(#REF!=4,18,0)","v":{"$error":"#REF!"}},{"$f":"IF(#REF!=5,16,0)","v":{"$error":"#REF!"}},{"$f":"IF(#REF!=6,15,0)","v":{"$error":"#REF!"}},{"$f":"IF(#REF!=7,14,0)","v":{"$error":"#REF!"}},{"$f":"IF(#REF!=8,13,0)","v":{"$error":"#REF!"}},{"$f":"IF(#REF!=9,12,0)","v":{"$error":"#REF!"}},{"$f":"IF(#REF!=10,11,0)","v":{"$error":"#REF!"}},{"$f":"IF(#REF!=11,10,0)","v":{"$error":"#REF!"}},{"$f":"IF(#REF!=12,9,0)","v":{"$error":"#REF!"}},{"$f":"IF(#REF!=13,8,0)","v":{"$error":"#REF!"}},{"$f":"IF(#REF!=14,7,0)","v":{"$error":"#REF!"}},{"$f":"IF(#REF!=15,6,0)","v":{"$error":"#REF!"}},{"$f":"IF(#REF!=16,5,0)","v":{"$error":"#REF!"}},{"$f":"IF(#REF!=17,4,0)","v":{"$error":"#REF!"}},{"$f":"IF(#REF!=18,3,0)","v":{"$error":"#REF!"}},{"$f":"IF(#REF!=19,2,0)","v":{"$error":"#REF!"}},{"$f":"IF(#REF!=20,1,0)","v":{"$error":"#REF!"}},{"$f":"IF(#REF!>20,0,0)","v":{"$error":"#REF!"}},{"$f":"IF(#REF!=\"сх\",0,0)","v":{"$error":"#REF!"}},{"$error":"#REF!"},{"$f":"IF(#REF!=1,45,0)","v":{"$error":"#REF!"}},{"$f":"IF(#REF!=2,42,0)","v":{"$error":"#REF!"}},{"$f":"IF(#REF!=3,40,0)","v":{"$error":"#REF!"}},{"$f":"IF(#REF!=4,38,0)","v":{"$error":"#REF!"}},{"$f":"IF(#REF!=5,36,0)","v":{"$error":"#REF!"}},{"$f":"IF(#REF!=6,35,0)","v":{"$error":"#REF!"}},{"$f":"IF(#REF!=7,34,0)","v":{"$error":"#REF!"}},{"$f":"IF(#REF!=8,33,0)","v":{"$error":"#REF!"}},{"$f":"IF(#REF!=9,32,0)","v":{"$error":"#REF!"}},{"$f":"IF(#REF!=10,31,0)","v":{"$error":"#REF!"}},{"$f":"IF(#REF!=11,30,0)","v":{"$error":"#REF!"}},{"$f":"IF(#REF!=12,29,0)","v":{"$error":"#REF!"}},{"$f":"IF(#REF!=13,28,0)","v":{"$error":"#REF!"}},{"$f":"IF(#REF!=14,27,0)","v":{"$error":"#REF!"}},{"$f":"IF(#REF!=15,26,0)","v":{"$error":"#REF!"}},{"$f":"IF(#REF!=16,25,0)","v":{"$error":"#REF!"}},{"$f":"IF(#REF!=17,24,0)","v":{"$error":"#REF!"}},{"$f":"IF(#REF!=18,23,0)","v":{"$error":"#REF!"}},{"$f":"IF(#REF!=19,22,0)","v":{"$error":"#REF!"}},{"$f":"IF(#REF!=20,21,0)","v":{"$error":"#REF!"}},{"$f":"IF(#REF!=21,20,0)","v":{"$error":"#REF!"}},{"$f":"IF(#REF!=22,19,0)","v":{"$error":"#REF!"}},{"$f":"IF(#REF!=23,18,0)","v":{"$error":"#REF!"}},{"$f":"IF(#REF!=24,17,0)","v":{"$error":"#REF!"}},{"$f":"IF(#REF!=25,16,0)","v":{"$error":"#REF!"}},{"$f":"IF(#REF!=26,15,0)","v":{"$error":"#REF!"}},{"$f":"IF(#REF!=27,14,0)","v":{"$error":"#REF!"}},{"$f":"IF(#REF!=28,13,0)","v":{"$error":"#REF!"}},{"$f":"IF(#REF!=29,12,0)","v":{"$error":"#REF!"}},{"$f":"IF(#REF!=30,11,0)","v":{"$error":"#REF!"}},{"$f":"IF(#REF!=31,10,0)","v":{"$error":"#REF!"}},{"$f":"IF(#REF!=32,9,0)","v":{"$error":"#REF!"}},{"$f":"IF(#REF!=33,8,0)","v":{"$error":"#REF!"}},{"$f":"IF(#REF!=34,7,0)","v":{"$error":"#REF!"}},{"$f":"IF(#REF!=35,6,0)","v":{"$error":"#REF!"}},{"$f":"IF(#REF!=36,5,0)","v":{"$error":"#REF!"}},{"$f":"IF(#REF!=37,4,0)","v":{"$error":"#REF!"}},{"$f":"IF(#REF!=38,3,0)","v":{"$error":"#REF!"}},{"$f":"IF(#REF!=39,2,0)","v":{"$error":"#REF!"}},{"$f":"IF(#REF!=40,1,0)","v":{"$error":"#REF!"}},{"$f":"IF(#REF!>20,0,0)","v":{"$error":"#REF!"}},{"$f":"IF(#REF!=\"сх\",0,0)","v":{"$error":"#REF!"}},{"$error":"#REF!"},{"$f":"IF(#REF!=1,45,0)","v":{"$error":"#REF!"}},{"$f":"IF(#REF!=2,42,0)","v":{"$error":"#REF!"}},{"$f":"IF(#REF!=3,40,0)","v":{"$error":"#REF!"}},{"$f":"IF(#REF!=4,38,0)","v":{"$error":"#REF!"}},{"$f":"IF(#REF!=5,36,0)","v":{"$error":"#REF!"}},{"$f":"IF(#REF!=6,35,0)","v":{"$error":"#REF!"}},{"$f":"IF(#REF!=7,34,0)","v":{"$error":"#REF!"}},{"$f":"IF(#REF!=8,33,0)","v":{"$error":"#REF!"}},{"$f":"IF(#REF!=9,32,0)","v":{"$error":"#REF!"}},{"$f":"IF(#REF!=10,31,0)","v":{"$error":"#REF!"}},{"$f":"IF(#REF!=11,30,0)","v":{"$error":"#REF!"}},{"$f":"IF(#REF!=12,29,0)","v":{"$error":"#REF!"}},{"$f":"IF(#REF!=13,28,0)","v":{"$error":"#REF!"}},{"$f":"IF(#REF!=14,27,0)","v":{"$error":"#REF!"}},{"$f":"IF(#REF!=15,26,0)","v":{"$error":"#REF!"}},{"$f":"IF(#REF!=16,25,0)","v":{"$error":"#REF!"}},{"$f":"IF(#REF!=17,24,0)","v":{"$error":"#REF!"}},{"$f":"IF(#REF!=18,23,0)","v":{"$error":"#REF!"}},{"$f":"IF(#REF!=19,22,0)","v":{"$error":"#REF!"}},{"$f":"IF(#REF!=20,21,0)","v":{"$error":"#REF!"}},{"$f":"IF(#REF!=21,20,0)","v":{"$error":"#REF!"}},{"$f":"IF(#REF!=22,19,0)","v":{"$error":"#REF!"}},{"$f":"IF(#REF!=23,18,0)","v":{"$error":"#REF!"}},{"$f":"IF(#REF!=24,17,0)","v":{"$error":"#REF!"}},{"$f":"IF(#REF!=25,16,0)","v":{"$error":"#REF!"}},{"$f":"IF(#REF!=26,15,0)","v":{"$error":"#REF!"}},{"$f":"IF(#REF!=27,14,0)","v":{"$error":"#REF!"}},{"$f":"IF(#REF!=28,13,0)","v":{"$error":"#REF!"}},{"$f":"IF(#REF!=29,12,0)","v":{"$error":"#REF!"}},{"$f":"IF(#REF!=30,11,0)","v":{"$error":"#REF!"}},{"$f":"IF(#REF!=31,10,0)","v":{"$error":"#REF!"}},{"$f":"IF(#REF!=32,9,0)","v":{"$error":"#REF!"}},{"$f":"IF(#REF!=33,8,0)","v":{"$error":"#REF!"}},{"$f":"IF(#REF!=34,7,0)","v":{"$error":"#REF!"}},{"$f":"IF(#REF!=35,6,0)","v":{"$error":"#REF!"}},{"$f":"IF(#REF!=36,5,0)","v":{"$error":"#REF!"}},{"$f":"IF(#REF!=37,4,0)","v":{"$error":"#REF!"}},{"$f":"IF(#REF!=38,3,0)","v":{"$error":"#REF!"}},{"$f":"IF(#REF!=39,2,0)","v":{"$error":"#REF!"}},{"$f":"IF(#REF!=40,1,0)","v":{"$error":"#REF!"}},{"$f":"IF(#REF!>20,0,0)","v":{"$error":"#REF!"}},{"$f":"IF(#REF!=\"сх\",0,0)","v":{"$error":"#REF!"}},{"$error":"#REF!"},null,{"$f":"IF(#REF!=\"сх\",\"ноль\",IF(#REF!>0,#REF!,\"Ноль\"))","v":{"$error":"#REF!"}},{"$f":"IF(#REF!=\"сх\",\"ноль\",IF(#REF!>0,#REF!,\"Ноль\"))","v":{"$error":"#REF!"}},null,{"$error":"#REF!"},{"$f":"IF(N20=#REF!,IF(#REF!<#REF!,#REF!,FC20),#REF!)","v":{"$error":"#REF!"}},{"$f":"IF(N20=#REF!,IF(#REF!<#REF!,0,1))","v":{"$error":"#REF!"}},{"$f":"IF(AND(EX20>=21,EX20<>0),EX20,IF(N20<#REF!,\"СТОП\",EY20+EZ20))","v":{"$error":"#REF!"}},null,15,16,null,{"$f":"IF(#REF!=1,25,0)","v":{"$error":"#REF!"}},{"$f":"IF(#REF!=2,22,0)","v":{"$error":"#REF!"}},{"$f":"IF(#REF!=3,20,0)","v":{"$error":"#REF!"}},{"$f":"IF(#REF!=4,18,0)","v":{"$error":"#REF!"}},{"$f":"IF(#REF!=5,16,0)","v":{"$error":"#REF!"}},{"$f":"IF(#REF!=6,15,0)","v":{"$error":"#REF!"}},{"$f":"IF(#REF!=7,14,0)","v":{"$error":"#REF!"}},{"$f":"IF(#REF!=8,13,0)","v":{"$error":"#REF!"}},{"$f":"IF(#REF!=9,12,0)","v":{"$error":"#REF!"}},{"$f":"IF(#REF!=10,11,0)","v":{"$error":"#REF!"}},{"$f":"IF(#REF!=11,10,0)","v":{"$error":"#REF!"}},{"$f":"IF(#REF!=12,9,0)","v":{"$error":"#REF!"}},{"$f":"IF(#REF!=13,8,0)","v":{"$error":"#REF!"}},{"$f":"IF(#REF!=14,7,0)","v":{"$error":"#REF!"}},{"$f":"IF(#REF!=15,6,0)","v":{"$error":"#REF!"}},{"$f":"IF(#REF!=16,5,0)","v":{"$error":"#REF!"}},{"$f":"IF(#REF!=17,4,0)","v":{"$error":"#REF!"}},{"$f":"IF(#REF!=18,3,0)","v":{"$error":"#REF!"}},{"$f":"IF(#REF!=19,2,0)","v":{"$error":"#REF!"}},{"$f":"IF(#REF!=20,1,0)","v":{"$error":"#REF!"}},{"$f":"IF(#REF!>20,0,0)","v":{"$error":"#REF!"}},{"$f":"IF(#REF!=\"сх\",0,0)","v":{"$error":"#REF!"}},{"$error":"#REF!"},{"$f":"IF(#REF!=1,25,0)","v":{"$error":"#REF!"}},{"$f":"IF(#REF!=2,22,0)","v":{"$error":"#REF!"}},{"$f":"IF(#REF!=3,20,0)","v":{"$error":"#REF!"}},{"$f":"IF(#REF!=4,18,0)","v":{"$error":"#REF!"}},{"$f":"IF(#REF!=5,16,0)","v":{"$error":"#REF!"}},{"$f":"IF(#REF!=6,15,0)","v":{"$error":"#REF!"}},{"$f":"IF(#REF!=7,14,0)","v":{"$error":"#REF!"}},{"$f":"IF(#REF!=8,13,0)","v":{"$error":"#REF!"}},{"$f":"IF(#REF!=9,12,0)","v":{"$error":"#REF!"}},{"$f":"IF(#REF!=10,11,0)","v":{"$error":"#REF!"}},{"$f":"IF(#REF!=11,10,0)","v":{"$error":"#REF!"}},{"$f":"IF(#REF!=12,9,0)","v":{"$error":"#REF!"}},{"$f":"IF(#REF!=13,8,0)","v":{"$error":"#REF!"}},{"$f":"IF(#REF!=14,7,0)","v":{"$error":"#REF!"}},{"$f":"IF(#REF!=15,6,0)","v":{"$error":"#REF!"}},{"$f":"IF(#REF!=16,5,0)","v":{"$error":"#REF!"}},{"$f":"IF(#REF!=17,4,0)","v":{"$error":"#REF!"}},{"$f":"IF(#REF!=18,3,0)","v":{"$error":"#REF!"}},{"$f":"IF(#REF!=19,2,0)","v":{"$error":"#REF!"}},{"$f":"IF(#REF!=20,1,0)","v":{"$error":"#REF!"}},{"$f":"IF(#REF!>20,0,0)","v":{"$error":"#REF!"}},{"$f":"IF(#REF!=\"сх\",0,0)","v":{"$error":"#REF!"}},{"$error":"#REF!"},{"$f":"IF(#REF!=1,100,0)","v":{"$error":"#REF!"}},{"$f":"IF(#REF!=2,98,0)","v":{"$error":"#REF!"}},{"$f":"IF(#REF!=3,95,0)","v":{"$error":"#REF!"}},{"$f":"IF(#REF!=4,93,0)","v":{"$error":"#REF!"}},{"$f":"IF(#REF!=5,90,0)","v":{"$error":"#REF!"}},{"$f":"IF(#REF!=6,88,0)","v":{"$error":"#REF!"}},{"$f":"IF(#REF!=7,85,0)","v":{"$error":"#REF!"}},{"$f":"IF(#REF!=8,83,0)","v":{"$error":"#REF!"}},{"$f":"IF(#REF!=9,80,0)","v":{"$error":"#REF!"}},{"$f":"IF(#REF!=10,78,0)","v":{"$error":"#REF!"}},{"$f":"IF(#REF!=11,75,0)","v":{"$error":"#REF!"}},{"$f":"IF(#REF!=12,73,0)","v":{"$error":"#REF!"}},{"$f":"IF(#REF!=13,70,0)","v":{"$error":"#REF!"}},{"$f":"IF(#REF!=14,68,0)","v":{"$error":"#REF!"}},{"$f":"IF(#REF!=15,65,0)","v":{"$error":"#REF!"}},{"$f":"IF(#REF!=16,63,0)","v":{"$error":"#REF!"}},{"$f":"IF(#REF!=17,60,0)","v":{"$error":"#REF!"}},{"$f":"IF(#REF!=18,58,0)","v":{"$error":"#REF!"}},{"$f":"IF(#REF!=19,55,0)","v":{"$error":"#REF!"}},{"$f":"IF(#REF!=20,53,0)","v":{"$error":"#REF!"}},{"$f":"IF(#REF!>20,0,0)","v":{"$error":"#REF!"}},{"$f":"IF(#REF!=\"сх\",0,0)","v":{"$error":"#REF!"}},{"$error":"#REF!"},{"$f":"IF(#REF!=1,100,0)","v":{"$error":"#REF!"}},{"$f":"IF(#REF!=2,98,0)","v":{"$error":"#REF!"}},{"$f":"IF(#REF!=3,95,0)","v":{"$error":"#REF!"}},{"$f":"IF(#REF!=4,93,0)","v":{"$error":"#REF!"}},{"$f":"IF(#REF!=5,90,0)","v":{"$error":"#REF!"}},{"$f":"IF(#REF!=6,88,0)","v":{"$error":"#REF!"}},{"$f":"IF(#REF!=7,85,0)","v":{"$error":"#REF!"}},{"$f":"IF(#REF!=8,83,0)","v":{"$error":"#REF!"}},{"$f":"IF(#REF!=9,80,0)","v":{"$error":"#REF!"}},{"$f":"IF(#REF!=10,78,0)","v":{"$error":"#REF!"}},{"$f":"IF(#REF!=11,75,0)","v":{"$error":"#REF!"}},{"$f":"IF(#REF!=12,73,0)","v":{"$error":"#REF!"}},{"$f":"IF(#REF!=13,70,0)","v":{"$error":"#REF!"}},{"$f":"IF(#REF!=14,68,0)","v":{"$error":"#REF!"}},{"$f":"IF(#REF!=15,65,0)","v":{"$error":"#REF!"}},{"$f":"IF(#REF!=16,63,0)","v":{"$error":"#REF!"}},{"$f":"IF(#REF!=17,60,0)","v":{"$error":"#REF!"}},{"$f":"IF(#REF!=18,58,0)","v":{"$error":"#REF!"}},{"$f":"IF(#REF!=19,55,0)","v":{"$error":"#REF!"}},{"$f":"IF(#REF!=20,53,0)","v":{"$error":"#REF!"}},{"$f":"IF(#REF!>20,0,0)","v":{"$error":"#REF!"}},{"$f":"IF(#REF!=\"сх\",0,0)","v":{"$error":"#REF!"}},{"$error":"#REF!"}]
[]
["Главный судья соревнований"]
["судья Всероссийской категории:                                                                                                                                                                              Э. А. Иванов (г. Кострома, свидетельство МФР А 165)"]
[]
["Главный секретарь соревнований"]
["судья Всероссийской категории:                                                                                                                                                    А. Ю. Иванов (г. Москва; свидетельство МФР А 105; FIM 12089/11245)"]

{"sheet":"ВЗРОСЛЫЕ СУПЕРСПОРТ А","index":1,"n_rows":25,"n_cols":257,"rows_kept":25,"cut":false,"hidden":false,"merged":[[0,14,3,14],[3,0,3,13],[4,0,4,13],[6,0,8,0],[6,1,8,1],[6,2,8,2],[6,3,8,3],[6,4,8,4],[6,13,8,13],[6,14,8,14],[7,7,8,7],[7,8,8,8],[1,0,1,13],[2,0,2,13],[5,7,5,9],[6,7,6,8],[6,11,6,12],[7,11,8,11],[7,12,8,12],[20,0,20,6],[23,0,23,6],[6,5,8,5],[6,6,8,6],[6,9,6,10],[7,9,8,9],[7,10,8,10]]}
[]
["Чемпионат России по кроссу на снегоходах 2019 года - I-й этап."]
["ПРОТОКОЛ ЛИЧНОГО ЗАЧЕТА",null,null,null,null,null,null,null,null,null,null,null,null,null,null,null,null,null,null,null,null,null,null,null,null,null,null,null,null,null,null,null,null,null,null,null,null,null,null,null,null,null,null,null,null,null,null,null,null,null,null,null,null,null,null,null,null,null,null,null,null,null,null,null,null,null,null,null,null,null,null,null,null,null,null,null,null,null,null,null,null,null,null,null,null,null,null,null,null,null,null,null,null,null,null,null,null,null,null,null,null,null,null,null,null,null,null,null,null,null,null,null,null,null,null,null,null,null,null,null,null,null,null,null,null,null,null,null,null,null,null,null,null,null,null,null,null,null,null,null,null,null,null,null,null,null,null,null,null,null,null,null,null,null,null,null,null,null,null,null,null,null,null,null,null,null,null,null,null,null,null,null,null,"первый этап"]
["г. Волжск, Республика Марий Эл.                                                                                                                                                                                                                                         01 - 04 февраля 2019 года.",null,null,null,null,null,null,null,null,null,null,null,null,null,null,null,null,null,null,null,null,null,null,null,null,null,null,null,null,null,null,null,null,null,null,null,null,null,null,null,null,null,null,null,null,null,null,null,null,null,null,null,null,null,null,null,null,null,null,null,null,null,null,null,null,null,null,null,null,null,null,null,null,null,null,null,null,null,null,null,null,null,null,null,null,null,null,null,null,null,null,null,null,null,null,null,null,null,null,null,null,null,null,null,null,null,null,null,null,null,null,null,null,null,null,null,null,null,null,null,null,null,null,null,null,null,null,null,null,null,null,null,null,null,null,null,null,null,null,null,null,null,null,null,null,null,null,null,null,null,null,null,null,null,null,null,null,null,null,null,null,null,"первый заезд личные очки",null,null,null,null,null,null,null,null,null,null,null,null,null,null,null,null,null,null,null,null,null,"второй заезд личные очки",null,null,null,null,null,null,null,null,null,null,null,null,null,null,null,null,null,null,null,null,null,null,"Первый заезд командные очки",null,null,null,null,null,null,null,null,null,null,null,null,null,null,null,null,null,null,null,null,null,null,"Второй заезд командные очки"]
["Класс \"ВЗРОСЛЫЕ - СУПЕРСПОРТ А\" (0910203811А). ",null,null,null,null,null,null,null,null,null,null,null,null,null,null,null,null,null,null,null,null,null,null,null,null,null,null,null,null,null,null,null,null,null,null,null,null,null,null,null,null,null,null,null,null,null,null,null,null,null,null,null,null,null,null,null,null,null,null,null,null,null,null,null,null,null,null,null,null,null,null,null,null,null,null,null,null,null,null,null,null,null,null,null,null,null,null,null,null,null,null,null,null,null,null,null,null,null,null,null,null,null,null,null,null,null,null,null,null,null,null,null,null,null,null,null,null,null,null,null,null,null,null,null,null,null,null,null,null,null,null,null,null,null,null,null,null,null,null,null,null,null,null,null,null,null,null,null,null,null,null,null,null,null,null,null,null,null,null,null,null,1,2,3,4,5,6,7,8,9,10,11,12,13,14,15,16,17,18,19,20,21,"сх","Sym",1,2,3,4,5,6,7,8,9,10,11,12,13,14,15,16,17,18,19,20,21,"cx","sym",1,2,3,4,5,6,7,8,9,10,11,12,13,14,15,16,17,18,19,20,21,"сх","очки",1,2,3,4,5,6,7,8,9,10,11,12,13,14,15,16,17,18,19,20,21,"сх","очки",{"$f":"COUNT(FF5:IS5)","v":84},"Н. Стро","В. стро","место"]
[]
["Место ","Ст. №","Фамилия, Имя","Разряд","Город (край, район, область)","Команда","Марка снегохода","1-й заезд",null,"2-й заезд",null,"3-й заезд",null,"Сумма очков              в личном зачете","Сумма очк. в командном зачете"]
[null,null,null,null,null,null,null,"место","лич. очки","место","лич. очки","место","лич. очки",null,null,null,null,null,"первый заезд личные очки",null,null,null,null,null,null,null,null,null,null,null,null,null,null,null,null,null,null,null,null,null,"второй заезд личные очки",null,null,null,null,null,null,null,null,null,null,null,null,null,null,null,null,null,null,null,null,null,null,"Первый заезд командные очки",null,null,null,null,null,null,null,null,null,null,null,null,null,null,null,null,null,null,null,null,null,null,null,null,null,null,null,null,null,null,null,null,null,null,null,null,null,null,null,null,null,null,"Второй заезд командные очки",null,null,null,null,null,null,null,null,null,null,null,null,null,null,null,null,null,null,null,null,null,null,null,null,null,null,null,null,null,null,null,null,null,null,null,null,null,null,null,null,null,null,null,1,2,null,null,null,null,null,null,null,null,null,null,null,null,null,null,null,null,null,null,null,null,null,"первый этап"]
[null,null,null,null,null,null,null,null,null,null,null,null,null,null,null,null,null,1,2,3,4,5,6,7,8,9,10,11,12,13,14,15,16,17,18,19,20,21,"сх",null,1,2,3,4,5,6,7,8,9,10,11,12,13,14,15,16,17,18,19,20,null,"cx",null,1,2,3,4,5,6,7,8,9,10,11,12,13,14,15,16,17,18,19,20,21,22,23,24,25,26,27,28,29,30,31,32,33,34,35,36,37,38,39,40,null,null,null,1,2,3,4,5,6,7,8,9,10,11,12,13,14,15,16,17,18,19,20,21,22,23,24,25,26,27,28,29,30,31,32,33,34,35,36,37,38,39,40,null,null,null,null,null,null,null,"мин","Н. Стро","В. стро","место",null,"чр1","чр2",null,null,"первый заезд личные очки",null,null,null,null,null,null,null,null,null,null,null,null,null,null,null,null,null,null,null,null,null,"второй заезд личные очки",null,null,null,null,null,null,null,null,null,null,null,null,null,null,null,null,null,null,null,null,null,null,"Первый заезд командные очки",null,null,null,null,null,null,null,null,null,null,null,null,null,null,null,null,null,null,null,null,null,null,"Второй заезд командные очки"]
[1,87,"Карпман Яков","мс","г. Новый Уренгой, Ямало-Ненецкий АО","СТК \"Факел\"","LYNX",1,25,1,25,"-",0,{"$f":"SUM(I10+K10+M10)","v":50},{"$f":"#REF!+#REF!","v":{"$error":"#REF!"}},null,null,{"$f":"IF(#REF!=1,25,0)","v":{"$error":"#REF!"}},{"$f":"IF(#REF!=2,22,0)","v":{"$error":"#REF!"}},{"$f":"IF(#REF!=3,20,0)","v":{"$error":"#REF!"}},{"$f":"IF(#REF!=4,18,0)","v":{"$error":"#REF!"}},{"$f":"IF(#REF!=5,16,0)","v":{"$error":"#REF!"}},{"$f":"IF(#REF!=6,15,0)","v":{"$error":"#REF!"}},{"$f":"IF(#REF!=7,14,0)","v":{"$error":"#REF!"}},{"$f":"IF(#REF!=8,13,0)","v":{"$error":"#REF!"}},{"$f":"IF(#REF!=9,12,0)","v":{"$error":"#REF!"}},{"$f":"IF(#REF!=10,11,0)","v":{"$error":"#REF!"}},{"$f":"IF(#REF!=11,10,0)","v":{"$error":"#REF!"}},{"$f":"IF(#REF!=12,9,0)","v":{"$error":"#REF!"}},{"$f":"IF(#REF!=13,8,0)","v":{"$error":"#REF!"}},{"$f":"IF(#REF!=14,7,0)","v":{"$error":"#REF!"}},{"$f":"IF(#REF!=15,6,0)","v":{"$error":"#REF!"}},{"$f":"IF(#REF!=16,5,0)","v":{"$error":"#REF!"}},{"$f":"IF(#REF!=17,4,0)","v":{"$error":"#REF!"}},{"$f":"IF(#REF!=18,3,0)","v":{"$error":"#REF!"}},{"$f":"IF(#REF!=19,2,0)","v":{"$error":"#REF!"}},{"$f":"IF(#REF!=20,1,0)","v":{"$error":"#REF!"}},{"$f":"IF(#REF!>20,0,0)","v":{"$error":"#REF!"}},{"$f":"IF(#REF!=\"сх\",0,0)","v":{"$error":"#REF!"}},{"$f":"SUM(R10:AL10)","v":{"$error":"#REF!"}},{"$f":"IF(#REF!=1,25,0)","v":{"$error":"#REF!"}},{"$f":"IF(#REF!=2,22,0)","v":{"$error":"#REF!"}},{"$f":"IF(#REF!=3,20,0)","v":{"$error":"#REF!"}},{"$f":"IF(#REF!=4,18,0)","v":{"$error":"#REF!"}},{"$f":"IF(#REF!=5,16,0)","v":{"$error":"#REF!"}},{"$f":"IF(#REF!=6,15,0)","v":{"$error":"#REF!"}},{"$f":"IF(#REF!=7,14,0)","v":{"$error":"#REF!"}},{"$f":"IF(#REF!=8,13,0)","v":{"$error":"#REF!"}},{"$f":"IF(#REF!=9,12,0)","v":{"$error":"#REF!"}},{"$f":"IF(#REF!=10,11,0)","v":{"$error":"#REF!"}},{"$f":"IF(#REF!=11,10,0)","v":{"$error":"#REF!"}},{"$f":"IF(#REF!=12,9,0)","v":{"$error":"#REF!"}},{"$f":"IF(#REF!=13,8,0)","v":{"$error":"#REF!"}},{"$f":"IF(#REF!=14,7,0)","v":{"$error":"#REF!"}},{"$f":"IF(#REF!=15,6,0)","v":{"$error":"#REF!"}},{"$f":"IF(#REF!=16,5,0)","v":{"$error":"#REF!"}},{"$f":"IF(#REF!=17,4,0)","v":{"$error":"#REF!"}},{"$f":"IF(#REF!=18,3,0)","v":{"$error":"#REF!"}},{"$f":"IF(#REF!=19,2,0)","v":{"$error":"#REF!"}},{"$f":"IF(#REF!=20,1,0)","v":{"$error":"#REF!"}},{"$f":"IF(#REF!>20,0,0)","v":{"$error":"#REF!"}},{"$f":"IF(#REF!=\"сх\",0,0)","v":{"$error":"#REF!"}},{"$f":"SUM(AO10:BI10)","v":{"$error":"#REF!"}},{"$f":"IF(#REF!=1,45,0)","v":{"$error":"#REF!"}},{"$f":"IF(#REF!=2,42,0)","v":{"$error":"#REF!"}},{"$f":"IF(#REF!=3,40,0)","v":{"$error":"#REF!"}},{"$f":"IF(#REF!=4,38,0)","v":{"$error":"#REF!"}},{"$f":"IF(#REF!=5,36,0)","v":{"$error":"#REF!"}},{"$f":"IF(#REF!=6,35,0)","v":{"$error":"#REF!"}},{"$f":"IF(#REF!=7,34,0)","v":{"$error":"#REF!"}},{"$f":"IF(#REF!=8,33,0)","v":{"$error":"#REF!"}},{"$f":"IF(#REF!=9,32,0)","v":{"$error":"#REF!"}},{"$f":"IF(#REF!=10,31,0)","v":{"$error":"#REF!"}},{"$f":"IF(#REF!=11,30,0)","v":{"$error":"#REF!"}},{"$f":"IF(#REF!=12,29,0)","v":{"$error":"#REF!"}},{"$f":"IF(#REF!=13,28,0)","v":{"$error":"#REF!"}},{"$f":"IF(#REF!=14,27,0)","v":{"$error":"#REF!"}},{"$f":"IF(#REF!=15,26,0)","v":{"$error":"#REF!"}},{"$f":"IF(#REF!=16,25,0)","v":{"$error":"#REF!"}},{"$f":"IF(#REF!=17,24,0)","v":{"$error":"#REF!"}},{"$f":"IF(#REF!=18,23,0)","v":{"$error":"#REF!"}},{"$f":"IF(#REF!=19,22,0)","v":{"$error":"#REF!"}},{"$f":"IF(#REF!=20,21,0)","v":{"$error":"#REF!"}},{"$f":"IF(#REF!=21,20,0)","v":{"$error":"#REF!"}},{"$f":"IF(#REF!=22,19,0)","v":{"$error":"#REF!"}},{"$f":"IF(#REF!=23,18,0)","v":{"$error":"#REF!"}},{"$f":"IF(#REF!=24,17,0)","v":{"$error":"#REF!"}},{"$f":"IF(#REF!=25,16,0)","v":{"$error":"#REF!"}},{"$f":"IF(#REF!=26,15,0)","v":{"$error":"#REF!"}},{"$f":"IF(#REF!=27,14,0)","v":{"$error":"#REF!"}},{"$f":"IF(#REF!=28,13,0)","v":{"$error":"#REF!"}},{"$f":"IF(#REF!=29,12,0)","v":{"$error":"#REF!"}},{"$f":"IF(#REF!=30,11,0)","v":{"$error":"#REF!"}},{"$f":"IF(#REF!=31,10,0)","v":{"$error":"#REF!"}},{"$f":"IF(#REF!=32,9,0)","v":{"$error":"#REF!"}},{"$f":"IF(#REF!=33,8,0)","v":{"$error":"#REF!"}},{"$f":"IF(#REF!=34,7,0)","v":{"$error":"#REF!"}},{"$f":"IF(#REF!=35,6,0)","v":{"$error":"#REF!"}},{"$f":"IF(#REF!=36,5,0)","v":{"$error":"#REF!"}},{"$f":"IF(#REF!=37,4,0)","v":{"$error":"#REF!"}},{"$f":"IF(#REF!=38,3,0)","v":{"$error":"#REF!"}},{"$f":"IF(#REF!=39,2,0)","v":{"$error":"#REF!"}},{"$f":"IF(#REF!=40,1,0)","v":{"$error":"#REF!"}},{"$f":"IF(#REF!>20,0,0)","v":{"$error":"#REF!"}},{"$f":"IF(#REF!=\"сх\",0,0)","v":{"$error":"#REF!"}},{"$f":"SUM(BL10:DA10)","v":{"$error":"#REF!"}},{"$f":"IF(#REF!=1,45,0)","v":{"$error":"#REF!"}},{"$f":"IF(#REF!=2,42,0)","v":{"$error":"#REF!"}},{"$f":"IF(#REF!=3,40,0)","v":{"$error":"#REF!"}},{"$f":"IF(#REF!=4,38,0)","v":{"$error":"#REF!"}},{"$f":"IF(#REF!=5,36,0)","v":{"$error":"#REF!"}},{"$f":"IF(#REF!=6,35,0)","v":{"$error":"#REF!"}},{"$f":"IF(#REF!=7,34,0)","v":{"$error":"#REF!"}},{"$f":"IF(#REF!=8,33,0)","v":{"$error":"#REF!"}},{"$f":"IF(#REF!=9,32,0)","v":{"$error":"#REF!"}},{"$f":"IF(#REF!=10,31,0)","v":{"$error":"#REF!"}},{"$f":"IF(#REF!=11,30,0)","v":{"$error":"#REF!"}},{"$f":"IF(#REF!=12,29,0)","v":{"$error":"#REF!"}},{"$f":"IF(#REF!=13,28,0)","v":{"$error":"#REF!"}},{"$f":"IF(#REF!=14,27,0)","v":{"$error":"#REF!"}},{"$f":"IF(#REF!=15,26,0)","v":{"$error":"#REF!"}},{"$f":"IF(#REF!=16,25,0)","v":{"$error":"#REF!"}},{"$f":"IF(#REF!=17,24,0)","v":{"$error":"#REF!"}},{"$f":"IF(#REF!=18,23,0)","v":{"$error":"#REF!"}},{"$f":"IF(#REF!=19,22,0)","v":{"$error":"#REF!"}},{"$f":"IF(#REF!=20,21,0)","v":{"$error":"#REF!"}},{"$f":"IF(#REF!=21,20,0)","v":{"$error":"#REF!"}},{"$f":"IF(#REF!=22,19,0)","v":{"$error":"#REF!"}},{"$f":"IF(#REF!=23,18,0)","v":{"$error":"#REF!"}},{"$f":"IF(#REF!=24,17,0)","v":{"$error":"#REF!"}},{"$f":"IF(#REF!=25,16,0)","v":{"$error":"#REF!"}},{"$f":"IF(#REF!=26,15,0)","v":{"$error":"#REF!"}},{"$f":"IF(#REF!=27,14,0)","v":{"$error":"#REF!"}},{"$f":"IF(#REF!=28,13,0)","v":{"$error":"#REF!"}},{"$f":"IF(#REF!=29,12,0)","v":{"$error":"#REF!"}},{"$f":"IF(#REF!=30,11,0)","v":{"$error":"#REF!"}},{"$f":"IF(#REF!=31,10,0)","v":{"$error":"#REF!"}},{"$f":"IF(#REF!=32,9,0)","v":{"$error":"#REF!"}},{"$f":"IF(#REF!=33,8,0)","v":{"$error":"#REF!"}},{"$f":"IF(#REF!=34,7,0)","v":{"$error":"#REF!"}},{"$f":"IF(#REF!=35,6,0)","v":{"$error":"#REF!"}},{"$f":"IF(#REF!=36,5,0)","v":{"$error":"#REF!"}},{"$f":"IF(#REF!=37,4,0)","v":{"$error":"#REF!"}},{"$f":"IF(#REF!=38,3,0)","v":{"$error":"#REF!"}},{"$f":"IF(#REF!=39,2,0)","v":{"$error":"#REF!"}},{"$f":"IF(#REF!=40,1,0)","v":{"$error":"#REF!"}},{"$f":"IF(#REF!>20,0,0)","v":{"$error":"#REF!"}},{"$f":"IF(#REF!=\"сх\",0,0)","v":{"$error":"#REF!"}},{"$f":"SUM(DC10:ER10)","v":{"$error":"#REF!"}},null,{"$f":"IF(#REF!=\"сх\",\"ноль\",IF(#REF!>0,#REF!,\"Ноль\"))","v":{"$error":"#REF!"}},{"$f":"IF(#REF!=\"сх\",\"ноль\",IF(#REF!>0,#REF!,\"Ноль\"))","v":{"$error":"#REF!"}},null,{"$f":"MIN(EU10,EV10)","v":{"$error":"#REF!"}},{"$f":"IF(N10=#REF!,IF(#REF!<#REF!,#REF!,FC10),#REF!)","v":{"$error":"#REF!"}},{"$f":"IF(N10=#REF!,IF(#REF!<#REF!,0,1))","v":{"$error":"#REF!"}},{"$f":"IF(AND(EX10>=21,EX10<>0),EX10,IF(N10<#REF!,\"СТОП\",EY10+EZ10))","v":{"$error":"#REF!"}},null,15,16,null,{"$f":"IF(#REF!=1,25,0)","v":{"$error":"#REF!"}},{"$f":"IF(#REF!=2,22,0)","v":{"$error":"#REF!"}},{"$f":"IF(#REF!=3,20,0)","v":{"$error":"#REF!"}},{"$f":"IF(#REF!=4,18,0)","v":{"$error":"#REF!"}},{"$f":"IF(#REF!=5,16,0)","v":{"$error":"#REF!"}},{"$f":"IF(#REF!=6,15,0)","v":{"$error":"#REF!"}},{"$f":"IF(#REF!=7,14,0)","v":{"$error":"#REF!"}},{"$f":"IF(#REF!=8,13,0)","v":{"$error":"#REF!"}},{"$f":"IF(#REF!=9,12,0)","v":{"$error":"#REF!"}},{"$f":"IF(#REF!=10,11,0)","v":{"$error":"#REF!"}},{"$f":"IF(#REF!=11,10,0)","v":{"$error":"#REF!"}},{"$f":"IF(#REF!=12,9,0)","v":{"$error":"#REF!"}},{"$f":"IF(#REF!=13,8,0)","v":{"$error":"#REF!"}},{"$f":"IF(#REF!=14,7,0)","v":{"$error":"#REF!"}},{"$f":"IF(#REF!=15,6,0)","v":{"$error":"#REF!"}},{"$f":"IF(#REF!=16,5,0)","v":{"$error":"#REF!"}},{"$f":"IF(#REF!=17,4,0)","v":{"$error":"#REF!"}},{"$f":"IF(#REF!=18,3,0)","v":{"$error":"#REF!"}},{"$f":"IF(#REF!=19,2,0)","v":{"$error":"#REF!"}},{"$f":"IF(#REF!=20,1,0)","v":{"$error":"#REF!"}},{"$f":"IF(#REF!>20,0,0)","v":{"$error":"#REF!"}},{"$f":"IF(#REF!=\"сх\",0,0)","v":{"$error":"#REF!"}},{"$f":"SUM(FF10:GA10)","v":{"$error":"#REF!"}},{"$f":"IF(#REF!=1,25,0)","v":{"$error":"#REF!"}},{"$f":"IF(#REF!=2,22,0)","v":{"$error":"#REF!"}},{"$f":"IF(#REF!=3,20,0)","v":{"$error":"#REF!"}},{"$f":"IF(#REF!=4,18,0)","v":{"$error":"#REF!"}},{"$f":"IF(#REF!=5,16,0)","v":{"$error":"#REF!"}},{"$f":"IF(#REF!=6,15,0)","v":{"$error":"#REF!"}},{"$f":"IF(#REF!=7,14,0)","v":{"$error":"#REF!"}},{"$f":"IF(#REF!=8,13,0)","v":{"$error":"#REF!"}},{"$f":"IF(#REF!=9,12,0)","v":{"$error":"#REF!"}},{"$f":"IF(#REF!=10,11,0)","v":{"$error":"#REF!"}},{"$f":"IF(#REF!=11,10,0)","v":{"$error":"#REF!"}},{"$f":"IF(#REF!=12,9,0)","v":{"$error":"#REF!"}},{"$f":"IF(#REF!=13,8,0)","v":{"$error":"#REF!"}},{"$f":"IF(#REF!=14,7,0)","v":{"$error":"#REF!"}},{"$f":"IF(#REF!=15,6,0)","v":{"$error":"#REF!"}},{"$f":"IF(#REF!=16,5,0)","v":{"$error":"#REF!"}},{"$f":"IF(#REF!=17,4,0)","v":{"$error":"#REF!"}},{"$f":"IF(#REF!=18,3,0)","v":{"$error":"#REF!"}},{"$f":"IF(#REF!=19,2,0)","v":{"$error":"#REF!"}},{"$f":"IF(#REF!=20,1,0)","v":{"$error":"#REF!"}},{"$f":"IF(#REF!>20,0,0)","v":{"$error":"#REF!"}},{"$f":"IF(#REF!=\"сх\",0,0)","v":{"$error":"#REF!"}},{"$f":"SUM(GC10:GX10)","v":{"$error":"#REF!"}},{"$f":"IF(#REF!=1,100,0)","v":{"$error":"#REF!"}},{"$f":"IF(#REF!=2,98,0)","v":{"$error":"#REF!"}},{"$f":"IF(#REF!=3,95,0)","v":{"$error":"#REF!"}},{"$f":"IF(#REF!=4,93,0)","v":{"$error":"#REF!"}},{"$f":"IF(#REF!=5,90,0)","v":{"$error":"#REF!"}},{"$f":"IF(#REF!=6,88,0)","v":{"$error":"#REF!"}},{"$f":"IF(#REF!=7,85,0)","v":{"$error":"#REF!"}},{"$f":"IF(#REF!=8,83,0)","v":{"$error":"#REF!"}},{"$f":"IF(#REF!=9,80,0)","v":{"$error":"#REF!"}},{"$f":"IF(#REF!=10,78,0)","v":{"$error":"#REF!"}},{"$f":"IF(#REF!=11,75,0)","v":{"$error":"#REF!"}},{"$f":"IF(#REF!=12,73,0)","v":{"$error":"#REF!"}},{"$f":"IF(#REF!=13,70,0)","v":{"$error":"#REF!"}},{"$f":"IF(#REF!=14,68,0)","v":{"$error":"#REF!"}},{"$f":"IF(#REF!=15,65,0)","v":{"$error":"#REF!"}},{"$f":"IF(#REF!=16,63,0)","v":{"$error":"#REF!"}},{"$f":"IF(#REF!=17,60,0)","v":{"$error":"#REF!"}},{"$f":"IF(#REF!=18,58,0)","v":{"$error":"#REF!"}},{"$f":"IF(#REF!=19,55,0)","v":{"$error":"#REF!"}},{"$f":"IF(#REF!=20,53,0)","v":{"$error":"#REF!"}},{"$f":"IF(#REF!>20,0,0)","v":{"$error":"#REF!"}},{"$f":"IF(#REF!=\"сх\",0,0)","v":{"$error":"#REF!"}},{"$f":"SUM(GZ10:HU10)","v":{"$error":"#REF!"}},{"$f":"IF(#REF!=1,100,0)","v":{"$error":"#REF!"}},{"$f":"IF(#REF!=2,98,0)","v":{"$error":"#REF!"}},{"$f":"IF(#REF!=3,95,0)","v":{"$error":"#REF!"}},{"$f":"IF(#REF!=4,93,0)","v":{"$error":"#REF!"}},{"$f":"IF(#REF!=5,90,0)","v":{"$error":"#REF!"}},{"$f":"IF(#REF!=6,88,0)","v":{"$error":"#REF!"}},{"$f":"IF(#REF!=7,85,0)","v":{"$error":"#REF!"}},{"$f":"IF(#REF!=8,83,0)","v":{"$error":"#REF!"}},{"$f":"IF(#REF!=9,80,0)","v":{"$error":"#REF!"}},{"$f":"IF(#REF!=10,78,0)","v":{"$error":"#REF!"}},{"$f":"IF(#REF!=11,75,0)","v":{"$error":"#REF!"}},{"$f":"IF(#REF!=12,73,0)","v":{"$error":"#REF!"}},{"$f":"IF(#REF!=13,70,0)","v":{"$error":"#REF!"}},{"$f":"IF(#REF!=14,68,0)","v":{"$error":"#REF!"}},{"$f":"IF(#REF!=15,65,0)","v":{"$error":"#REF!"}},{"$f":"IF(#REF!=16,63,0)","v":{"$error":"#REF!"}},{"$f":"IF(#REF!=17,60,0)","v":{"$error":"#REF!"}},{"$f":"IF(#REF!=18,58,0)","v":{"$error":"#REF!"}},{"$f":"IF(#REF!=19,55,0)","v":{"$error":"#REF!"}},{"$f":"IF(#REF!=20,53,0)","v":{"$error":"#REF!"}},{"$f":"IF(#REF!>20,0,0)","v":{"$error":"#REF!"}},{"$f":"IF(#REF!=\"сх\",0,0)","v":{"$error":"#REF!"}},{"$f":"SUM(HW10:IR10)","v":{"$error":"#REF!"}}]
[2,1,"Скляров Дмитрий","мс","г. Новый Уренгой, Ямало-Ненецкий АО","СТК \"Ямбург\"","LYNX",3,20,2,22,"-",0,42]
[3,3,"Романенко Сергей","мс","г. Новый Уренгой, Ямало-Ненецкий АО","СТК \"Факел\"","SKY-DOO",4,18,5,16,"-",0,34]
[4,2,"Мартюченко Евгений","мс","г. Новый Уренгой, Ямало-Ненецкий АО","СТК \"Факел\"","Polaris",2,22,10,11,"-",0,33,{"$f":"#REF!+#REF!","v":{"$error":"#REF!"}},null,null,{"$f":"IF(#REF!=1,25,0)","v":{"$error":"#REF!"}},{"$f":"IF(#REF!=2,22,0)","v":{"$error":"#REF!"}},{"$f":"IF(#REF!=3,20,0)","v":{"$error":"#REF!"}},{"$f":"IF(#REF!=4,18,0)","v":{"$error":"#REF!"}},{"$f":"IF(#REF!=5,16,0)","v":{"$error":"#REF!"}},{"$f":"IF(#REF!=6,15,0)","v":{"$error":"#REF!"}},{"$f":"IF(#REF!=7,14,0)","v":{"$error":"#REF!"}},{"$f":"IF(#REF!=8,13,0)","v":{"$error":"#REF!"}},{"$f":"IF(#REF!=9,12,0)","v":{"$error":"#REF!"}},{"$f":"IF(#REF!=10,11,0)","v":{"$error":"#REF!"}},{"$f":"IF(#REF!=11,10,0)","v":{"$error":"#REF!"}},{"$f":"IF(#REF!=12,9,0)","v":{"$error":"#REF!"}},{"$f":"IF(#REF!=13,8,0)","v":{"$error":"#REF!"}},{"$f":"IF(#REF!=14,7,0)","v":{"$error":"#REF!"}},{"$f":"IF(#REF!=15,6,0)","v":{"$error":"#REF!"}},{"$f":"IF(#REF!=16,5,0)","v":{"$error":"#REF!"}},{"$f":"IF(#REF!=17,4,0)","v":{"$error":"#REF!"}},{"$f":"IF(#REF!=18,3,0)","v":{"$error":"#REF!"}},{"$f":"IF(#REF!=19,2,0)","v":{"$error":"#REF!"}},{"$f":"IF(#REF!=20,1,0)","v":{"$error":"#REF!"}},{"$f":"IF(#REF!>20,0,0)","v":{"$error":"#REF!"}},{"$f":"IF(#REF!=\"сх\",0,0)","v":{"$error":"#REF!"}},{"$error":"#REF!"},{"$f":"IF(#REF!=1,25,0)","v":{"$error":"#REF!"}},{"$f":"IF(#REF!=2,22,0)","v":{"$error":"#REF!"}},{"$f":"IF(#REF!=3,20,0)","v":{"$error":"#REF!"}},{"$f":"IF(#REF!=4,18,0)","v":{"$error":"#REF!"}},{"$f":"IF(#REF!=5,16,0)","v":{"$error":"#REF!"}},{"$f":"IF(#REF!=6,15,0)","v":{"$error":"#REF!"}},{"$f":"IF(#REF!=7,14,0)","v":{"$error":"#REF!"}},{"$f":"IF(#REF!=8,13,0)","v":{"$error":"#REF!"}},{"$f":"IF(#REF!=9,12,0)","v":{"$error":"#REF!"}},{"$f":"IF(#REF!=10,11,0)","v":{"$error":"#REF!"}},{"$f":"IF(#REF!=11,10,0)","v":{"$error":"#REF!"}},{"$f":"IF(#REF!=12,9,0)","v":{"$error":"#REF!"}},{"$f":"IF(#REF!=13,8,0)","v":{"$error":"#REF!"}},{"$f":"IF(#REF!=14,7,0)","v":{"$error":"#REF!"}},{"$f":"IF(#REF!=15,6,0)","v":{"$error":"#REF!"}},{"$f":"IF(#REF!=16,5,0)","v":{"$error":"#REF!"}},{"$f":"IF(#REF!=17,4,0)","v":{"$error":"#REF!"}},{"$f":"IF(#REF!=18,3,0)","v":{"$error":"#REF!"}},{"$f":"IF(#REF!=19,2,0)","v":{"$error":"#REF!"}},{"$f":"IF(#REF!=20,1,0)","v":{"$error":"#REF!"}},{"$f":"IF(#REF!>20,0,0)","v":{"$error":"#REF!"}},{"$f":"IF(#REF!=\"сх\",0,0)","v":{"$error":"#REF!"}},{"$error":"#REF!"},{"$f":"IF(#REF!=1,45,0)","v":{"$error":"#REF!"}},{"$f":"IF(#REF!=2,42,0)","v":{"$error":"#REF!"}},{"$f":"IF(#REF!=3,40,0)","v":{"$error":"#REF!"}},{"$f":"IF(#REF!=4,38,0)","v":{"$error":"#REF!"}},{"$f":"IF(#REF!=5,36,0)","v":{"$error":"#REF!"}},{"$f":"IF(#REF!=6,35,0)","v":{"$error":"#REF!"}},{"$f":"IF(#REF!=7,34,0)","v":{"$error":"#REF!"}},{"$f":"IF(#REF!=8,33,0)","v":{"$error":"#REF!"}},{"$f":"IF(#REF!=9,32,0)","v":{"$error":"#REF!"}},{"$f":"IF(#REF!=10,31,0)","v":{"$error":"#REF!"}},{"$f":"IF(#REF!=11,30,0)","v":{"$error":"#REF!"}},{"$f":"IF(#REF!=12,29,0)","v":{"$error":"#REF!"}},{"$f":"IF(#REF!=13,28,0)","v":{"$error":"#REF!"}},{"$f":"IF(#REF!=14,27,0)","v":{"$error":"#REF!"}},{"$f":"IF(#REF!=15,26,0)","v":{"$error":"#REF!"}},{"$f":"IF(#REF!=16,25,0)","v":{"$error":"#REF!"}},{"$f":"IF(#REF!=17,24,0)","v":{"$error":"#REF!"}},{"$f":"IF(#REF!=18,23,0)","v":{"$error":"#REF!"}},{"$f":"IF(#REF!=19,22,0)","v":{"$error":"#REF!"}},{"$f":"IF(#REF!=20,21,0)","v":{"$error":"#REF!"}},{"$f":"IF(#REF!=21,20,0)","v":{"$error":"#REF!"}},{"$f":"IF(#REF!=22,19,0)","v":{"$error":"#REF!"}},{"$f":"IF(#REF!=23,18,0)","v":{"$error":"#REF!"}},{"$f":"IF(#REF!=24,17,0)","v":{"$error":"#REF!"}},{"$f":"IF(#REF!=25,16,0)","v":{"$error":"#REF!"}},{"$f":"IF(#REF!=26,15,0)","v":{"$error":"#REF!"}},{"$f":"IF(#REF!=27,14,0)","v":{"$error":"#REF!"}},{"$f":"IF(#REF!=28,13,0)","v":{"$error":"#REF!"}},{"$f":"IF(#REF!=29,12,0)","v":{"$error":"#REF!"}},{"$f":"IF(#REF!=30,11,0)","v":{"$error":"#REF!"}},{"$f":"IF(#REF!=31,10,0)","v":{"$error":"#REF!"}},{"$f":"IF(#REF!=32,9,0)","v":{"$error":"#REF!"}},{"$f":"IF(#REF!=33,8,0)","v":{"$error":"#REF!"}},{"$f":"IF(#REF!=34,7,0)","v":{"$error":"#REF!"}},{"$f":"IF(#REF!=35,6,0)","v":{"$error":"#REF!"}},{"$f":"IF(#REF!=36,5,0)","v":{"$error":"#REF!"}},{"$f":"IF(#REF!=37,4,0)","v":{"$error":"#REF!"}},{"$f":"IF(#REF!=38,3,0)","v":{"$error":"#REF!"}},{"$f":"IF(#REF!=39,2,0)","v":{"$error":"#REF!"}},{"$f":"IF(#REF!=40,1,0)","v":{"$error":"#REF!"}},{"$f":"IF(#REF!>20,0,0)","v":{"$error":"#REF!"}},{"$f":"IF(#REF!=\"сх\",0,0)","v":{"$error":"#REF!"}},{"$error":"#REF!"},{"$f":"IF(#REF!=1,45,0)","v":{"$error":"#REF!"}},{"$f":"IF(#REF!=2,42,0)","v":{"$error":"#REF!"}},{"$f":"IF(#REF!=3,40,0)","v":{"$error":"#REF!"}},{"$f":"IF(#REF!=4,38,0)","v":{"$error":"#REF!"}},{"$f":"IF(#REF!=5,36,0)","v":{"$error":"#REF!"}},{"$f":"IF(#REF!=6,35,0)","v":{"$error":"#REF!"}},{"$f":"IF(#REF!=7,34,0)","v":{"$error":"#REF!"}},{"$f":"IF(#REF!=8,33,0)","v":{"$error":"#REF!"}},{"$f":"IF(#REF!=9,32,0)","v":{"$error":"#REF!"}},{"$f":"IF(#REF!=10,31,0)","v":{"$error":"#REF!"}},{"$f":"IF(#REF!=11,30,0)","v":{"$error":"#REF!"}},{"$f":"IF(#REF!=12,29,0)","v":{"$error":"#REF!"}},{"$f":"IF(#REF!=13,28,0)","v":{"$error":"#REF!"}},{"$f":"IF(#REF!=14,27,0)","v":{"$error":"#REF!"}},{"$f":"IF(#REF!=15,26,0)","v":{"$error":"#REF!"}},{"$f":"IF(#REF!=16,25,0)","v":{"$error":"#REF!"}},{"$f":"IF(#REF!=17,24,0)","v":{"$error":"#REF!"}},{"$f":"IF(#REF!=18,23,0)","v":{"$error":"#REF!"}},{"$f":"IF(#REF!=19,22,0)","v":{"$error":"#REF!"}},{"$f":"IF(#REF!=20,21,0)","v":{"$error":"#REF!"}},{"$f":"IF(#REF!=21,20,0)","v":{"$error":"#REF!"}},{"$f":"IF(#REF!=22,19,0)","v":{"$error":"#REF!"}},{"$f":"IF(#REF!=23,18,0)","v":{"$error":"#REF!"}},{"$f":"IF(#REF!=24,17,0)","v":{"$error":"#REF!"}},{"$f":"IF(#REF!=25,16,0)","v":{"$error":"#REF!"}},{"$f":"IF(#REF!=26,15,0)","v":{"$error":"#REF!"}},{"$f":"IF(#REF!=27,14,0)","v":{"$error":"#REF!"}},{"$f":"IF(#REF!=28,13,0)","v":{"$error":"#REF!"}},{"$f":"IF(#REF!=29,12,0)","v":{"$error":"#REF!"}},{"$f":"IF(#REF!=30,11,0)","v":{"$error":"#REF!"}},{"$f":"IF(#REF!=31,10,0)","v":{"$error":"#REF!"}},{"$f":"IF(#REF!=32,9,0)","v":{"$error":"#REF!"}},{"$f":"IF(#REF!=33,8,0)","v":{"$error":"#REF!"}},{"$f":"IF(#REF!=34,7,0)","v":{"$error":"#REF!"}},{"$f":"IF(#REF!=35,6,0)","v":{"$error":"#REF!"}},{"$f":"IF(#REF!=36,5,0)","v":{"$error":"#REF!"}},{"$f":"IF(#REF!=37,4,0)","v":{"$error":"#REF!"}},{"$f":"IF(#REF!=38,3,0)","v":{"$error":"#REF!"}},{"$f":"IF(#REF!=39,2,0)","v":{"$error":"#REF!"}},{"$f":"IF(#REF!=40,1,0)","v":{"$error":"#REF!"}},{"$f":"IF(#REF!>20,0,0)","v":{"$error":"#REF!"}},{"$f":"IF(#REF!=\"сх\",0,0)","v":{"$error":"#REF!"}},{"$error":"#REF!"},null,{"$f":"IF(#REF!=\"сх\",\"ноль\",IF(#REF!>0,#REF!,\"Ноль\"))","v":{"$error":"#REF!"}},{"$f":"IF(#REF!=\"сх\",\"ноль\",IF(#REF!>0,#REF!,\"Ноль\"))","v":{"$error":"#REF!"}},null,{"$error":"#REF!"},{"$f":"IF(N13=#REF!,IF(#REF!<#REF!,#REF!,FC13),#REF!)","v":{"$error":"#REF!"}},{"$f":"IF(N13=#REF!,IF(#REF!<#REF!,0,1))","v":{"$error":"#REF!"}},{"$f":"IF(AND(EX13>=21,EX13<>0),EX13,IF(N13<#REF!,\"СТОП\",EY13+EZ13))","v":{"$error":"#REF!"}},null,15,16,null,{"$f":"IF(#REF!=1,25,0)","v":{"$error":"#REF!"}},{"$f":"IF(#REF!=2,22,0)","v":{"$error":"#REF!"}},{"$f":"IF(#REF!=3,20,0)","v":{"$error":"#REF!"}},{"$f":"IF(#REF!=4,18,0)","v":{"$error":"#REF!"}},{"$f":"IF(#REF!=5,16,0)","v":{"$error":"#REF!"}},{"$f":"IF(#REF!=6,15,0)","v":{"$error":"#REF!"}},{"$f":"IF(#REF!=7,14,0)","v":{"$error":"#REF!"}},{"$f":"IF(#REF!=8,13,0)","v":{"$error":"#REF!"}},{"$f":"IF(#REF!=9,12,0)","v":{"$error":"#REF!"}},{"$f":"IF(#REF!=10,11,0)","v":{"$error":"#REF!"}},{"$f":"IF(#REF!=11,10,0)","v":{"$error":"#REF!"}},{"$f":"IF(#REF!=12,9,0)","v":{"$error":"#REF!"}},{"$f":"IF(#REF!=13,8,0)","v":{"$error":"#REF!"}},{"$f":"IF(#REF!=14,7,0)","v":{"$error":"#REF!"}},{"$f":"IF(#REF!=15,6,0)","v":{"$error":"#REF!"}},{"$f":"IF(#REF!=16,5,0)","v":{"$error":"#REF!"}},{"$f":"IF(#REF!=17,4,0)","v":{"$error":"#REF!"}},{"$f":"IF(#REF!=18,3,0)","v":{"$error":"#REF!"}},{"$f":"IF(#REF!=19,2,0)","v":{"$error":"#REF!"}},{"$f":"IF(#REF!=20,1,0)","v":{"$error":"#REF!"}},{"$f":"IF(#REF!>20,0,0)","v":{"$error":"#REF!"}},{"$f":"IF(#REF!=\"сх\",0,0)","v":{"$error":"#REF!"}},{"$error":"#REF!"},{"$f":"IF(#REF!=1,25,0)","v":{"$error":"#REF!"}},{"$f":"IF(#REF!=2,22,0)","v":{"$error":"#REF!"}},{"$f":"IF(#REF!=3,20,0)","v":{"$error":"#REF!"}},{"$f":"IF(#REF!=4,18,0)","v":{"$error":"#REF!"}},{"$f":"IF(#REF!=5,16,0)","v":{"$error":"#REF!"}},{"$f":"IF(#REF!=6,15,0)","v":{"$error":"#REF!"}},{"$f":"IF(#REF!=7,14,0)","v":{"$error":"#REF!"}},{"$f":"IF(#REF!=8,13,0)","v":{"$error":"#REF!"}},{"$f":"IF(#REF!=9,12,0)","v":{"$error":"#REF!"}},{"$f":"IF(#REF!=10,11,0)","v":{"$error":"#REF!"}},{"$f":"IF(#REF!=11,10,0)","v":{"$error":"#REF!"}},{"$f":"IF(#REF!=12,9,0)","v":{"$error":"#REF!"}},{"$f":"IF(#REF!=13,8,0)","v":{"$error":"#REF!"}},{"$f":"IF(#REF!=14,7,0)","v":{"$error":"#REF!"}},{"$f":"IF(#REF!=15,6,0)","v":{"$error":"#REF!"}},{"$f":"IF(#REF!=16,5,0)","v":{"$error":"#REF!"}},{"$f":"IF(#REF!=17,4,0)","v":{"$error":"#REF!"}},{"$f":"IF(#REF!=18,3,0)","v":{"$error":"#REF!"}},{"$f":"IF(#REF!=19,2,0)","v":{"$error":"#REF!"}},{"$f":"IF(#REF!=20,1,0)","v":{"$error":"#REF!"}},{"$f":"IF(#REF!>20,0,0)","v":{"$error":"#REF!"}},{"$f":"IF(#REF!=\"сх\",0,0)","v":{"$error":"#REF!"}},{"$error":"#REF!"},{"$f":"IF(#REF!=1,100,0)","v":{"$error":"#REF!"}},{"$f":"IF(#REF!=2,98,0)","v":{"$error":"#REF!"}},{"$f":"IF(#REF!=3,95,0)","v":{"$error":"#REF!"}},{"$f":"IF(#REF!=4,93,0)","v":{"$error":"#REF!"}},{"$f":"IF(#REF!=5,90,0)","v":{"$error":"#REF!"}},{"$f":"IF(#REF!=6,88,0)","v":{"$error":"#REF!"}},{"$f":"IF(#REF!=7,85,0)","v":{"$error":"#REF!"}},{"$f":"IF(#REF!=8,83,0)","v":{"$error":"#REF!"}},{"$f":"IF(#REF!=9,80,0)","v":{"$error":"#REF!"}},{"$f":"IF(#REF!=10,78,0)","v":{"$error":"#REF!"}},{"$f":"IF(#REF!=11,75,0)","v":{"$error":"#REF!"}},{"$f":"IF(#REF!=12,73,0)","v":{"$error":"#REF!"}},{"$f":"IF(#REF!=13,70,0)","v":{"$error":"#REF!"}},{"$f":"IF(#REF!=14,68,0)","v":{"$error":"#REF!"}},{"$f":"IF(#REF!=15,65,0)","v":{"$error":"#REF!"}},{"$f":"IF(#REF!=16,63,0)","v":{"$error":"#REF!"}},{"$f":"IF(#REF!=17,60,0)","v":{"$error":"#REF!"}},{"$f":"IF(#REF!=18,58,0)","v":{"$error":"#REF!"}},{"$f":"IF(#REF!=19,55,0)","v":{"$error":"#REF!"}},{"$f":"IF(#REF!=20,53,0)","v":{"$error":"#REF!"}},{"$f":"IF(#REF!>20,0,0)","v":{"$error":"#REF!"}},{"$f":"IF(#REF!=\"сх\",0,0)","v":{"$error":"#REF!"}},{"$error":"#REF!"},{"$f":"IF(#REF!=1,100,0)","v":{"$error":"#REF!"}},{"$f":"IF(#REF!=2,98,0)","v":{"$error":"#REF!"}},{"$f":"IF(#REF!=3,95,0)","v":{"$error":"#REF!"}},{"$f":"IF(#REF!=4,93,0)","v":{"$error":"#REF!"}},{"$f":"IF(#REF!=5,90,0)","v":{"$error":"#REF!"}},{"$f":"IF(#REF!=6,88,0)","v":{"$error":"#REF!"}},{"$f":"IF(#REF!=7,85,0)","v":{"$error":"#REF!"}},{"$f":"IF(#REF!=8,83,0)","v":{"$error":"#REF!"}},{"$f":"IF(#REF!=9,80,0)","v":{"$error":"#REF!"}},{"$f":"IF(#REF!=10,78,0)","v":{"$error":"#REF!"}},{"$f":"IF(#REF!=11,75,0)","v":{"$error":"#REF!"}},{"$f":"IF(#REF!=12,73,0)","v":{"$error":"#REF!"}},{"$f":"IF(#REF!=13,70,0)","v":{"$error":"#REF!"}},{"$f":"IF(#REF!=14,68,0)","v":{"$error":"#REF!"}},{"$f":"IF(#REF!=15,65,0)","v":{"$error":"#REF!"}},{"$f":"IF(#REF!=16,63,0)","v":{"$error":"#REF!"}},{"$f":"IF(#REF!=17,60,0)","v":{"$error":"#REF!"}},{"$f":"IF(#REF!=18,58,0)","v":{"$error":"#REF!"}},{"$f":"IF(#REF!=19,55,0)","v":{"$error":"#REF!"}},{"$f":"IF(#REF!=20,53,0)","v":{"$error":"#REF!"}},{"$f":"IF(#REF!>20,0,0)","v":{"$error":"#REF!"}},{"$f":"IF(#REF!=\"сх\",0,0)","v":{"$error":"#REF!"}},{"$error":"#REF!"}]
[5,46,"Колегов Михаил","кмс","г. Новый Уренгой, Ямало-Ненецкий АО","СТК \"Ямбург\"","LYNX",6,15,4,18,"-",0,33,{"$f":"#REF!+#REF!","v":{"$error":"#REF!"}},null,null,{"$f":"IF(#REF!=1,25,0)","v":{"$error":"#REF!"}},{"$f":"IF(#REF!=2,22,0)","v":{"$error":"#REF!"}},{"$f":"IF(#REF!=3,20,0)","v":{"$error":"#REF!"}},{"$f":"IF(#REF!=4,18,0)","v":{"$error":"#REF!"}},{"$f":"IF(#REF!=5,16,0)","v":{"$error":"#REF!"}},{"$f":"IF(#REF!=6,15,0)","v":{"$error":"#REF!"}},{"$f":"IF(#REF!=7,14,0)","v":{"$error":"#REF!"}},{"$f":"IF(#REF!=8,13,0)","v":{"$error":"#REF!"}},{"$f":"IF(#REF!=9,12,0)","v":{"$error":"#REF!"}},{"$f":"IF(#REF!=10,11,0)","v":{"$error":"#REF!"}},{"$f":"IF(#REF!=11,10,0)","v":{"$error":"#REF!"}},{"$f":"IF(#REF!=12,9,0)","v":{"$error":"#REF!"}},{"$f":"IF(#REF!=13,8,0)","v":{"$error":"#REF!"}},{"$f":"IF(#REF!=14,7,0)","v":{"$error":"#REF!"}},{"$f":"IF(#REF!=15,6,0)","v":{"$error":"#REF!"}},{"$f":"IF(#REF!=16,5,0)","v":{"$error":"#REF!"}},{"$f":"IF(#REF!=17,4,0)","v":{"$error":"#REF!"}},{"$f":"IF(#REF!=18,3,0)","v":{"$error":"#REF!"}},{"$f":"IF(#REF!=19,2,0)","v":{"$error":"#REF!"}},{"$f":"IF(#REF!=20,1,0)","v":{"$error":"#REF!"}},{"$f":"IF(#REF!>20,0,0)","v":{"$error":"#REF!"}},{"$f":"IF(#REF!=\"сх\",0,0)","v":{"$error":"#REF!"}},{"$error":"#REF!"},{"$f":"IF(#REF!=1,25,0)","v":{"$error":"#REF!"}},{"$f":"IF(#REF!=2,22,0)","v":{"$error":"#REF!"}},{"$f":"IF(#REF!=3,20,0)","v":{"$error":"#REF!"}},{"$f":"IF(#REF!=4,18,0)","v":{"$error":"#REF!"}},{"$f":"IF(#REF!=5,16,0)","v":{"$error":"#REF!"}},{"$f":"IF(#REF!=6,15,0)","v":{"$error":"#REF!"}},{"$f":"IF(#REF!=7,14,0)","v":{"$error":"#REF!"}},{"$f":"IF(#REF!=8,13,0)","v":{"$error":"#REF!"}},{"$f":"IF(#REF!=9,12,0)","v":{"$error":"#REF!"}},{"$f":"IF(#REF!=10,11,0)","v":{"$error":"#REF!"}},{"$f":"IF(#REF!=11,10,0)","v":{"$error":"#REF!"}},{"$f":"IF(#REF!=12,9,0)","v":{"$error":"#REF!"}},{"$f":"IF(#REF!=13,8,0)","v":{"$error":"#REF!"}},{"$f":"IF(#REF!=14,7,0)","v":{"$error":"#REF!"}},{"$f":"IF(#REF!=15,6,0)","v":{"$error":"#REF!"}},{"$f":"IF(#REF!=16,5,0)","v":{"$error":"#REF!"}},{"$f":"IF(#REF!=17,4,0)","v":{"$error":"#REF!"}},{"$f":"IF(#REF!=18,3,0)","v":{"$error":"#REF!"}},{"$f":"IF(#REF!=19,2,0)","v":{"$error":"#REF!"}},{"$f":"IF(#REF!=20,1,0)","v":{"$error":"#REF!"}},{"$f":"IF(#REF!>20,0,0)","v":{"$error":"#REF!"}},{"$f":"IF(#REF!=\"сх\",0,0)","v":{"$error":"#REF!"}},{"$error":"#REF!"},{"$f":"IF(#REF!=1,45,0)","v":{"$error":"#REF!"}},{"$f":"IF(#REF!=2,42,0)","v":{"$error":"#REF!"}},{"$f":"IF(#REF!=3,40,0)","v":{"$error":"#REF!"}},{"$f":"IF(#REF!=4,38,0)","v":{"$error":"#REF!"}},{"$f":"IF(#REF!=5,36,0)","v":{"$error":"#REF!"}},{"$f":"IF(#REF!=6,35,0)","v":{"$error":"#REF!"}},{"$f":"IF(#REF!=7,34,0)","v":{"$error":"#REF!"}},{"$f":"IF(#REF!=8,33,0)","v":{"$error":"#REF!"}},{"$f":"IF(#REF!=9,32,0)","v":{"$error":"#REF!"}},{"$f":"IF(#REF!=10,31,0)","v":{"$error":"#REF!"}},{"$f":"IF(#REF!=11,30,0)","v":{"$error":"#REF!"}},{"$f":"IF(#REF!=12,29,0)","v":{"$error":"#REF!"}},{"$f":"IF(#REF!=13,28,0)","v":{"$error":"#REF!"}},{"$f":"IF(#REF!=14,27,0)","v":{"$error":"#REF!"}},{"$f":"IF(#REF!=15,26,0)","v":{"$error":"#REF!"}},{"$f":"IF(#REF!=16,25,0)","v":{"$error":"#REF!"}},{"$f":"IF(#REF!=17,24,0)","v":{"$error":"#REF!"}},{"$f":"IF(#REF!=18,23,0)","v":{"$error":"#REF!"}},{"$f":"IF(#REF!=19,22,0)","v":{"$error":"#REF!"}},{"$f":"IF(#REF!=20,21,0)","v":{"$error":"#REF!"}},{"$f":"IF(#REF!=21,20,0)","v":{"$error":"#REF!"}},{"$f":"IF(#REF!=22,19,0)","v":{"$error":"#REF!"}},{"$f":"IF(#REF!=23,18,0)","v":{"$error":"#REF!"}},{"$f":"IF(#REF!=24,17,0)","v":{"$error":"#REF!"}},{"$f":"IF(#REF!=25,16,0)","v":{"$error":"#REF!"}},{"$f":"IF(#REF!=26,15,0)","v":{"$error":"#REF!"}},{"$f":"IF(#REF!=27,14,0)","v":{"$error":"#REF!"}},{"$f":"IF(#REF!=28,13,0)","v":{"$error":"#REF!"}},{"$f":"IF(#REF!=29,12,0)","v":{"$error":"#REF!"}},{"$f":"IF(#REF!=30,11,0)","v":{"$error":"#REF!"}},{"$f":"IF(#REF!=31,10,0)","v":{"$error":"#REF!"}},{"$f":"IF(#REF!=32,9,0)","v":{"$error":"#REF!"}},{"$f":"IF(#REF!=33,8,0)","v":{"$error":"#REF!"}},{"$f":"IF(#REF!=34,7,0)","v":{"$error":"#REF!"}},{"$f":"IF(#REF!=35,6,0)","v":{"$error":"#REF!"}},{"$f":"IF(#REF!=36,5,0)","v":{"$error":"#REF!"}},{"$f":"IF(#REF!=37,4,0)","v":{"$error":"#REF!"}},{"$f":"IF(#REF!=38,3,0)","v":{"$error":"#REF!"}},{"$f":"IF(#REF!=39,2,0)","v":{"$error":"#REF!"}},{"$f":"IF(#REF!=40,1,0)","v":{"$error":"#REF!"}},{"$f":"IF(#REF!>20,0,0)","v":{"$error":"#REF!"}},{"$f":"IF(#REF!=\"сх\",0,0)","v":{"$error":"#REF!"}},{"$error":"#REF!"},{"$f":"IF(#REF!=1,45,0)","v":{"$error":"#REF!"}},{"$f":"IF(#REF!=2,42,0)","v":{"$error":"#REF!"}},{"$f":"IF(#REF!=3,40,0)","v":{"$error":"#REF!"}},{"$f":"IF(#REF!=4,38,0)","v":{"$error":"#REF!"}},{"$f":"IF(#REF!=5,36,0)","v":{"$error":"#REF!"}},{"$f":"IF(#REF!=6,35,0)","v":{"$error":"#REF!"}},{"$f":"IF(#REF!=7,34,0)","v":{"$error":"#REF!"}},{"$f":"IF(#REF!=8,33,0)","v":{"$error":"#REF!"}},{"$f":"IF(#REF!=9,32,0)","v":{"$error":"#REF!"}},{"$f":"IF(#REF!=10,31,0)","v":{"$error":"#REF!"}},{"$f":"IF(#REF!=11,30,0)","v":{"$error":"#REF!"}},{"$f":"IF(#REF!=12,29,0)","v":{"$error":"#REF!"}},{"$f":"IF(#REF!=13,28,0)","v":{"$error":"#REF!"}},{"$f":"IF(#REF!=14,27,0)","v":{"$error":"#REF!"}},{"$f":"IF(#REF!=15,26,0)","v":{"$error":"#REF!"}},{"$f":"IF(#REF!=16,25,0)","v":{"$error":"#REF!"}},{"$f":"IF(#REF!=17,24,0)","v":{"$error":"#REF!"}},{"$f":"IF(#REF!=18,23,0)","v":{"$error":"#REF!"}},{"$f":"IF(#REF!=19,22,0)","v":{"$error":"#REF!"}},{"$f":"IF(#REF!=20,21,0)","v":{"$error":"#REF!"}},{"$f":"IF(#REF!=21,20,0)","v":{"$error":"#REF!"}},{"$f":"IF(#REF!=22,19,0)","v":{"$error":"#REF!"}},{"$f":"IF(#REF!=23,18,0)","v":{"$error":"#REF!"}},{"$f":"IF(#REF!=24,17,0)","v":{"$error":"#REF!"}},{"$f":"IF(#REF!=25,16,0)","v":{"$error":"#REF!"}},{"$f":"IF(#REF!=26,15,0)","v":{"$error":"#REF!"}},{"$f":"IF(#REF!=27,14,0)","v":{"$error":"#REF!"}},{"$f":"IF(#REF!=28,13,0)","v":{"$error":"#REF!"}},{"$f":"IF(#REF!=29,12,0)","v":{"$error":"#REF!"}},{"$f":"IF(#REF!=30,11,0)","v":{"$error":"#REF!"}},{"$f":"IF(#REF!=31,10,0)","v":{"$error":"#REF!"}},{"$f":"IF(#REF!=32,9,0)","v":{"$error":"#REF!"}},{"$f":"IF(#REF!=33,8,0)","v":{"$error":"#REF!"}},{"$f":"IF(#REF!=34,7,0)","v":{"$error":"#REF!"}},{"$f":"IF(#REF!=35,6,0)","v":{"$error":"#REF!"}},{"$f":"IF(#REF!=36,5,0)","v":{"$error":"#REF!"}},{"$f":"IF(#REF!=37,4,0)","v":{"$error":"#REF!"}},{"$f":"IF(#REF!=38,3,0)","v":{"$error":"#REF!"}},{"$f":"IF(#REF!=39,2,0)","v":{"$error":"#REF!"}},{"$f":"IF(#REF!=40,1,0)","v":{"$error":"#REF!"}},{"$f":"IF(#REF!>20,0,0)","v":{"$error":"#REF!"}},{"$f":"IF(#REF!=\"сх\",0,0)","v":{"$error":"#REF!"}},{"$error":"#REF!"},null,{"$f":"IF(#REF!=\"сх\",\"ноль\",IF(#REF!>0,#REF!,\"Ноль\"))","v":{"$error":"#REF!"}},{"$f":"IF(#REF!=\"сх\",\"ноль\",IF(#REF!>0,#REF!,\"Ноль\"))","v":{"$error":"#REF!"}},null,{"$error":"#REF!"},{"$f":"IF(N14=#REF!,IF(#REF!<#REF!,#REF!,FC14),#REF!)","v":{"$error":"#REF!"}},{"$f":"IF(N14=#REF!,IF(#REF!<#REF!,0,1))","v":{"$error":"#REF!"}},{"$f":"IF(AND(EX14>=21,EX14<>0),EX14,IF(N14<#REF!,\"СТОП\",EY14+EZ14))","v":{"$error":"#REF!"}},null,15,16,null,{"$f":"IF(#REF!=1,25,0)","v":{"$error":"#REF!"}},{"$f":"IF(#REF!=2,22,0)","v":{"$error":"#REF!"}},{"$f":"IF(#REF!=3,20,0)","v":{"$error":"#REF!"}},{"$f":"IF(#REF!=4,18,0)","v":{"$error":"#REF!"}},{"$f":"IF(#REF!=5,16,0)","v":{"$error":"#REF!"}},{"$f":"IF(#REF!=6,15,0)","v":{"$error":"#REF!"}},{"$f":"IF(#REF!=7,14,0)","v":{"$error":"#REF!"}},{"$f":"IF(#REF!=8,13,0)","v":{"$error":"#REF!"}},{"$f":"IF(#REF!=9,12,0)","v":{"$error":"#REF!"}},{"$f":"IF(#REF!=10,11,0)","v":{"$error":"#REF!"}},{"$f":"IF(#REF!=11,10,0)","v":{"$error":"#REF!"}},{"$f":"IF(#REF!=12,9,0)","v":{"$error":"#REF!"}},{"$f":"IF(#REF!=13,8,0)","v":{"$error":"#REF!"}},{"$f":"IF(#REF!=14,7,0)","v":{"$error":"#REF!"}},{"$f":"IF(#REF!=15,6,0)","v":{"$error":"#REF!"}},{"$f":"IF(#REF!=16,5,0)","v":{"$error":"#REF!"}},{"$f":"IF(#REF!=17,4,0)","v":{"$error":"#REF!"}},{"$f":"IF(#REF!=18,3,0)","v":{"$error":"#REF!"}},{"$f":"IF(#REF!=19,2,0)","v":{"$error":"#REF!"}},{"$f":"IF(#REF!=20,1,0)","v":{"$error":"#REF!"}},{"$f":"IF(#REF!>20,0,0)","v":{"$error":"#REF!"}},{"$f":"IF(#REF!=\"сх\",0,0)","v":{"$error":"#REF!"}},{"$error":"#REF!"},{"$f":"IF(#REF!=1,25,0)","v":{"$error":"#REF!"}},{"$f":"IF(#REF!=2,22,0)","v":{"$error":"#REF!"}},{"$f":"IF(#REF!=3,20,0)","v":{"$error":"#REF!"}},{"$f":"IF(#REF!=4,18,0)","v":{"$error":"#REF!"}},{"$f":"IF(#REF!=5,16,0)","v":{"$error":"#REF!"}},{"$f":"IF(#REF!=6,15,0)","v":{"$error":"#REF!"}},{"$f":"IF(#REF!=7,14,0)","v":{"$error":"#REF!"}},{"$f":"IF(#REF!=8,13,0)","v":{"$error":"#REF!"}},{"$f":"IF(#REF!=9,12,0)","v":{"$error":"#REF!"}},{"$f":"IF(#REF!=10,11,0)","v":{"$error":"#REF!"}},{"$f":"IF(#REF!=11,10,0)","v":{"$error":"#REF!"}},{"$f":"IF(#REF!=12,9,0)","v":{"$error":"#REF!"}},{"$f":"IF(#REF!=13,8,0)","v":{"$error":"#REF!"}},{"$f":"IF(#REF!=14,7,0)","v":{"$error":"#REF!"}},{"$f":"IF(#REF!=15,6,0)","v":{"$error":"#REF!"}},{"$f":"IF(#REF!=16,5,0)","v":{"$error":"#REF!"}},{"$f":"IF(#REF!=17,4,0)","v":{"$error":"#REF!"}},{"$f":"IF(#REF!=18,3,0)","v":{"$error":"#REF!"}},{"$f":"IF(#REF!=19,2,0)","v":{"$error":"#REF!"}},{"$f":"IF(#REF!=20,1,0)","v":{"$error":"#REF!"}},{"$f":"IF(#REF!>20,0,0)","v":{"$error":"#REF!"}},{"$f":"IF(#REF!=\"сх\",0,0)","v":{"$error":"#REF!"}},{"$error":"#REF!"},{"$f":"IF(#REF!=1,100,0)","v":{"$error":"#REF!"}},{"$f":"IF(#REF!=2,98,0)","v":{"$error":"#REF!"}},{"$f":"IF(#REF!=3,95,0)","v":{"$error":"#REF!"}},{"$f":"IF(#REF!=4,93,0)","v":{"$error":"#REF!"}},{"$f":"IF(#REF!=5,90,0)","v":{"$error":"#REF!"}},{"$f":"IF(#REF!=6,88,0)","v":{"$error":"#REF!"}},{"$f":"IF(#REF!=7,85,0)","v":{"$error":"#REF!"}},{"$f":"IF(#REF!=8,83,0)","v":{"$error":"#REF!"}},{"$f":"IF(#REF!=9,80,0)","v":{"$error":"#REF!"}},{"$f":"IF(#REF!=10,78,0)","v":{"$error":"#REF!"}},{"$f":"IF(#REF!=11,75,0)","v":{"$error":"#REF!"}},{"$f":"IF(#REF!=12,73,0)","v":{"$error":"#REF!"}},{"$f":"IF(#REF!=13,70,0)","v":{"$error":"#REF!"}},{"$f":"IF(#REF!=14,68,0)","v":{"$error":"#REF!"}},{"$f":"IF(#REF!=15,65,0)","v":{"$error":"#REF!"}},{"$f":"IF(#REF!=16,63,0)","v":{"$error":"#REF!"}},{"$f":"IF(#REF!=17,60,0)","v":{"$error":"#REF!"}},{"$f":"IF(#REF!=18,58,0)","v":{"$error":"#REF!"}},{"$f":"IF(#REF!=19,55,0)","v":{"$error":"#REF!"}},{"$f":"IF(#REF!=20,53,0)","v":{"$error":"#REF!"}},{"$f":"IF(#REF!>20,0,0)","v":{"$error":"#REF!"}},{"$f":"IF(#REF!=\"сх\",0,0)","v":{"$error":"#REF!"}},{"$error":"#REF!"},{"$f":"IF(#REF!=1,100,0)","v":{"$error":"#REF!"}},{"$f":"IF(#REF!=2,98,0)","v":{"$error":"#REF!"}},{"$f":"IF(#REF!=3,95,0)","v":{"$error":"#REF!"}},{"$f":"IF(#REF!=4,93,0)","v":{"$error":"#REF!"}},{"$f":"IF(#REF!=5,90,0)","v":{"$error":"#REF!"}},{"$f":"IF(#REF!=6,88,0)","v":{"$error":"#REF!"}},{"$f":"IF(#REF!=7,85,0)","v":{"$error":"#REF!"}},{"$f":"IF(#REF!=8,83,0)","v":{"$error":"#REF!"}},{"$f":"IF(#REF!=9,80,0)","v":{"$error":"#REF!"}},{"$f":"IF(#REF!=10,78,0)","v":{"$error":"#REF!"}},{"$f":"IF(#REF!=11,75,0)","v":{"$error":"#REF!"}},{"$f":"IF(#REF!=12,73,0)","v":{"$error":"#REF!"}},{"$f":"IF(#REF!=13,70,0)","v":{"$error":"#REF!"}},{"$f":"IF(#REF!=14,68,0)","v":{"$error":"#REF!"}},{"$f":"IF(#REF!=15,65,0)","v":{"$error":"#REF!"}},{"$f":"IF(#REF!=16,63,0)","v":{"$error":"#REF!"}},{"$f":"IF(#REF!=17,60,0)","v":{"$error":"#REF!"}},{"$f":"IF(#REF!=18,58,0)","v":{"$error":"#REF!"}},{"$f":"IF(#REF!=19,55,0)","v":{"$error":"#REF!"}},{"$f":"IF(#REF!=20,53,0)","v":{"$error":"#REF!"}},{"$f":"IF(#REF!>20,0,0)","v":{"$error":"#REF!"}},{"$f":"IF(#REF!=\"сх\",0,0)","v":{"$error":"#REF!"}},{"$error":"#REF!"}]
[6,23,"Знайдюк Александр","кмс","г. Новый Уренгой, Ямало-Ненецкий АО","СТК \"Факел\"","SKI-DOO",5,16,7,14,"-",0,30,{"$f":"#REF!+#REF!","v":{"$error":"#REF!"}},null,null,{"$f":"IF(#REF!=1,25,0)","v":{"$error":"#REF!"}},{"$f":"IF(#REF!=2,22,0)","v":{"$error":"#REF!"}},{"$f":"IF(#REF!=3,20,0)","v":{"$error":"#REF!"}},{"$f":"IF(#REF!=4,18,0)","v":{"$error":"#REF!"}},{"$f":"IF(#REF!=5,16,0)","v":{"$error":"#REF!"}},{"$f":"IF(#REF!=6,15,0)","v":{"$error":"#REF!"}},{"$f":"IF(#REF!=7,14,0)","v":{"$error":"#REF!"}},{"$f":"IF(#REF!=8,13,0)","v":{"$error":"#REF!"}},{"$f":"IF(#REF!=9,12,0)","v":{"$error":"#REF!"}},{"$f":"IF(#REF!=10,11,0)","v":{"$error":"#REF!"}},{"$f":"IF(#REF!=11,10,0)","v":{"$error":"#REF!"}},{"$f":"IF(#REF!=12,9,0)","v":{"$error":"#REF!"}},{"$f":"IF(#REF!=13,8,0)","v":{"$error":"#REF!"}},{"$f":"IF(#REF!=14,7,0)","v":{"$error":"#REF!"}},{"$f":"IF(#REF!=15,6,0)","v":{"$error":"#REF!"}},{"$f":"IF(#REF!=16,5,0)","v":{"$error":"#REF!"}},{"$f":"IF(#REF!=17,4,0)","v":{"$error":"#REF!"}},{"$f":"IF(#REF!=18,3,0)","v":{"$error":"#REF!"}},{"$f":"IF(#REF!=19,2,0)","v":{"$error":"#REF!"}},{"$f":"IF(#REF!=20,1,0)","v":{"$error":"#REF!"}},{"$f":"IF(#REF!>20,0,0)","v":{"$error":"#REF!"}},{"$f":"IF(#REF!=\"сх\",0,0)","v":{"$error":"#REF!"}},{"$error":"#REF!"},{"$f":"IF(#REF!=1,25,0)","v":{"$error":"#REF!"}},{"$f":"IF(#REF!=2,22,0)","v":{"$error":"#REF!"}},{"$f":"IF(#REF!=3,20,0)","v":{"$error":"#REF!"}},{"$f":"IF(#REF!=4,18,0)","v":{"$error":"#REF!"}},{"$f":"IF(#REF!=5,16,0)","v":{"$error":"#REF!"}},{"$f":"IF(#REF!=6,15,0)","v":{"$error":"#REF!"}},{"$f":"IF(#REF!=7,14,0)","v":{"$error":"#REF!"}},{"$f":"IF(#REF!=8,13,0)","v":{"$error":"#REF!"}},{"$f":"IF(#REF!=9,12,0)","v":{"$error":"#REF!"}},{"$f":"IF(#REF!=10,11,0)","v":{"$error":"#REF!"}},{"$f":"IF(#REF!=11,10,0)","v":{"$error":"#REF!"}},{"$f":"IF(#REF!=12,9,0)","v":{"$error":"#REF!"}},{"$f":"IF(#REF!=13,8,0)","v":{"$error":"#REF!"}},{"$f":"IF(#REF!=14,7,0)","v":{"$error":"#REF!"}},{"$f":"IF(#REF!=15,6,0)","v":{"$error":"#REF!"}},{"$f":"IF(#REF!=16,5,0)","v":{"$error":"#REF!"}},{"$f":"IF(#REF!=17,4,0)","v":{"$error":"#REF!"}},{"$f":"IF(#REF!=18,3,0)","v":{"$error":"#REF!"}},{"$f":"IF(#REF!=19,2,0)","v":{"$error":"#REF!"}},{"$f":"IF(#REF!=20,1,0)","v":{"$error":"#REF!"}},{"$f":"IF(#REF!>20,0,0)","v":{"$error":"#REF!"}},{"$f":"IF(#REF!=\"сх\",0,0)","v":{"$error":"#REF!"}},{"$error":"#REF!"},{"$f":"IF(#REF!=1,45,0)","v":{"$error":"#REF!"}},{"$f":"IF(#REF!=2,42,0)","v":{"$error":"#REF!"}},{"$f":"IF(#REF!=3,40,0)","v":{"$error":"#REF!"}},{"$f":"IF(#REF!=4,38,0)","v":{"$error":"#REF!"}},{"$f":"IF(#REF!=5,36,0)","v":{"$error":"#REF!"}},{"$f":"IF(#REF!=6,35,0)","v":{"$error":"#REF!"}},{"$f":"IF(#REF!=7,34,0)","v":{"$error":"#REF!"}},{"$f":"IF(#REF!=8,33,0)","v":{"$error":"#REF!"}},{"$f":"IF(#REF!=9,32,0)","v":{"$error":"#REF!"}},{"$f":"IF(#REF!=10,31,0)","v":{"$error":"#REF!"}},{"$f":"IF(#REF!=11,30,0)","v":{"$error":"#REF!"}},{"$f":"IF(#REF!=12,29,0)","v":{"$error":"#REF!"}},{"$f":"IF(#REF!=13,28,0)","v":{"$error":"#REF!"}},{"$f":"IF(#REF!=14,27,0)","v":{"$error":"#REF!"}},{"$f":"IF(#REF!=15,26,0)","v":{"$error":"#REF!"}},{"$f":"IF(#REF!=16,25,0)","v":{"$error":"#REF!"}},{"$f":"IF(#REF!=17,24,0)","v":{"$error":"#REF!"}},{"$f":"IF(#REF!=18,23,0)","v":{"$error":"#REF!"}},{"$f":"IF(#REF!=19,22,0)","v":{"$error":"#REF!"}},{"$f":"IF(#REF!=20,21,0)","v":{"$error":"#REF!"}},{"$f":"IF(#REF!=21,20,0)","v":{"$error":"#REF!"}},{"$f":"IF(#REF!=22,19,0)","v":{"$error":"#REF!"}},{"$f":"IF(#REF!=23,18,0)","v":{"$error":"#REF!"}},{"$f":"IF(#REF!=24,17,0)","v":{"$error":"#REF!"}},{"$f":"IF(#REF!=25,16,0)","v":{"$error":"#REF!"}},{"$f":"IF(#REF!=26,15,0)","v":{"$error":"#REF!"}},{"$f":"IF(#REF!=27,14,0)","v":{"$error":"#REF!"}},{"$f":"IF(#REF!=28,13,0)","v":{"$error":"#REF!"}},{"$f":"IF(#REF!=29,12,0)","v":{"$error":"#REF!"}},{"$f":"IF(#REF!=30,11,0)","v":{"$error":"#REF!"}},{"$f":"IF(#REF!=31,10,0)","v":{"$error":"#REF!"}},{"$f":"IF(#REF!=32,9,0)","v":{"$error":"#REF!"}},{"$f":"IF(#REF!=33,8,0)","v":{"$error":"#REF!"}},{"$f":"IF(#REF!=34,7,0)","v":{"$error":"#REF!"}},{"$f":"IF(#REF!=35,6,0)","v":{"$error":"#REF!"}},{"$f":"IF(#REF!=36,5,0)","v":{"$error":"#REF!"}},{"$f":"IF(#REF!=37,4,0)","v":{"$error":"#REF!"}},{"$f":"IF(#REF!=38,3,0)","v":{"$error":"#REF!"}},{"$f":"IF(#REF!=39,2,0)","v":{"$error":"#REF!"}},{"$f":"IF(#REF!=40,1,0)","v":{"$error":"#REF!"}},{"$f":"IF(#REF!>20,0,0)","v":{"$error":"#REF!"}},{"$f":"IF(#REF!=\"сх\",0,0)","v":{"$error":"#REF!"}},{"$error":"#REF!"},{"$f":"IF(#REF!=1,45,0)","v":{"$error":"#REF!"}},{"$f":"IF(#REF!=2,42,0)","v":{"$error":"#REF!"}},{"$f":"IF(#REF!=3,40,0)","v":{"$error":"#REF!"}},{"$f":"IF(#REF!=4,38,0)","v":{"$error":"#REF!"}},{"$f":"IF(#REF!=5,36,0)","v":{"$error":"#REF!"}},{"$f":"IF(#REF!=6,35,0)","v":{"$error":"#REF!"}},{"$f":"IF(#REF!=7,34,0)","v":{"$error":"#REF!"}},{"$f":"IF(#REF!=8,33,0)","v":{"$error":"#REF!"}},{"$f":"IF(#REF!=9,32,0)","v":{"$error":"#REF!"}},{"$f":"IF(#REF!=10,31,0)","v":{"$error":"#REF!"}},{"$f":"IF(#REF!=11,30,0)","v":{"$error":"#REF!"}},{"$f":"IF(#REF!=12,29,0)","v":{"$error":"#REF!"}},{"$f":"IF(#REF!=13,28,0)","v":{"$error":"#REF!"}},{"$f":"IF(#REF!=14,27,0)","v":{"$error":"#REF!"}},{"$f":"IF(#REF!=15,26,0)","v":{"$error":"#REF!"}},{"$f":"IF(#REF!=16,25,0)","v":{"$error":"#REF!"}},{"$f":"IF(#REF!=17,24,0)","v":{"$error":"#REF!"}},{"$f":"IF(#REF!=18,23,0)","v":{"$error":"#REF!"}},{"$f":"IF(#REF!=19,22,0)","v":{"$error":"#REF!"}},{"$f":"IF(#REF!=20,21,0)","v":{"$error":"#REF!"}},{"$f":"IF(#REF!=21,20,0)","v":{"$error":"#REF!"}},{"$f":"IF(#REF!=22,19,0)","v":{"$error":"#REF!"}},{"$f":"IF(#REF!=23,18,0)","v":{"$error":"#REF!"}},{"$f":"IF(#REF!=24,17,0)","v":{"$error":"#REF!"}},{"$f":"IF(#REF!=25,16,0)","v":{"$error":"#REF!"}},{"$f":"IF(#REF!=26,15,0)","v":{"$error":"#REF!"}},{"$f":"IF(#REF!=27,14,0)","v":{"$error":"#REF!"}},{"$f":"IF(#REF!=28,13,0)","v":{"$error":"#REF!"}},{"$f":"IF(#REF!=29,12,0)","v":{"$error":"#REF!"}},{"$f":"IF(#REF!=30,11,0)","v":{"$error":"#REF!"}},{"$f":"IF(#REF!=31,10,0)","v":{"$error":"#REF!"}},{"$f":"IF(#REF!=32,9,0)","v":{"$error":"#REF!"}},{"$f":"IF(#REF!=33,8,0)","v":{"$error":"#REF!"}},{"$f":"IF(#REF!=34,7,0)","v":{"$error":"#REF!"}},{"$f":"IF(#REF!=35,6,0)","v":{"$error":"#REF!"}},{"$f":"IF(#REF!=36,5,0)","v":{"$error":"#REF!"}},{"$f":"IF(#REF!=37,4,0)","v":{"$error":"#REF!"}},{"$f":"IF(#REF!=38,3,0)","v":{"$error":"#REF!"}},{"$f":"IF(#REF!=39,2,0)","v":{"$error":"#REF!"}},{"$f":"IF(#REF!=40,1,0)","v":{"$error":"#REF!"}},{"$f":"IF(#REF!>20,0,0)","v":{"$error":"#REF!"}},{"$f":"IF(#REF!=\"сх\",0,0)","v":{"$error":"#REF!"}},{"$error":"#REF!"},null,{"$f":"IF(#REF!=\"сх\",\"ноль\",IF(#REF!>0,#REF!,\"Ноль\"))","v":{"$error":"#REF!"}},{"$f":"IF(#REF!=\"сх\",\"ноль\",IF(#REF!>0,#REF!,\"Ноль\"))","v":{"$error":"#REF!"}},null,{"$error":"#REF!"},{"$f":"IF(N15=#REF!,IF(#REF!<#REF!,#REF!,FC15),#REF!)","v":{"$error":"#REF!"}},{"$f":"IF(N15=#REF!,IF(#REF!<#REF!,0,1))","v":{"$error":"#REF!"}},{"$f":"IF(AND(EX15>=21,EX15<>0),EX15,IF(N15<#REF!,\"СТОП\",EY15+EZ15))","v":{"$error":"#REF!"}},null,15,16,null,{"$f":"IF(#REF!=1,25,0)","v":{"$error":"#REF!"}},{"$f":"IF(#REF!=2,22,0)","v":{"$error":"#REF!"}},{"$f":"IF(#REF!=3,20,0)","v":{"$error":"#REF!"}},{"$f":"IF(#REF!=4,18,0)","v":{"$error":"#REF!"}},{"$f":"IF(#REF!=5,16,0)","v":{"$error":"#REF!"}},{"$f":"IF(#REF!=6,15,0)","v":{"$error":"#REF!"}},{"$f":"IF(#REF!=7,14,0)","v":{"$error":"#REF!"}},{"$f":"IF(#REF!=8,13,0)","v":{"$error":"#REF!"}},{"$f":"IF(#REF!=9,12,0)","v":{"$error":"#REF!"}},{"$f":"IF(#REF!=10,11,0)","v":{"$error":"#REF!"}},{"$f":"IF(#REF!=11,10,0)","v":{"$error":"#REF!"}},{"$f":"IF(#REF!=12,9,0)","v":{"$error":"#REF!"}},{"$f":"IF(#REF!=13,8,0)","v":{"$error":"#REF!"}},{"$f":"IF(#REF!=14,7,0)","v":{"$error":"#REF!"}},{"$f":"IF(#REF!=15,6,0)","v":{"$error":"#REF!"}},{"$f":"IF(#REF!=16,5,0)","v":{"$error":"#REF!"}},{"$f":"IF(#REF!=17,4,0)","v":{"$error":"#REF!"}},{"$f":"IF(#REF!=18,3,0)","v":{"$error":"#REF!"}},{"$f":"IF(#REF!=19,2,0)","v":{"$error":"#REF!"}},{"$f":"IF(#REF!=20,1,0)","v":{"$error":"#REF!"}},{"$f":"IF(#REF!>20,0,0)","v":{"$error":"#REF!"}},{"$f":"IF(#REF!=\"сх\",0,0)","v":{"$error":"#REF!"}},{"$error":"#REF!"},{"$f":"IF(#REF!=1,25,0)","v":{"$error":"#REF!"}},{"$f":"IF(#REF!=2,22,0)","v":{"$error":"#REF!"}},{"$f":"IF(#REF!=3,20,0)","v":{"$error":"#REF!"}},{"$f":"IF(#REF!=4,18,0)","v":{"$error":"#REF!"}},{"$f":"IF(#REF!=5,16,0)","v":{"$error":"#REF!"}},{"$f":"IF(#REF!=6,15,0)","v":{"$error":"#REF!"}},{"$f":"IF(#REF!=7,14,0)","v":{"$error":"#REF!"}},{"$f":"IF(#REF!=8,13,0)","v":{"$error":"#REF!"}},{"$f":"IF(#REF!=9,12,0)","v":{"$error":"#REF!"}},{"$f":"IF(#REF!=10,11,0)","v":{"$error":"#REF!"}},{"$f":"IF(#REF!=11,10,0)","v":{"$error":"#REF!"}},{"$f":"IF(#REF!=12,9,0)","v":{"$error":"#REF!"}},{"$f":"IF(#REF!=13,8,0)","v":{"$error":"#REF!"}},{"$f":"IF(#REF!=14,7,0)","v":{"$error":"#REF!"}},{"$f":"IF(#REF!=15,6,0)","v":{"$error":"#REF!"}},{"$f":"IF(#REF!=16,5,0)","v":{"$error":"#REF!"}},{"$f":"IF(#REF!=17,4,0)","v":{"$error":"#REF!"}},{"$f":"IF(#REF!=18,3,0)","v":{"$error":"#REF!"}},{"$f":"IF(#REF!=19,2,0)","v":{"$error":"#REF!"}},{"$f":"IF(#REF!=20,1,0)","v":{"$error":"#REF!"}},{"$f":"IF(#REF!>20,0,0)","v":{"$error":"#REF!"}},{"$f":"IF(#REF!=\"сх\",0,0)","v":{"$error":"#REF!"}},{"$error":"#REF!"},{"$f":"IF(#REF!=1,100,0)","v":{"$error":"#REF!"}},{"$f":"IF(#REF!=2,98,0)","v":{"$error":"#REF!"}},{"$f":"IF(#REF!=3,95,0)","v":{"$error":"#REF!"}},{"$f":"IF(#REF!=4,93,0)","v":{"$error":"#REF!"}},{"$f":"IF(#REF!=5,90,0)","v":{"$error":"#REF!"}},{"$f":"IF(#REF!=6,88,0)","v":{"$error":"#REF!"}},{"$f":"IF(#REF!=7,85,0)","v":{"$error":"#REF!"}},{"$f":"IF(#REF!=8,83,0)","v":{"$error":"#REF!"}},{"$f":"IF(#REF!=9,80,0)","v":{"$error":"#REF!"}},{"$f":"IF(#REF!=10,78,0)","v":{"$error":"#REF!"}},{"$f":"IF(#REF!=11,75,0)","v":{"$error":"#REF!"}},{"$f":"IF(#REF!=12,73,0)","v":{"$error":"#REF!"}},{"$f":"IF(#REF!=13,70,0)","v":{"$error":"#REF!"}},{"$f":"IF(#REF!=14,68,0)","v":{"$error":"#REF!"}},{"$f":"IF(#REF!=15,65,0)","v":{"$error":"#REF!"}},{"$f":"IF(#REF!=16,63,0)","v":{"$error":"#REF!"}},{"$f":"IF(#REF!=17,60,0)","v":{"$error":"#REF!"}},{"$f":"IF(#REF!=18,58,0)","v":{"$error":"#REF!"}},{"$f":"IF(#REF!=19,55,0)","v":{"$error":"#REF!"}},{"$f":"IF(#REF!=20,53,0)","v":{"$error":"#REF!"}},{"$f":"IF(#REF!>20,0,0)","v":{"$error":"#REF!"}},{"$f":"IF(#REF!=\"сх\",0,0)","v":{"$error":"#REF!"}},{"$error":"#REF!"},{"$f":"IF(#REF!=1,100,0)","v":{"$error":"#REF!"}},{"$f":"IF(#REF!=2,98,0)","v":{"$error":"#REF!"}},{"$f":"IF(#REF!=3,95,0)","v":{"$error":"#REF!"}},{"$f":"IF(#REF!=4,93,0)","v":{"$error":"#REF!"}},{"$f":"IF(#REF!=5,90,0)","v":{"$error":"#REF!"}},{"$f":"IF(#REF!=6,88,0)","v":{"$error":"#REF!"}},{"$f":"IF(#REF!=7,85,0)","v":{"$error":"#REF!"}},{"$f":"IF(#REF!=8,83,0)","v":{"$error":"#REF!"}},{"$f":"IF(#REF!=9,80,0)","v":{"$error":"#REF!"}},{"$f":"IF(#REF!=10,78,0)","v":{"$error":"#REF!"}},{"$f":"IF(#REF!=11,75,0)","v":{"$error":"#REF!"}},{"$f":"IF(#REF!=12,73,0)","v":{"$error":"#REF!"}},{"$f":"IF(#REF!=13,70,0)","v":{"$error":"#REF!"}},{"$f":"IF(#REF!=14,68,0)","v":{"$error":"#REF!"}},{"$f":"IF(#REF!=15,65,0)","v":{"$error":"#REF!"}},{"$f":"IF(#REF!=16,63,0)","v":{"$error":"#REF!"}},{"$f":"IF(#REF!=17,60,0)","v":{"$error":"#REF!"}},{"$f":"IF(#REF!=18,58,0)","v":{"$error":"#REF!"}},{"$f":"IF(#REF!=19,55,0)","v":{"$error":"#REF!"}},{"$f":"IF(#REF!=20,53,0)","v":{"$error":"#REF!"}},{"$f":"IF(#REF!>20,0,0)","v":{"$error":"#REF!"}},{"$f":"IF(#REF!=\"сх\",0,0)","v":{"$error":"#REF!"}},{"$error":"#REF!"}]
[7,13,"Довбуш Евгений","I","г. Новый Уренгой, Ямало-Ненецкий АО","СТК \"Факел\"","SKI-DOO",8,13,6,15,"-",0,28,{"$f":"#REF!+#REF!","v":{"$error":"#REF!"}},null,null,{"$f":"IF(#REF!=1,25,0)","v":{"$error":"#REF!"}},{"$f":"IF(#REF!=2,22,0)","v":{"$error":"#REF!"}},{"$f":"IF(#REF!=3,20,0)","v":{"$error":"#REF!"}},{"$f":"IF(#REF!=4,18,0)","v":{"$error":"#REF!"}},{"$f":"IF(#REF!=5,16,0)","v":{"$error":"#REF!"}},{"$f":"IF(#REF!=6,15,0)","v":{"$error":"#REF!"}},{"$f":"IF(#REF!=7,14,0)","v":{"$error":"#REF!"}},{"$f":"IF(#REF!=8,13,0)","v":{"$error":"#REF!"}},{"$f":"IF(#REF!=9,12,0)","v":{"$error":"#REF!"}},{"$f":"IF(#REF!=10,11,0)","v":{"$error":"#REF!"}},{"$f":"IF(#REF!=11,10,0)","v":{"$error":"#REF!"}},{"$f":"IF(#REF!=12,9,0)","v":{"$error":"#REF!"}},{"$f":"IF(#REF!=13,8,0)","v":{"$error":"#REF!"}},{"$f":"IF(#REF!=14,7,0)","v":{"$error":"#REF!"}},{"$f":"IF(#REF!=15,6,0)","v":{"$error":"#REF!"}},{"$f":"IF(#REF!=16,5,0)","v":{"$error":"#REF!"}},{"$f":"IF(#REF!=17,4,0)","v":{"$error":"#REF!"}},{"$f":"IF(#REF!=18,3,0)","v":{"$error":"#REF!"}},{"$f":"IF(#REF!=19,2,0)","v":{"$error":"#REF!"}},{"$f":"IF(#REF!=20,1,0)","v":{"$error":"#REF!"}},{"$f":"IF(#REF!>20,0,0)","v":{"$error":"#REF!"}},{"$f":"IF(#REF!=\"сх\",0,0)","v":{"$error":"#REF!"}},{"$error":"#REF!"},{"$f":"IF(#REF!=1,25,0)","v":{"$error":"#REF!"}},{"$f":"IF(#REF!=2,22,0)","v":{"$error":"#REF!"}},{"$f":"IF(#REF!=3,20,0)","v":{"$error":"#REF!"}},{"$f":"IF(#REF!=4,18,0)","v":{"$error":"#REF!"}},{"$f":"IF(#REF!=5,16,0)","v":{"$error":"#REF!"}},{"$f":"IF(#REF!=6,15,0)","v":{"$error":"#REF!"}},{"$f":"IF(#REF!=7,14,0)","v":{"$error":"#REF!"}},{"$f":"IF(#REF!=8,13,0)","v":{"$error":"#REF!"}},{"$f":"IF(#REF!=9,12,0)","v":{"$error":"#REF!"}},{"$f":"IF(#REF!=10,11,0)","v":{"$error":"#REF!"}},{"$f":"IF(#REF!=11,10,0)","v":{"$error":"#REF!"}},{"$f":"IF(#REF!=12,9,0)","v":{"$error":"#REF!"}},{"$f":"IF(#REF!=13,8,0)","v":{"$error":"#REF!"}},{"$f":"IF(#REF!=14,7,0)","v":{"$error":"#REF!"}},{"$f":"IF(#REF!=15,6,0)","v":{"$error":"#REF!"}},{"$f":"IF(#REF!=16,5,0)","v":{"$error":"#REF!"}},{"$f":"IF(#REF!=17,4,0)","v":{"$error":"#REF!"}},{"$f":"IF(#REF!=18,3,0)","v":{"$error":"#REF!"}},{"$f":"IF(#REF!=19,2,0)","v":{"$error":"#REF!"}},{"$f":"IF(#REF!=20,1,0)","v":{"$error":"#REF!"}},{"$f":"IF(#REF!>20,0,0)","v":{"$error":"#REF!"}},{"$f":"IF(#REF!=\"сх\",0,0)","v":{"$error":"#REF!"}},{"$error":"#REF!"},{"$f":"IF(#REF!=1,45,0)","v":{"$error":"#REF!"}},{"$f":"IF(#REF!=2,42,0)","v":{"$error":"#REF!"}},{"$f":"IF(#REF!=3,40,0)","v":{"$error":"#REF!"}},{"$f":"IF(#REF!=4,38,0)","v":{"$error":"#REF!"}},{"$f":"IF(#REF!=5,36,0)","v":{"$error":"#REF!"}},{"$f":"IF(#REF!=6,35,0)","v":{"$error":"#REF!"}},{"$f":"IF(#REF!=7,34,0)","v":{"$error":"#REF!"}},{"$f":"IF(#REF!=8,33,0)","v":{"$error":"#REF!"}},{"$f":"IF(#REF!=9,32,0)","v":{"$error":"#REF!"}},{"$f":"IF(#REF!=10,31,0)","v":{"$error":"#REF!"}},{"$f":"IF(#REF!=11,30,0)","v":{"$error":"#REF!"}},{"$f":"IF(#REF!=12,29,0)","v":{"$error":"#REF!"}},{"$f":"IF(#REF!=13,28,0)","v":{"$error":"#REF!"}},{"$f":"IF(#REF!=14,27,0)","v":{"$error":"#REF!"}},{"$f":"IF(#REF!=15,26,0)","v":{"$error":"#REF!"}},{"$f":"IF(#REF!=16,25,0)","v":{"$error":"#REF!"}},{"$f":"IF(#REF!=17,24,0)","v":{"$error":"#REF!"}},{"$f":"IF(#REF!=18,23,0)","v":{"$error":"#REF!"}},{"$f":"IF(#REF!=19,22,0)","v":{"$error":"#REF!"}},{"$f":"IF(#REF!=20,21,0)","v":{"$error":"#REF!"}},{"$f":"IF(#REF!=21,20,0)","v":{"$error":"#REF!"}},{"$f":"IF(#REF!=22,19,0)","v":{"$error":"#REF!"}},{"$f":"IF(#REF!=23,18,0)","v":{"$error":"#REF!"}},{"$f":"IF(#REF!=24,17,0)","v":{"$error":"#REF!"}},{"$f":"IF(#REF!=25,16,0)","v":{"$error":"#REF!"}},{"$f":"IF(#REF!=26,15,0)","v":{"$error":"#REF!"}},{"$f":"IF(#REF!=27,14,0)","v":{"$error":"#REF!"}},{"$f":"IF(#REF!=28,13,0)","v":{"$error":"#REF!"}},{"$f":"IF(#REF!=29,12,0)","v":{"$error":"#REF!"}},{"$f":"IF(#REF!=30,11,0)","v":{"$error":"#REF!"}},{"$f":"IF(#REF!=31,10,0)","v":{"$error":"#REF!"}},{"$f":"IF(#REF!=32,9,0)","v":{"$error":"#REF!"}},{"$f":"IF(#REF!=33,8,0)","v":{"$error":"#REF!"}},{"$f":"IF(#REF!=34,7,0)","v":{"$error":"#REF!"}},{"$f":"IF(#REF!=35,6,0)","v":{"$error":"#REF!"}},{"$f":"IF(#REF!=36,5,0)","v":{"$error":"#REF!"}},{"$f":"IF(#REF!=37,4,0)","v":{"$error":"#REF!"}},{"$f":"IF(#REF!=38,3,0)","v":{"$error":"#REF!"}},{"$f":"IF(#REF!=39,2,0)","v":{"$error":"#REF!"}},{"$f":"IF(#REF!=40,1,0)","v":{"$error":"#REF!"}},{"$f":"IF(#REF!>20,0,0)","v":{"$error":"#REF!"}},{"$f":"IF(#REF!=\"сх\",0,0)","v":{"$error":"#REF!"}},{"$error":"#REF!"},{"$f":"IF(#REF!=1,45,0)","v":{"$error":"#REF!"}},{"$f":"IF(#REF!=2,42,0)","v":{"$error":"#REF!"}},{"$f":"IF(#REF!=3,40,0)","v":{"$error":"#REF!"}},{"$f":"IF(#REF!=4,38,0)","v":{"$error":"#REF!"}},{"$f":"IF(#REF!=5,36,0)","v":{"$error":"#REF!"}},{"$f":"IF(#REF!=6,35,0)","v":{"$error":"#REF!"}},{"$f":"IF(#REF!=7,34,0)","v":{"$error":"#REF!"}},{"$f":"IF(#REF!=8,33,0)","v":{"$error":"#REF!"}},{"$f":"IF(#REF!=9,32,0)","v":{"$error":"#REF!"}},{"$f":"IF(#REF!=10,31,0)","v":{"$error":"#REF!"}},{"$f":"IF(#REF!=11,30,0)","v":{"$error":"#REF!"}},{"$f":"IF(#REF!=12,29,0)","v":{"$error":"#REF!"}},{"$f":"IF(#REF!=13,28,0)","v":{"$error":"#REF!"}},{"$f":"IF(#REF!=14,27,0)","v":{"$error":"#REF!"}},{"$f":"IF(#REF!=15,26,0)","v":{"$error":"#REF!"}},{"$f":"IF(#REF!=16,25,0)","v":{"$error":"#REF!"}},{"$f":"IF(#REF!=17,24,0)","v":{"$error":"#REF!"}},{"$f":"IF(#REF!=18,23,0)","v":{"$error":"#REF!"}},{"$f":"IF(#REF!=19,22,0)","v":{"$error":"#REF!"}},{"$f":"IF(#REF!=20,21,0)","v":{"$error":"#REF!"}},{"$f":"IF(#REF!=21,20,0)","v":{"$error":"#REF!"}},{"$f":"IF(#REF!=22,19,0)","v":{"$error":"#REF!"}},{"$f":"IF(#REF!=23,18,0)","v":{"$error":"#REF!"}},{"$f":"IF(#REF!=24,17,0)","v":{"$error":"#REF!"}},{"$f":"IF(#REF!=25,16,0)","v":{"$error":"#REF!"}},{"$f":"IF(#REF!=26,15,0)","v":{"$error":"#REF!"}},{"$f":"IF(#REF!=27,14,0)","v":{"$error":"#REF!"}},{"$f":"IF(#REF!=28,13,0)","v":{"$error":"#REF!"}},{"$f":"IF(#REF!=29,12,0)","v":{"$error":"#REF!"}},{"$f":"IF(#REF!=30,11,0)","v":{"$error":"#REF!"}},{"$f":"IF(#REF!=31,10,0)","v":{"$error":"#REF!"}},{"$f":"IF(#REF!=32,9,0)","v":{"$error":"#REF!"}},{"$f":"IF(#REF!=33,8,0)","v":{"$error":"#REF!"}},{"$f":"IF(#REF!=34,7,0)","v":{"$error":"#REF!"}},{"$f":"IF(#REF!=35,6,0)","v":{"$error":"#REF!"}},{"$f":"IF(#REF!=36,5,0)","v":{"$error":"#REF!"}},{"$f":"IF(#REF!=37,4,0)","v":{"$error":"#REF!"}},{"$f":"IF(#REF!=38,3,0)","v":{"$error":"#REF!"}},{"$f":"IF(#REF!=39,2,0)","v":{"$error":"#REF!"}},{"$f":"IF(#REF!=40,1,0)","v":{"$error":"#REF!"}},{"$f":"IF(#REF!>20,0,0)","v":{"$error":"#REF!"}},{"$f":"IF(#REF!=\"сх\",0,0)","v":{"$error":"#REF!"}},{"$error":"#REF!"},null,{"$f":"IF(#REF!=\"сх\",\"ноль\",IF(#REF!>0,#REF!,\"Ноль\"))","v":{"$error":"#REF!"}},{"$f":"IF(#REF!=\"сх\",\"ноль\",IF(#REF!>0,#REF!,\"Ноль\"))","v":{"$error":"#REF!"}},null,{"$error":"#REF!"},{"$f":"IF(N16=#REF!,IF(#REF!<#REF!,#REF!,FC16),#REF!)","v":{"$error":"#REF!"}},{"$f":"IF(N16=#REF!,IF(#REF!<#REF!,0,1))","v":{"$error":"#REF!"}},{"$f":"IF(AND(EX16>=21,EX16<>0),EX16,IF(N16<#REF!,\"СТОП\",EY16+EZ16))","v":{"$error":"#REF!"}},null,15,16,null,{"$f":"IF(#REF!=1,25,0)","v":{"$error":"#REF!"}},{"$f":"IF(#REF!=2,22,0)","v":{"$error":"#REF!"}},{"$f":"IF(#REF!=3,20,0)","v":{"$error":"#REF!"}},{"$f":"IF(#REF!=4,18,0)","v":{"$error":"#REF!"}},{"$f":"IF(#REF!=5,16,0)","v":{"$error":"#REF!"}},{"$f":"IF(#REF!=6,15,0)","v":{"$error":"#REF!"}},{"$f":"IF(#REF!=7,14,0)","v":{"$error":"#REF!"}},{"$f":"IF(#REF!=8,13,0)","v":{"$error":"#REF!"}},{"$f":"IF(#REF!=9,12,0)","v":{"$error":"#REF!"}},{"$f":"IF(#REF!=10,11,0)","v":{"$error":"#REF!"}},{"$f":"IF(#REF!=11,10,0)","v":{"$error":"#REF!"}},{"$f":"IF(#REF!=12,9,0)","v":{"$error":"#REF!"}},{"$f":"IF(#REF!=13,8,0)","v":{"$error":"#REF!"}},{"$f":"IF(#REF!=14,7,0)","v":{"$error":"#REF!"}},{"$f":"IF(#REF!=15,6,0)","v":{"$error":"#REF!"}},{"$f":"IF(#REF!=16,5,0)","v":{"$error":"#REF!"}},{"$f":"IF(#REF!=17,4,0)","v":{"$error":"#REF!"}},{"$f":"IF(#REF!=18,3,0)","v":{"$error":"#REF!"}},{"$f":"IF(#REF!=19,2,0)","v":{"$error":"#REF!"}},{"$f":"IF(#REF!=20,1,0)","v":{"$error":"#REF!"}},{"$f":"IF(#REF!>20,0,0)","v":{"$error":"#REF!"}},{"$f":"IF(#REF!=\"сх\",0,0)","v":{"$error":"#REF!"}},{"$error":"#REF!"},{"$f":"IF(#REF!=1,25,0)","v":{"$error":"#REF!"}},{"$f":"IF(#REF!=2,22,0)","v":{"$error":"#REF!"}},{"$f":"IF(#REF!=3,20,0)","v":{"$error":"#REF!"}},{"$f":"IF(#REF!=4,18,0)","v":{"$error":"#REF!"}},{"$f":"IF(#REF!=5,16,0)","v":{"$error":"#REF!"}},{"$f":"IF(#REF!=6,15,0)","v":{"$error":"#REF!"}},{"$f":"IF(#REF!=7,14,0)","v":{"$error":"#REF!"}},{"$f":"IF(#REF!=8,13,0)","v":{"$error":"#REF!"}},{"$f":"IF(#REF!=9,12,0)","v":{"$error":"#REF!"}},{"$f":"IF(#REF!=10,11,0)","v":{"$error":"#REF!"}},{"$f":"IF(#REF!=11,10,0)","v":{"$error":"#REF!"}},{"$f":"IF(#REF!=12,9,0)","v":{"$error":"#REF!"}},{"$f":"IF(#REF!=13,8,0)","v":{"$error":"#REF!"}},{"$f":"IF(#REF!=14,7,0)","v":{"$error":"#REF!"}},{"$f":"IF(#REF!=15,6,0)","v":{"$error":"#REF!"}},{"$f":"IF(#REF!=16,5,0)","v":{"$error":"#REF!"}},{"$f":"IF(#REF!=17,4,0)","v":{"$error":"#REF!"}},{"$f":"IF(#REF!=18,3,0)","v":{"$error":"#REF!"}},{"$f":"IF(#REF!=19,2,0)","v":{"$error":"#REF!"}},{"$f":"IF(#REF!=20,1,0)","v":{"$error":"#REF!"}},{"$f":"IF(#REF!>20,0,0)","v":{"$error":"#REF!"}},{"$f":"IF(#REF!=\"сх\",0,0)","v":{"$error":"#REF!"}},{"$error":"#REF!"},{"$f":"IF(#REF!=1,100,0)","v":{"$error":"#REF!"}},{"$f":"IF(#REF!=2,98,0)","v":{"$error":"#REF!"}},{"$f":"IF(#REF!=3,95,0)","v":{"$error":"#REF!"}},{"$f":"IF(#REF!=4,93,0)","v":{"$error":"#REF!"}},{"$f":"IF(#REF!=5,90,0)","v":{"$error":"#REF!"}},{"$f":"IF(#REF!=6,88,0)","v":{"$error":"#REF!"}},{"$f":"IF(#REF!=7,85,0)","v":{"$error":"#REF!"}},{"$f":"IF(#REF!=8,83,0)","v":{"$error":"#REF!"}},{"$f":"IF(#REF!=9,80,0)","v":{"$error":"#REF!"}},{"$f":"IF(#REF!=10,78,0)","v":{"$error":"#REF!"}},{"$f":"IF(#REF!=11,75,0)","v":{"$error":"#REF!"}},{"$f":"IF(#REF!=12,73,0)","v":{"$error":"#REF!"}},{"$f":"IF(#REF!=13,70,0)","v":{"$error":"#REF!"}},{"$f":"IF(#REF!=14,68,0)","v":{"$error":"#REF!"}},{"$f":"IF(#REF!=15,65,0)","v":{"$error":"#REF!"}},{"$f":"IF(#REF!=16,63,0)","v":{"$error":"#REF!"}},{"$f":"IF(#REF!=17,60,0)","v":{"$error":"#REF!"}},{"$f":"IF(#REF!=18,58,0)","v":{"$error":"#REF!"}},{"$f":"IF(#REF!=19,55,0)","v":{"$error":"#REF!"}},{"$f":"IF(#REF!=20,53,0)","v":{"$error":"#REF!"}},{"$f":"IF(#REF!>20,0,0)","v":{"$error":"#REF!"}},{"$f":"IF(#REF!=\"сх\",0,0)","v":{"$error":"#REF!"}},{"$error":"#REF!"},{"$f":"IF(#REF!=1,100,0)","v":{"$error":"#REF!"}},{"$f":"IF(#REF!=2,98,0)","v":{"$error":"#REF!"}},{"$f":"IF(#REF!=3,95,0)","v":{"$error":"#REF!"}},{"$f":"IF(#REF!=4,93,0)","v":{"$error":"#REF!"}},{"$f":"IF(#REF!=5,90,0)","v":{"$error":"#REF!"}},{"$f":"IF(#REF!=6,88,0)","v":{"$error":"#REF!"}},{"$f":"IF(#REF!=7,85,0)","v":{"$error":"#REF!"}},{"$f":"IF(#REF!=8,83,0)","v":{"$error":"#REF!"}},{"$f":"IF(#REF!=9,80,0)","v":{"$error":"#REF!"}},{"$f":"IF(#REF!=10,78,0)","v":{"$error":"#REF!"}},{"$f":"IF(#REF!=11,75,0)","v":{"$error":"#REF!"}},{"$f":"IF(#REF!=12,73,0)","v":{"$error":"#REF!"}},{"$f":"IF(#REF!=13,70,0)","v":{"$error":"#REF!"}},{"$f":"IF(#REF!=14,68,0)","v":{"$error":"#REF!"}},{"$f":"IF(#REF!=15,65,0)","v":{"$error":"#REF!"}},{"$f":"IF(#REF!=16,63,0)","v":{"$error":"#REF!"}},{"$f":"IF(#REF!=17,60,0)","v":{"$error":"#REF!"}},{"$f":"IF(#REF!=18,58,0)","v":{"$error":"#REF!"}},{"$f":"IF(#REF!=19,55,0)","v":{"$error":"#REF!"}},{"$f":"IF(#REF!=20,53,0)","v":{"$error":"#REF!"}},{"$f":"IF(#REF!>20,0,0)","v":{"$error":"#REF!"}},{"$f":"IF(#REF!=\"сх\",0,0)","v":{"$error":"#REF!"}},{"$error":"#REF!"}]
[8,5,"Санин Константин","кмс","г. Новый Уренгой, Ямало-Ненецкий АО","СТК \"Факел\"","ARCTIC CAT",7,11,8,13,"-",0,24,{"$f":"#REF!+#REF!","v":{"$error":"#REF!"}},null,null,{"$f":"IF(#REF!=1,25,0)","v":{"$error":"#REF!"}},{"$f":"IF(#REF!=2,22,0)","v":{"$error":"#REF!"}},{"$f":"IF(#REF!=3,20,0)","v":{"$error":"#REF!"}},{"$f":"IF(#REF!=4,18,0)","v":{"$error":"#REF!"}},{"$f":"IF(#REF!=5,16,0)","v":{"$error":"#REF!"}},{"$f":"IF(#REF!=6,15,0)","v":{"$error":"#REF!"}},{"$f":"IF(#REF!=7,14,0)","v":{"$error":"#REF!"}},{"$f":"IF(#REF!=8,13,0)","v":{"$error":"#REF!"}},{"$f":"IF(#REF!=9,12,0)","v":{"$error":"#REF!"}},{"$f":"IF(#REF!=10,11,0)","v":{"$error":"#REF!"}},{"$f":"IF(#REF!=11,10,0)","v":{"$error":"#REF!"}},{"$f":"IF(#REF!=12,9,0)","v":{"$error":"#REF!"}},{"$f":"IF(#REF!=13,8,0)","v":{"$error":"#REF!"}},{"$f":"IF(#REF!=14,7,0)","v":{"$error":"#REF!"}},{"$f":"IF(#REF!=15,6,0)","v":{"$error":"#REF!"}},{"$f":"IF(#REF!=16,5,0)","v":{"$error":"#REF!"}},{"$f":"IF(#REF!=17,4,0)","v":{"$error":"#REF!"}},{"$f":"IF(#REF!=18,3,0)","v":{"$error":"#REF!"}},{"$f":"IF(#REF!=19,2,0)","v":{"$error":"#REF!"}},{"$f":"IF(#REF!=20,1,0)","v":{"$error":"#REF!"}},{"$f":"IF(#REF!>20,0,0)","v":{"$error":"#REF!"}},{"$f":"IF(#REF!=\"сх\",0,0)","v":{"$error":"#REF!"}},{"$f":"SUM(R17:AL17)","v":{"$error":"#REF!"}},{"$f":"IF(#REF!=1,25,0)","v":{"$error":"#REF!"}},{"$f":"IF(#REF!=2,22,0)","v":{"$error":"#REF!"}},{"$f":"IF(#REF!=3,20,0)","v":{"$error":"#REF!"}},{"$f":"IF(#REF!=4,18,0)","v":{"$error":"#REF!"}},{"$f":"IF(#REF!=5,16,0)","v":{"$error":"#REF!"}},{"$f":"IF(#REF!=6,15,0)","v":{"$error":"#REF!"}},{"$f":"IF(#REF!=7,14,0)","v":{"$error":"#REF!"}},{"$f":"IF(#REF!=8,13,0)","v":{"$error":"#REF!"}},{"$f":"IF(#REF!=9,12,0)","v":{"$error":"#REF!"}},{"$f":"IF(#REF!=10,11,0)","v":{"$error":"#REF!"}},{"$f":"IF(#REF!=11,10,0)","v":{"$error":"#REF!"}},{"$f":"IF(#REF!=12,9,0)","v":{"$error":"#REF!"}},{"$f":"IF(#REF!=13,8,0)","v":{"$error":"#REF!"}},{"$f":"IF(#REF!=14,7,0)","v":{"$error":"#REF!"}},{"$f":"IF(#REF!=15,6,0)","v":{"$error":"#REF!"}},{"$f":"IF(#REF!=16,5,0)","v":{"$error":"#REF!"}},{"$f":"IF(#REF!=17,4,0)","v":{"$error":"#REF!"}},{"$f":"IF(#REF!=18,3,0)","v":{"$error":"#REF!"}},{"$f":"IF(#REF!=19,2,0)","v":{"$error":"#REF!"}},{"$f":"IF(#REF!=20,1,0)","v":{"$error":"#REF!"}},{"$f":"IF(#REF!>20,0,0)","v":{"$error":"#REF!"}},{"$f":"IF(#REF!=\"сх\",0,0)","v":{"$error":"#REF!"}},{"$f":"SUM(AO17:BI17)","v":{"$error":"#REF!"}},{"$f":"IF(#REF!=1,45,0)","v":{"$error":"#REF!"}},{"$f":"IF(#REF!=2,42,0)","v":{"$error":"#REF!"}},{"$f":"IF(#REF!=3,40,0)","v":{"$error":"#REF!"}},{"$f":"IF(#REF!=4,38,0)","v":{"$error":"#REF!"}},{"$f":"IF(#REF!=5,36,0)","v":{"$error":"#REF!"}},{"$f":"IF(#REF!=6,35,0)","v":{"$error":"#REF!"}},{"$f":"IF(#REF!=7,34,0)","v":{"$error":"#REF!"}},{"$f":"IF(#REF!=8,33,0)","v":{"$error":"#REF!"}},{"$f":"IF(#REF!=9,32,0)","v":{"$error":"#REF!"}},{"$f":"IF(#REF!=10,31,0)","v":{"$error":"#REF!"}},{"$f":"IF(#REF!=11,30,0)","v":{"$error":"#REF!"}},{"$f":"IF(#REF!=12,29,0)","v":{"$error":"#REF!"}},{"$f":"IF(#REF!=13,28,0)","v":{"$error":"#REF!"}},{"$f":"IF(#REF!=14,27,0)","v":{"$error":"#REF!"}},{"$f":"IF(#REF!=15,26,0)","v":{"$error":"#REF!"}},{"$f":"IF(#REF!=16,25,0)","v":{"$error":"#REF!"}},{"$f":"IF(#REF!=17,24,0)","v":{"$error":"#REF!"}},{"$f":"IF(#REF!=18,23,0)","v":{"$error":"#REF!"}},{"$f":"IF(#REF!=19,22,0)","v":{"$error":"#REF!"}},{"$f":"IF(#REF!=20,21,0)","v":{"$error":"#REF!"}},{"$f":"IF(#REF!=21,20,0)","v":{"$error":"#REF!"}},{"$f":"IF(#REF!=22,19,0)","v":{"$error":"#REF!"}},{"$f":"IF(#REF!=23,18,0)","v":{"$error":"#REF!"}},{"$f":"IF(#REF!=24,17,0)","v":{"$error":"#REF!"}},{"$f":"IF(#REF!=25,16,0)","v":{"$error":"#REF!"}},{"$f":"IF(#REF!=26,15,0)","v":{"$error":"#REF!"}},{"$f":"IF(#REF!=27,14,0)","v":{"$error":"#REF!"}},{"$f":"IF(#REF!=28,13,0)","v":{"$error":"#REF!"}},{"$f":"IF(#REF!=29,12,0)","v":{"$error":"#REF!"}},{"$f":"IF(#REF!=30,11,0)","v":{"$error":"#REF!"}},{"$f":"IF(#REF!=31,10,0)","v":{"$error":"#REF!"}},{"$f":"IF(#REF!=32,9,0)","v":{"$error":"#REF!"}},{"$f":"IF(#REF!=33,8,0)","v":{"$error":"#REF!"}},{"$f":"IF(#REF!=34,7,0)","v":{"$error":"#REF!"}},{"$f":"IF(#REF!=35,6,0)","v":{"$error":"#REF!"}},{"$f":"IF(#REF!=36,5,0)","v":{"$error":"#REF!"}},{"$f":"IF(#REF!=37,4,0)","v":{"$error":"#REF!"}},{"$f":"IF(#REF!=38,3,0)","v":{"$error":"#REF!"}},{"$f":"IF(#REF!=39,2,0)","v":{"$error":"#REF!"}},{"$f":"IF(#REF!=40,1,0)","v":{"$error":"#REF!"}},{"$f":"IF(#REF!>20,0,0)","v":{"$error":"#REF!"}},{"$f":"IF(#REF!=\"сх\",0,0)","v":{"$error":"#REF!"}},{"$f":"SUM(BL17:DA17)","v":{"$error":"#REF!"}},{"$f":"IF(#REF!=1,45,0)","v":{"$error":"#REF!"}},{"$f":"IF(#REF!=2,42,0)","v":{"$error":"#REF!"}},{"$f":"IF(#REF!=3,40,0)","v":{"$error":"#REF!"}},{"$f":"IF(#REF!=4,38,0)","v":{"$error":"#REF!"}},{"$f":"IF(#REF!=5,36,0)","v":{"$error":"#REF!"}},{"$f":"IF(#REF!=6,35,0)","v":{"$error":"#REF!"}},{"$f":"IF(#REF!=7,34,0)","v":{"$error":"#REF!"}},{"$f":"IF(#REF!=8,33,0)","v":{"$error":"#REF!"}},{"$f":"IF(#REF!=9,32,0)","v":{"$error":"#REF!"}},{"$f":"IF(#REF!=10,31,0)","v":{"$error":"#REF!"}},{"$f":"IF(#REF!=11,30,0)","v":{"$error":"#REF!"}},{"$f":"IF(#REF!=12,29,0)","v":{"$error":"#REF!"}},{"$f":"IF(#REF!=13,28,0)","v":{"$error":"#REF!"}},{"$f":"IF(#REF!=14,27,0)","v":{"$error":"#REF!"}},{"$f":"IF(#REF!=15,26,0)","v":{"$error":"#REF!"}},{"$f":"IF(#REF!=16,25,0)","v":{"$error":"#REF!"}},{"$f":"IF(#REF!=17,24,0)","v":{"$error":"#REF!"}},{"$f":"IF(#REF!=18,23,0)","v":{"$error":"#REF!"}},{"$f":"IF(#REF!=19,22,0)","v":{"$error":"#REF!"}},{"$f":"IF(#REF!=20,21,0)","v":{"$error":"#REF!"}},{"$f":"IF(#REF!=21,20,0)","v":{"$error":"#REF!"}},{"$f":"IF(#REF!=22,19,0)","v":{"$error":"#REF!"}},{"$f":"IF(#REF!=23,18,0)","v":{"$error":"#REF!"}},{"$f":"IF(#REF!=24,17,0)","v":{"$error":"#REF!"}},{"$f":"IF(#REF!=25,16,0)","v":{"$error":"#REF!"}},{"$f":"IF(#REF!=26,15,0)","v":{"$error":"#REF!"}},{"$f":"IF(#REF!=27,14,0)","v":{"$error":"#REF!"}},{"$f":"IF(#REF!=28,13,0)","v":{"$error":"#REF!"}},{"$f":"IF(#REF!=29,12,0)","v":{"$error":"#REF!"}},{"$f":"IF(#REF!=30,11,0)","v":{"$error":"#REF!"}},{"$f":"IF(#REF!=31,10,0)","v":{"$error":"#REF!"}},{"$f":"IF(#REF!=32,9,0)","v":{"$error":"#REF!"}},{"$f":"IF(#REF!=33,8,0)","v":{"$error":"#REF!"}},{"$f":"IF(#REF!=34,7,0)","v":{"$error":"#REF!"}},{"$f":"IF(#REF!=35,6,0)","v":{"$error":"#REF!"}},{"$f":"IF(#REF!=36,5,0)","v":{"$error":"#REF!"}},{"$f":"IF(#REF!=37,4,0)","v":{"$error":"#REF!"}},{"$f":"IF(#REF!=38,3,0)","v":{"$error":"#REF!"}},{"$f":"IF(#REF!=39,2,0)","v":{"$error":"#REF!"}},{"$f":"IF(#REF!=40,1,0)","v":{"$error":"#REF!"}},{"$f":"IF(#REF!>20,0,0)","v":{"$error":"#REF!"}},{"$f":"IF(#REF!=\"сх\",0,0)","v":{"$error":"#REF!"}},{"$f":"SUM(DC17:ER17)","v":{"$error":"#REF!"}},null,{"$f":"IF(#REF!=\"сх\",\"ноль\",IF(#REF!>0,#REF!,\"Ноль\"))","v":{"$error":"#REF!"}},{"$f":"IF(#REF!=\"сх\",\"ноль\",IF(#REF!>0,#REF!,\"Ноль\"))","v":{"$error":"#REF!"}},null,{"$f":"MIN(EU17,EV17)","v":{"$error":"#REF!"}},{"$f":"IF(N17=#REF!,IF(#REF!<#REF!,#REF!,FC17),#REF!)","v":{"$error":"#REF!"}},{"$f":"IF(N17=#REF!,IF(#REF!<#REF!,0,1))","v":{"$error":"#REF!"}},{"$f":"IF(AND(EX17>=21,EX17<>0),EX17,IF(N17<#REF!,\"СТОП\",EY17+EZ17))","v":{"$error":"#REF!"}},null,15,16,null,{"$f":"IF(#REF!=1,25,0)","v":{"$error":"#REF!"}},{"$f":"IF(#REF!=2,22,0)","v":{"$error":"#REF!"}},{"$f":"IF(#REF!=3,20,0)","v":{"$error":"#REF!"}},{"$f":"IF(#REF!=4,18,0)","v":{"$error":"#REF!"}},{"$f":"IF(#REF!=5,16,0)","v":{"$error":"#REF!"}},{"$f":"IF(#REF!=6,15,0)","v":{"$error":"#REF!"}},{"$f":"IF(#REF!=7,14,0)","v":{"$error":"#REF!"}},{"$f":"IF(#REF!=8,13,0)","v":{"$error":"#REF!"}},{"$f":"IF(#REF!=9,12,0)","v":{"$error":"#REF!"}},{"$f":"IF(#REF!=10,11,0)","v":{"$error":"#REF!"}},{"$f":"IF(#REF!=11,10,0)","v":{"$error":"#REF!"}},{"$f":"IF(#REF!=12,9,0)","v":{"$error":"#REF!"}},{"$f":"IF(#REF!=13,8,0)","v":{"$error":"#REF!"}},{"$f":"IF(#REF!=14,7,0)","v":{"$error":"#REF!"}},{"$f":"IF(#REF!=15,6,0)","v":{"$error":"#REF!"}},{"$f":"IF(#REF!=16,5,0)","v":{"$error":"#REF!"}},{"$f":"IF(#REF!=17,4,0)","v":{"$error":"#REF!"}},{"$f":"IF(#REF!=18,3,0)","v":{"$error":"#REF!"}},{"$f":"IF(#REF!=19,2,0)","v":{"$error":"#REF!"}},{"$f":"IF(#REF!=20,1,0)","v":{"$error":"#REF!"}},{"$f":"IF(#REF!>20,0,0)","v":{"$error":"#REF!"}},{"$f":"IF(#REF!=\"сх\",0,0)","v":{"$error":"#REF!"}},{"$f":"SUM(FF17:GA17)","v":{"$error":"#REF!"}},{"$f":"IF(#REF!=1,25,0)","v":{"$error":"#REF!"}},{"$f":"IF(#REF!=2,22,0)","v":{"$error":"#REF!"}},{"$f":"IF(#REF!=3,20,0)","v":{"$error":"#REF!"}},{"$f":"IF(#REF!=4,18,0)","v":{"$error":"#REF!"}},{"$f":"IF(#REF!=5,16,0)","v":{"$error":"#REF!"}},{"$f":"IF(#REF!=6,15,0)","v":{"$error":"#REF!"}},{"$f":"IF(#REF!=7,14,0)","v":{"$error":"#REF!"}},{"$f":"IF(#REF!=8,13,0)","v":{"$error":"#REF!"}},{"$f":"IF(#REF!=9,12,0)","v":{"$error":"#REF!"}},{"$f":"IF(#REF!=10,11,0)","v":{"$error":"#REF!"}},{"$f":"IF(#REF!=11,10,0)","v":{"$error":"#REF!"}},{"$f":"IF(#REF!=12,9,0)","v":{"$error":"#REF!"}},{"$f":"IF(#REF!=13,8,0)","v":{"$error":"#REF!"}},{"$f":"IF(#REF!=14,7,0)","v":{"$error":"#REF!"}},{"$f":"IF(#REF!=15,6,0)","v":{"$error":"#REF!"}},{"$f":"IF(#REF!=16,5,0)","v":{"$error":"#REF!"}},{"$f":"IF(#REF!=17,4,0)","v":{"$error":"#REF!"}},{"$f":"IF(#REF!=18,3,0)","v":{"$error":"#REF!"}},{"$f":"IF(#REF!=19,2,0)","v":{"$error":"#REF!"}},{"$f":"IF(#REF!=20,1,0)","v":{"$error":"#REF!"}},{"$f":"IF(#REF!>20,0,0)","v":{"$error":"#REF!"}},{"$f":"IF(#REF!=\"сх\",0,0)","v":{"$error":"#REF!"}},{"$f":"SUM(GC17:GX17)","v":{"$error":"#REF!"}},{"$f":"IF(#REF!=1,100,0)","v":{"$error":"#REF!"}},{"$f":"IF(#REF!=2,98,0)","v":{"$error":"#REF!"}},{"$f":"IF(#REF!=3,95,0)","v":{"$error":"#REF!"}},{"$f":"IF(#REF!=4,93,0)","v":{"$error":"#REF!"}},{"$f":"IF(#REF!=5,90,0)","v":{"$error":"#REF!"}},{"$f":"IF(#REF!=6,88,0)","v":{"$error":"#REF!"}},{"$f":"IF(#REF!=7,85,0)","v":{"$error":"#REF!"}},{"$f":"IF(#REF!=8,83,0)","v":{"$error":"#REF!"}},{"$f":"IF(#REF!=9,80,0)","v":{"$error":"#REF!"}},{"$f":"IF(#REF!=10,78,0)","v":{"$error":"#REF!"}},{"$f":"IF(#REF!=11,75,0)","v":{"$error":"#REF!"}},{"$f":"IF(#REF!=12,73,0)","v":{"$error":"#REF!"}},{"$f":"IF(#REF!=13,70,0)","v":{"$error":"#REF!"}},{"$f":"IF(#REF!=14,68,0)","v":{"$error":"#REF!"}},{"$f":"IF(#REF!=15,65,0)","v":{"$error":"#REF!"}},{"$f":"IF(#REF!=16,63,0)","v":{"$error":"#REF!"}},{"$f":"IF(#REF!=17,60,0)","v":{"$error":"#REF!"}},{"$f":"IF(#REF!=18,58,0)","v":{"$error":"#REF!"}},{"$f":"IF(#REF!=19,55,0)","v":{"$error":"#REF!"}},{"$f":"IF(#REF!=20,53,0)","v":{"$error":"#REF!"}},{"$f":"IF(#REF!>20,0,0)","v":{"$error":"#REF!"}},{"$f":"IF(#REF!=\"сх\",0,0)","v":{"$error":"#REF!"}},{"$f":"SUM(GZ17:HU17)","v":{"$error":"#REF!"}},{"$f":"IF(#REF!=1,100,0)","v":{"$error":"#REF!"}},{"$f":"IF(#REF!=2,98,0)","v":{"$error":"#REF!"}},{"$f":"IF(#REF!=3,95,0)","v":{"$error":"#REF!"}},{"$f":"IF(#REF!=4,93,0)","v":{"$error":"#REF!"}},{"$f":"IF(#REF!=5,90,0)","v":{"$error":"#REF!"}},{"$f":"IF(#REF!=6,88,0)","v":{"$error":"#REF!"}},{"$f":"IF(#REF!=7,85,0)","v":{"$error":"#REF!"}},{"$f":"IF(#REF!=8,83,0)","v":{"$error":"#REF!"}},{"$f":"IF(#REF!=9,80,0)","v":{"$error":"#REF!"}},{"$f":"IF(#REF!=10,78,0)","v":{"$error":"#REF!"}},{"$f":"IF(#REF!=11,75,0)","v":{"$error":"#REF!"}},{"$f":"IF(#REF!=12,73,0)","v":{"$error":"#REF!"}},{"$f":"IF(#REF!=13,70,0)","v":{"$error":"#REF!"}},{"$f":"IF(#REF!=14,68,0)","v":{"$error":"#REF!"}},{"$f":"IF(#REF!=15,65,0)","v":{"$error":"#REF!"}},{"$f":"IF(#REF!=16,63,0)","v":{"$error":"#REF!"}},{"$f":"IF(#REF!=17,60,0)","v":{"$error":"#REF!"}},{"$f":"IF(#REF!=18,58,0)","v":{"$error":"#REF!"}},{"$f":"IF(#REF!=19,55,0)","v":{"$error":"#REF!"}},{"$f":"IF(#REF!=20,53,0)","v":{"$error":"#REF!"}},{"$f":"IF(#REF!>20,0,0)","v":{"$error":"#REF!"}},{"$f":"IF(#REF!=\"сх\",0,0)","v":{"$error":"#REF!"}},{"$f":"SUM(HW17:IR17)","v":{"$error":"#REF!"}}]
[9,22,"Лучина Максим","I","г. Новый Уренгой, Ямало-Ненецкий АО","СТК \"Факел\"","ARCTIC CAT",9,12,9,12,"-",0,24,{"$f":"#REF!+#REF!","v":{"$error":"#REF!"}},null,null,{"$f":"IF(#REF!=1,25,0)","v":{"$error":"#REF!"}},{"$f":"IF(#REF!=2,22,0)","v":{"$error":"#REF!"}},{"$f":"IF(#REF!=3,20,0)","v":{"$error":"#REF!"}},{"$f":"IF(#REF!=4,18,0)","v":{"$error":"#REF!"}},{"$f":"IF(#REF!=5,16,0)","v":{"$error":"#REF!"}},{"$f":"IF(#REF!=6,15,0)","v":{"$error":"#REF!"}},{"$f":"IF(#REF!=7,14,0)","v":{"$error":"#REF!"}},{"$f":"IF(#REF!=8,13,0)","v":{"$error":"#REF!"}},{"$f":"IF(#REF!=9,12,0)","v":{"$error":"#REF!"}},{"$f":"IF(#REF!=10,11,0)","v":{"$error":"#REF!"}},{"$f":"IF(#REF!=11,10,0)","v":{"$error":"#REF!"}},{"$f":"IF(#REF!=12,9,0)","v":{"$error":"#REF!"}},{"$f":"IF(#REF!=13,8,0)","v":{"$error":"#REF!"}},{"$f":"IF(#REF!=14,7,0)","v":{"$error":"#REF!"}},{"$f":"IF(#REF!=15,6,0)","v":{"$error":"#REF!"}},{"$f":"IF(#REF!=16,5,0)","v":{"$error":"#REF!"}},{"$f":"IF(#REF!=17,4,0)","v":{"$error":"#REF!"}},{"$f":"IF(#REF!=18,3,0)","v":{"$error":"#REF!"}},{"$f":"IF(#REF!=19,2,0)","v":{"$error":"#REF!"}},{"$f":"IF(#REF!=20,1,0)","v":{"$error":"#REF!"}},{"$f":"IF(#REF!>20,0,0)","v":{"$error":"#REF!"}},{"$f":"IF(#REF!=\"сх\",0,0)","v":{"$error":"#REF!"}},{"$f":"SUM(R18:AL18)","v":{"$error":"#REF!"}},{"$f":"IF(#REF!=1,25,0)","v":{"$error":"#REF!"}},{"$f":"IF(#REF!=2,22,0)","v":{"$error":"#REF!"}},{"$f":"IF(#REF!=3,20,0)","v":{"$error":"#REF!"}},{"$f":"IF(#REF!=4,18,0)","v":{"$error":"#REF!"}},{"$f":"IF(#REF!=5,16,0)","v":{"$error":"#REF!"}},{"$f":"IF(#REF!=6,15,0)","v":{"$error":"#REF!"}},{"$f":"IF(#REF!=7,14,0)","v":{"$error":"#REF!"}},{"$f":"IF(#REF!=8,13,0)","v":{"$error":"#REF!"}},{"$f":"IF(#REF!=9,12,0)","v":{"$error":"#REF!"}},{"$f":"IF(#REF!=10,11,0)","v":{"$error":"#REF!"}},{"$f":"IF(#REF!=11,10,0)","v":{"$error":"#REF!"}},{"$f":"IF(#REF!=12,9,0)","v":{"$error":"#REF!"}},{"$f":"IF(#REF!=13,8,0)","v":{"$error":"#REF!"}},{"$f":"IF(#REF!=14,7,0)","v":{"$error":"#REF!"}},{"$f":"IF(#REF!=15,6,0)","v":{"$error":"#REF!"}},{"$f":"IF(#REF!=16,5,0)","v":{"$error":"#REF!"}},{"$f":"IF(#REF!=17,4,0)","v":{"$error":"#REF!"}},{"$f":"IF(#REF!=18,3,0)","v":{"$error":"#REF!"}},{"$f":"IF(#REF!=19,2,0)","v":{"$error":"#REF!"}},{"$f":"IF(#REF!=20,1,0)","v":{"$error":"#REF!"}},{"$f":"IF(#REF!>20,0,0)","v":{"$error":"#REF!"}},{"$f":"IF(#REF!=\"сх\",0,0)","v":{"$error":"#REF!"}},{"$f":"SUM(AO18:BI18)","v":{"$error":"#REF!"}},{"$f":"IF(#REF!=1,45,0)","v":{"$error":"#REF!"}},{"$f":"IF(#REF!=2,42,0)","v":{"$error":"#REF!"}},{"$f":"IF(#REF!=3,40,0)","v":{"$error":"#REF!"}},{"$f":"IF(#REF!=4,38,0)","v":{"$error":"#REF!"}},{"$f":"IF(#REF!=5,36,0)","v":{"$error":"#REF!"}},{"$f":"IF(#REF!=6,35,0)","v":{"$error":"#REF!"}},{"$f":"IF(#REF!=7,34,0)","v":{"$error":"#REF!"}},{"$f":"IF(#REF!=8,33,0)","v":{"$error":"#REF!"}},{"$f":"IF(#REF!=9,32,0)","v":{"$error":"#REF!"}},{"$f":"IF(#REF!=10,31,0)","v":{"$error":"#REF!"}},{"$f":"IF(#REF!=11,30,0)","v":{"$error":"#REF!"}},{"$f":"IF(#REF!=12,29,0)","v":{"$error":"#REF!"}},{"$f":"IF(#REF!=13,28,0)","v":{"$error":"#REF!"}},{"$f":"IF(#REF!=14,27,0)","v":{"$error":"#REF!"}},{"$f":"IF(#REF!=15,26,0)","v":{"$error":"#REF!"}},{"$f":"IF(#REF!=16,25,0)","v":{"$error":"#REF!"}},{"$f":"IF(#REF!=17,24,0)","v":{"$error":"#REF!"}},{"$f":"IF(#REF!=18,23,0)","v":{"$error":"#REF!"}},{"$f":"IF(#REF!=19,22,0)","v":{"$error":"#REF!"}},{"$f":"IF(#REF!=20,21,0)","v":{"$error":"#REF!"}},{"$f":"IF(#REF!=21,20,0)","v":{"$error":"#REF!"}},{"$f":"IF(#REF!=22,19,0)","v":{"$error":"#REF!"}},{"$f":"IF(#REF!=23,18,0)","v":{"$error":"#REF!"}},{"$f":"IF(#REF!=24,17,0)","v":{"$error":"#REF!"}},{"$f":"IF(#REF!=25,16,0)","v":{"$error":"#REF!"}},{"$f":"IF(#REF!=26,15,0)","v":{"$error":"#REF!"}},{"$f":"IF(#REF!=27,14,0)","v":{"$error":"#REF!"}},{"$f":"IF(#REF!=28,13,0)","v":{"$error":"#REF!"}},{"$f":"IF(#REF!=29,12,0)","v":{"$error":"#REF!"}},{"$f":"IF(#REF!=30,11,0)","v":{"$error":"#REF!"}},{"$f":"IF(#REF!=31,10,0)","v":{"$error":"#REF!"}},{"$f":"IF(#REF!=32,9,0)","v":{"$error":"#REF!"}},{"$f":"IF(#REF!=33,8,0)","v":{"$error":"#REF!"}},{"$f":"IF(#REF!=34,7,0)","v":{"$error":"#REF!"}},{"$f":"IF(#REF!=35,6,0)","v":{"$error":"#REF!"}},{"$f":"IF(#REF!=36,5,0)","v":{"$error":"#REF!"}},{"$f":"IF(#REF!=37,4,0)","v":{"$error":"#REF!"}},{"$f":"IF(#REF!=38,3,0)","v":{"$error":"#REF!"}},{"$f":"IF(#REF!=39,2,0)","v":{"$error":"#REF!"}},{"$f":"IF(#REF!=40,1,0)","v":{"$error":"#REF!"}},{"$f":"IF(#REF!>20,0,0)","v":{"$error":"#REF!"}},{"$f":"IF(#REF!=\"сх\",0,0)","v":{"$error":"#REF!"}},{"$f":"SUM(BL18:DA18)","v":{"$error":"#REF!"}},{"$f":"IF(#REF!=1,45,0)","v":{"$error":"#REF!"}},{"$f":"IF(#REF!=2,42,0)","v":{"$error":"#REF!"}},{"$f":"IF(#REF!=3,40,0)","v":{"$error":"#REF!"}},{"$f":"IF(#REF!=4,38,0)","v":{"$error":"#REF!"}},{"$f":"IF(#REF!=5,36,0)","v":{"$error":"#REF!"}},{"$f":"IF(#REF!=6,35,0)","v":{"$error":"#REF!"}},{"$f":"IF(#REF!=7,34,0)","v":{"$error":"#REF!"}},{"$f":"IF(#REF!=8,33,0)","v":{"$error":"#REF!"}},{"$f":"IF(#REF!=9,32,0)","v":{"$error":"#REF!"}},{"$f":"IF(#REF!=10,31,0)","v":{"$error":"#REF!"}},{"$f":"IF(#REF!=11,30,0)","v":{"$error":"#REF!"}},{"$f":"IF(#REF!=12,29,0)","v":{"$error":"#REF!"}},{"$f":"IF(#REF!=13,28,0)","v":{"$error":"#REF!"}},{"$f":"IF(#REF!=14,27,0)","v":{"$error":"#REF!"}},{"$f":"IF(#REF!=15,26,0)","v":{"$error":"#REF!"}},{"$f":"IF(#REF!=16,25,0)","v":{"$error":"#REF!"}},{"$f":"IF(#REF!=17,24,0)","v":{"$error":"#REF!"}},{"$f":"IF(#REF!=18,23,0)","v":{"$error":"#REF!"}},{"$f":"IF(#REF!=19,22,0)","v":{"$error":"#REF!"}},{"$f":"IF(#REF!=20,21,0)","v":{"$error":"#REF!"}},{"$f":"IF(#REF!=21,20,0)","v":{"$error":"#REF!"}},{"$f":"IF(#REF!=22,19,0)","v":{"$error":"#REF!"}},{"$f":"IF(#REF!=23,18,0)","v":{"$error":"#REF!"}},{"$f":"IF(#REF!=24,17,0)","v":{"$error":"#REF!"}},{"$f":"IF(#REF!=25,16,0)","v":{"$error":"#REF!"}},{"$f":"IF(#REF!=26,15,0)","v":{"$error":"#REF!"}},{"$f":"IF(#REF!=27,14,0)","v":{"$error":"#REF!"}},{"$f":"IF(#REF!=28,13,0)","v":{"$error":"#REF!"}},{"$f":"IF(#REF!=29,12,0)","v":{"$error":"#REF!"}},{"$f":"IF(#REF!=30,11,0)","v":{"$error":"#REF!"}},{"$f":"IF(#REF!=31,10,0)","v":{"$error":"#REF!"}},{"$f":"IF(#REF!=32,9,0)","v":{"$error":"#REF!"}},{"$f":"IF(#REF!=33,8,0)","v":{"$error":"#REF!"}},{"$f":"IF(#REF!=34,7,0)","v":{"$error":"#REF!"}},{"$f":"IF(#REF!=35,6,0)","v":{"$error":"#REF!"}},{"$f":"IF(#REF!=36,5,0)","v":{"$error":"#REF!"}},{"$f":"IF(#REF!=37,4,0)","v":{"$error":"#REF!"}},{"$f":"IF(#REF!=38,3,0)","v":{"$error":"#REF!"}},{"$f":"IF(#REF!=39,2,0)","v":{"$error":"#REF!"}},{"$f":"IF(#REF!=40,1,0)","v":{"$error":"#REF!"}},{"$f":"IF(#REF!>20,0,0)","v":{"$error":"#REF!"}},{"$f":"IF(#REF!=\"сх\",0,0)","v":{"$error":"#REF!"}},{"$f":"SUM(DC18:ER18)","v":{"$error":"#REF!"}},null,{"$f":"IF(#REF!=\"сх\",\"ноль\",IF(#REF!>0,#REF!,\"Ноль\"))","v":{"$error":"#REF!"}},{"$f":"IF(#REF!=\"сх\",\"ноль\",IF(#REF!>0,#REF!,\"Ноль\"))","v":{"$error":"#REF!"}},null,{"$f":"MIN(EU18,EV18)","v":{"$error":"#REF!"}},{"$f":"IF(N18=#REF!,IF(#REF!<#REF!,#REF!,FC18),#REF!)","v":{"$error":"#REF!"}},{"$f":"IF(N18=#REF!,IF(#REF!<#REF!,0,1))","v":{"$error":"#REF!"}},{"$f":"IF(AND(EX18>=21,EX18<>0),EX18,IF(N18<#REF!,\"СТОП\",EY18+EZ18))","v":{"$error":"#REF!"}},null,15,16,null,{"$f":"IF(#REF!=1,25,0)","v":{"$error":"#REF!"}},{"$f":"IF(#REF!=2,22,0)","v":{"$error":"#REF!"}},{"$f":"IF(#REF!=3,20,0)","v":{"$error":"#REF!"}},{"$f":"IF(#REF!=4,18,0)","v":{"$error":"#REF!"}},{"$f":"IF(#REF!=5,16,0)","v":{"$error":"#REF!"}},{"$f":"IF(#REF!=6,15,0)","v":{"$error":"#REF!"}},{"$f":"IF(#REF!=7,14,0)","v":{"$error":"#REF!"}},{"$f":"IF(#REF!=8,13,0)","v":{"$error":"#REF!"}},{"$f":"IF(#REF!=9,12,0)","v":{"$error":"#REF!"}},{"$f":"IF(#REF!=10,11,0)","v":{"$error":"#REF!"}},{"$f":"IF(#REF!=11,10,0)","v":{"$error":"#REF!"}},{"$f":"IF(#REF!=12,9,0)","v":{"$error":"#REF!"}},{"$f":"IF(#REF!=13,8,0)","v":{"$error":"#REF!"}},{"$f":"IF(#REF!=14,7,0)","v":{"$error":"#REF!"}},{"$f":"IF(#REF!=15,6,0)","v":{"$error":"#REF!"}},{"$f":"IF(#REF!=16,5,0)","v":{"$error":"#REF!"}},{"$f":"IF(#REF!=17,4,0)","v":{"$error":"#REF!"}},{"$f":"IF(#REF!=18,3,0)","v":{"$error":"#REF!"}},{"$f":"IF(#REF!=19,2,0)","v":{"$error":"#REF!"}},{"$f":"IF(#REF!=20,1,0)","v":{"$error":"#REF!"}},{"$f":"IF(#REF!>20,0,0)","v":{"$error":"#REF!"}},{"$f":"IF(#REF!=\"сх\",0,0)","v":{"$error":"#REF!"}},{"$f":"SUM(FF18:GA18)","v":{"$error":"#REF!"}},{"$f":"IF(#REF!=1,25,0)","v":{"$error":"#REF!"}},{"$f":"IF(#REF!=2,22,0)","v":{"$error":"#REF!"}},{"$f":"IF(#REF!=3,20,0)","v":{"$error":"#REF!"}},{"$f":"IF(#REF!=4,18,0)","v":{"$error":"#REF!"}},{"$f":"IF(#REF!=5,16,0)","v":{"$error":"#REF!"}},{"$f":"IF(#REF!=6,15,0)","v":{"$error":"#REF!"}},{"$f":"IF(#REF!=7,14,0)","v":{"$error":"#REF!"}},{"$f":"IF(#REF!=8,13,0)","v":{"$error":"#REF!"}},{"$f":"IF(#REF!=9,12,0)","v":{"$error":"#REF!"}},{"$f":"IF(#REF!=10,11,0)","v":{"$error":"#REF!"}},{"$f":"IF(#REF!=11,10,0)","v":{"$error":"#REF!"}},{"$f":"IF(#REF!=12,9,0)","v":{"$error":"#REF!"}},{"$f":"IF(#REF!=13,8,0)","v":{"$error":"#REF!"}},{"$f":"IF(#REF!=14,7,0)","v":{"$error":"#REF!"}},{"$f":"IF(#REF!=15,6,0)","v":{"$error":"#REF!"}},{"$f":"IF(#REF!=16,5,0)","v":{"$error":"#REF!"}},{"$f":"IF(#REF!=17,4,0)","v":{"$error":"#REF!"}},{"$f":"IF(#REF!=18,3,0)","v":{"$error":"#REF!"}},{"$f":"IF(#REF!=19,2,0)","v":{"$error":"#REF!"}},{"$f":"IF(#REF!=20,1,0)","v":{"$error":"#REF!"}},{"$f":"IF(#REF!>20,0,0)","v":{"$error":"#REF!"}},{"$f":"IF(#REF!=\"сх\",0,0)","v":{"$error":"#REF!"}},{"$f":"SUM(GC18:GX18)","v":{"$error":"#REF!"}},{"$f":"IF(#REF!=1,100,0)","v":{"$error":"#REF!"}},{"$f":"IF(#REF!=2,98,0)","v":{"$error":"#REF!"}},{"$f":"IF(#REF!=3,95,0)","v":{"$error":"#REF!"}},{"$f":"IF(#REF!=4,93,0)","v":{"$error":"#REF!"}},{"$f":"IF(#REF!=5,90,0)","v":{"$error":"#REF!"}},{"$f":"IF(#REF!=6,88,0)","v":{"$error":"#REF!"}},{"$f":"IF(#REF!=7,85,0)","v":{"$error":"#REF!"}},{"$f":"IF(#REF!=8,83,0)","v":{"$error":"#REF!"}},{"$f":"IF(#REF!=9,80,0)","v":{"$error":"#REF!"}},{"$f":"IF(#REF!=10,78,0)","v":{"$error":"#REF!"}},{"$f":"IF(#REF!=11,75,0)","v":{"$error":"#REF!"}},{"$f":"IF(#REF!=12,73,0)","v":{"$error":"#REF!"}},{"$f":"IF(#REF!=13,70,0)","v":{"$error":"#REF!"}},{"$f":"IF(#REF!=14,68,0)","v":{"$error":"#REF!"}},{"$f":"IF(#REF!=15,65,0)","v":{"$error":"#REF!"}},{"$f":"IF(#REF!=16,63,0)","v":{"$error":"#REF!"}},{"$f":"IF(#REF!=17,60,0)","v":{"$error":"#REF!"}},{"$f":"IF(#REF!=18,58,0)","v":{"$error":"#REF!"}},{"$f":"IF(#REF!=19,55,0)","v":{"$error":"#REF!"}},{"$f":"IF(#REF!=20,53,0)","v":{"$error":"#REF!"}},{"$f":"IF(#REF!>20,0,0)","v":{"$error":"#REF!"}},{"$f":"IF(#REF!=\"сх\",0,0)","v":{"$error":"#REF!"}},{"$f":"SUM(GZ18:HU18)","v":{"$error":"#REF!"}},{"$f":"IF(#REF!=1,100,0)","v":{"$error":"#REF!"}},{"$f":"IF(#REF!=2,98,0)","v":{"$error":"#REF!"}},{"$f":"IF(#REF!=3,95,0)","v":{"$error":"#REF!"}},{"$f":"IF(#REF!=4,93,0)","v":{"$error":"#REF!"}},{"$f":"IF(#REF!=5,90,0)","v":{"$error":"#REF!"}},{"$f":"IF(#REF!=6,88,0)","v":{"$error":"#REF!"}},{"$f":"IF(#REF!=7,85,0)","v":{"$error":"#REF!"}},{"$f":"IF(#REF!=8,83,0)","v":{"$error":"#REF!"}},{"$f":"IF(#REF!=9,80,0)","v":{"$error":"#REF!"}},{"$f":"IF(#REF!=10,78,0)","v":{"$error":"#REF!"}},{"$f":"IF(#REF!=11,75,0)","v":{"$error":"#REF!"}},{"$f":"IF(#REF!=12,73,0)","v":{"$error":"#REF!"}},{"$f":"IF(#REF!=13,70,0)","v":{"$error":"#REF!"}},{"$f":"IF(#REF!=14,68,0)","v":{"$error":"#REF!"}},{"$f":"IF(#REF!=15,65,0)","v":{"$error":"#REF!"}},{"$f":"IF(#REF!=16,63,0)","v":{"$error":"#REF!"}},{"$f":"IF(#REF!=17,60,0)","v":{"$error":"#REF!"}},{"$f":"IF(#REF!=18,58,0)","v":{"$error":"#REF!"}},{"$f":"IF(#REF!=19,55,0)","v":{"$error":"#REF!"}},{"$f":"IF(#REF!=20,53,0)","v":{"$error":"#REF!"}},{"$f":"IF(#REF!>20,0,0)","v":{"$error":"#REF!"}},{"$f":"IF(#REF!=\"сх\",0,0)","v":{"$error":"#REF!"}},{"$f":"SUM(HW18:IR18)","v":{"$error":"#REF!"}}]
[10,4,"Григорьев Леонид","кмс","г. Новый Уренгой, Ямало-Ненецкий АО","СТК \"Ямбург\"","SKY-DOO","сх",0,3,20,"-",0,20,{"$f":"#REF!+#REF!","v":{"$error":"#REF!"}},null,null,{"$f":"IF(#REF!=1,25,0)","v":{"$error":"#REF!"}},{"$f":"IF(#REF!=2,22,0)","v":{"$error":"#REF!"}},{"$f":"IF(#REF!=3,20,0)","v":{"$error":"#REF!"}},{"$f":"IF(#REF!=4,18,0)","v":{"$error":"#REF!"}},{"$f":"IF(#REF!=5,16,0)","v":{"$error":"#REF!"}},{"$f":"IF(#REF!=6,15,0)","v":{"$error":"#REF!"}},{"$f":"IF(#REF!=7,14,0)","v":{"$error":"#REF!"}},{"$f":"IF(#REF!=8,13,0)","v":{"$error":"#REF!"}},{"$f":"IF(#REF!=9,12,0)","v":{"$error":"#REF!"}},{"$f":"IF(#REF!=10,11,0)","v":{"$error":"#REF!"}},{"$f":"IF(#REF!=11,10,0)","v":{"$error":"#REF!"}},{"$f":"IF(#REF!=12,9,0)","v":{"$error":"#REF!"}},{"$f":"IF(#REF!=13,8,0)","v":{"$error":"#REF!"}},{"$f":"IF(#REF!=14,7,0)","v":{"$error":"#REF!"}},{"$f":"IF(#REF!=15,6,0)","v":{"$error":"#REF!"}},{"$f":"IF(#REF!=16,5,0)","v":{"$error":"#REF!"}},{"$f":"IF(#REF!=17,4,0)","v":{"$error":"#REF!"}},{"$f":"IF(#REF!=18,3,0)","v":{"$error":"#REF!"}},{"$f":"IF(#REF!=19,2,0)","v":{"$error":"#REF!"}},{"$f":"IF(#REF!=20,1,0)","v":{"$error":"#REF!"}},{"$f":"IF(#REF!>20,0,0)","v":{"$error":"#REF!"}},{"$f":"IF(#REF!=\"сх\",0,0)","v":{"$error":"#REF!"}},{"$error":"#REF!"},{"$f":"IF(#REF!=1,25,0)","v":{"$error":"#REF!"}},{"$f":"IF(#REF!=2,22,0)","v":{"$error":"#REF!"}},{"$f":"IF(#REF!=3,20,0)","v":{"$error":"#REF!"}},{"$f":"IF(#REF!=4,18,0)","v":{"$error":"#REF!"}},{"$f":"IF(#REF!=5,16,0)","v":{"$error":"#REF!"}},{"$f":"IF(#REF!=6,15,0)","v":{"$error":"#REF!"}},{"$f":"IF(#REF!=7,14,0)","v":{"$error":"#REF!"}},{"$f":"IF(#REF!=8,13,0)","v":{"$error":"#REF!"}},{"$f":"IF(#REF!=9,12,0)","v":{"$error":"#REF!"}},{"$f":"IF(#REF!=10,11,0)","v":{"$error":"#REF!"}},{"$f":"IF(#REF!=11,10,0)","v":{"$error":"#REF!"}},{"$f":"IF(#REF!=12,9,0)","v":{"$error":"#REF!"}},{"$f":"IF(#REF!=13,8,0)","v":{"$error":"#REF!"}},{"$f":"IF(#REF!=14,7,0)","v":{"$error":"#REF!"}},{"$f":"IF(#REF!=15,6,0)","v":{"$error":"#REF!"}},{"$f":"IF(#REF!=16,5,0)","v":{"$error":"#REF!"}},{"$f":"IF(#REF!=17,4,0)","v":{"$error":"#REF!"}},{"$f":"IF(#REF!=18,3,0)","v":{"$error":"#REF!"}},{"$f":"IF(#REF!=19,2,0)","v":{"$error":"#REF!"}},{"$f":"IF(#REF!=20,1,0)","v":{"$error":"#REF!"}},{"$f":"IF(#REF!>20,0,0)","v":{"$error":"#REF!"}},{"$f":"IF(#REF!=\"сх\",0,0)","v":{"$error":"#REF!"}},{"$error":"#REF!"},{"$f":"IF(#REF!=1,45,0)","v":{"$error":"#REF!"}},{"$f":"IF(#REF!=2,42,0)","v":{"$error":"#REF!"}},{"$f":"IF(#REF!=3,40,0)","v":{"$error":"#REF!"}},{"$f":"IF(#REF!=4,38,0)","v":{"$error":"#REF!"}},{"$f":"IF(#REF!=5,36,0)","v":{"$error":"#REF!"}},{"$f":"IF(#REF!=6,35,0)","v":{"$error":"#REF!"}},{"$f":"IF(#REF!=7,34,0)","v":{"$error":"#REF!"}},{"$f":"IF(#REF!=8,33,0)","v":{"$error":"#REF!"}},{"$f":"IF(#REF!=9,32,0)","v":{"$error":"#REF!"}},{"$f":"IF(#REF!=10,31,0)","v":{"$error":"#REF!"}},{"$f":"IF(#REF!=11,30,0)","v":{"$error":"#REF!"}},{"$f":"IF(#REF!=12,29,0)","v":{"$error":"#REF!"}},{"$f":"IF(#REF!=13,28,0)","v":{"$error":"#REF!"}},{"$f":"IF(#REF!=14,27,0)","v":{"$error":"#REF!"}},{"$f":"IF(#REF!=15,26,0)","v":{"$error":"#REF!"}},{"$f":"IF(#REF!=16,25,0)","v":{"$error":"#REF!"}},{"$f":"IF(#REF!=17,24,0)","v":{"$error":"#REF!"}},{"$f":"IF(#REF!=18,23,0)","v":{"$error":"#REF!"}},{"$f":"IF(#REF!=19,22,0)","v":{"$error":"#REF!"}},{"$f":"IF(#REF!=20,21,0)","v":{"$error":"#REF!"}},{"$f":"IF(#REF!=21,20,0)","v":{"$error":"#REF!"}},{"$f":"IF(#REF!=22,19,0)","v":{"$error":"#REF!"}},{"$f":"IF(#REF!=23,18,0)","v":{"$error":"#REF!"}},{"$f":"IF(#REF!=24,17,0)","v":{"$error":"#REF!"}},{"$f":"IF(#REF!=25,16,0)","v":{"$error":"#REF!"}},{"$f":"IF(#REF!=26,15,0)","v":{"$error":"#REF!"}},{"$f":"IF(#REF!=27,14,0)","v":{"$error":"#REF!"}},{"$f":"IF(#REF!=28,13,0)","v":{"$error":"#REF!"}},{"$f":"IF(#REF!=29,12,0)","v":{"$error":"#REF!"}},{"$f":"IF(#REF!=30,11,0)","v":{"$error":"#REF!"}},{"$f":"IF(#REF!=31,10,0)","v":{"$error":"#REF!"}},{"$f":"IF(#REF!=32,9,0)","v":{"$error":"#REF!"}},{"$f":"IF(#REF!=33,8,0)","v":{"$error":"#REF!"}},{"$f":"IF(#REF!=34,7,0)","v":{"$error":"#REF!"}},{"$f":"IF(#REF!=35,6,0)","v":{"$error":"#REF!"}},{"$f":"IF(#REF!=36,5,0)","v":{"$error":"#REF!"}},{"$f":"IF(#REF!=37,4,0)","v":{"$error":"#REF!"}},{"$f":"IF(#REF!=38,3,0)","v":{"$error":"#REF!"}},{"$f":"IF(#REF!=39,2,0)","v":{"$error":"#REF!"}},{"$f":"IF(#REF!=40,1,0)","v":{"$error":"#REF!"}},{"$f":"IF(#REF!>20,0,0)","v":{"$error":"#REF!"}},{"$f":"IF(#REF!=\"сх\",0,0)","v":{"$error":"#REF!"}},{"$error":"#REF!"},{"$f":"IF(#REF!=1,45,0)","v":{"$error":"#REF!"}},{"$f":"IF(#REF!=2,42,0)","v":{"$error":"#REF!"}},{"$f":"IF(#REF!=3,40,0)","v":{"$error":"#REF!"}},{"$f":"IF(#REF!=4,38,0)","v":{"$error":"#REF!"}},{"$f":"IF(#REF!=5,36,0)","v":{"$error":"#REF!"}},{"$f":"IF(#REF!=6,35,0)","v":{"$error":"#REF!"}},{"$f":"IF(#REF!=7,34,0)","v":{"$error":"#REF!"}},{"$f":"IF(#REF!=8,33,0)","v":{"$error":"#REF!"}},{"$f":"IF(#REF!=9,32,0)","v":{"$error":"#REF!"}},{"$f":"IF(#REF!=10,31,0)","v":{"$error":"#REF!"}},{"$f":"IF(#REF!=11,30,0)","v":{"$error":"#REF!"}},{"$f":"IF(#REF!=12,29,0)","v":{"$error":"#REF!"}},{"$f":"IF(#REF!=13,28,0)","v":{"$error":"#REF!"}},{"$f":"IF(#REF!=14,27,0)","v":{"$error":"#REF!"}},{"$f":"IF(#REF!=15,26,0)","v":{"$error":"#REF!"}},{"$f":"IF(#REF!=16,25,0)","v":{"$error":"#REF!"}},{"$f":"IF(#REF!=17,24,0)","v":{"$error":"#REF!"}},{"$f":"IF(#REF!=18,23,0)","v":{"$error":"#REF!"}},{"$f":"IF(#REF!=19,22,0)","v":{"$error":"#REF!"}},{"$f":"IF(#REF!=20,21,0)","v":{"$error":"#REF!"}},{"$f":"IF(#REF!=21,20,0)","v":{"$error":"#REF!"}},{"$f":"IF(#REF!=22,19,0)","v":{"$error":"#REF!"}},{"$f":"IF(#REF!=23,18,0)","v":{"$error":"#REF!"}},{"$f":"IF(#REF!=24,17,0)","v":{"$error":"#REF!"}},{"$f":"IF(#REF!=25,16,0)","v":{"$error":"#REF!"}},{"$f":"IF(#REF!=26,15,0)","v":{"$error":"#REF!"}},{"$f":"IF(#REF!=27,14,0)","v":{"$error":"#REF!"}},{"$f":"IF(#REF!=28,13,0)","v":{"$error":"#REF!"}},{"$f":"IF(#REF!=29,12,0)","v":{"$error":"#REF!"}},{"$f":"IF(#REF!=30,11,0)","v":{"$error":"#REF!"}},{"$f":"IF(#REF!=31,10,0)","v":{"$error":"#REF!"}},{"$f":"IF(#REF!=32,9,0)","v":{"$error":"#REF!"}},{"$f":"IF(#REF!=33,8,0)","v":{"$error":"#REF!"}},{"$f":"IF(#REF!=34,7,0)","v":{"$error":"#REF!"}},{"$f":"IF(#REF!=35,6,0)","v":{"$error":"#REF!"}},{"$f":"IF(#REF!=36,5,0)","v":{"$error":"#REF!"}},{"$f":"IF(#REF!=37,4,0)","v":{"$error":"#REF!"}},{"$f":"IF(#REF!=38,3,0)","v":{"$error":"#REF!"}},{"$f":"IF(#REF!=39,2,0)","v":{"$error":"#REF!"}},{"$f":"IF(#REF!=40,1,0)","v":{"$error":"#REF!"}},{"$f":"IF(#REF!>20,0,0)","v":{"$error":"#REF!"}},{"$f":"IF(#REF!=\"сх\",0,0)","v":{"$error":"#REF!"}},{"$error":"#REF!"},null,{"$f":"IF(#REF!=\"сх\",\"ноль\",IF(#REF!>0,#REF!,\"Ноль\"))","v":{"$error":"#REF!"}},{"$f":"IF(#REF!=\"сх\",\"ноль\",IF(#REF!>0,#REF!,\"Ноль\"))","v":{"$error":"#REF!"}},null,{"$error":"#REF!"},{"$f":"IF(N19=#REF!,IF(#REF!<#REF!,#REF!,FC19),#REF!)","v":{"$error":"#REF!"}},{"$f":"IF(N19=#REF!,IF(#REF!<#REF!,0,1))","v":{"$error":"#REF!"}},{"$f":"IF(AND(EX19>=21,EX19<>0),EX19,IF(N19<#REF!,\"СТОП\",EY19+EZ19))","v":{"$error":"#REF!"}},null,15,16,null,{"$f":"IF(#REF!=1,25,0)","v":{"$error":"#REF!"}},{"$f":"IF(#REF!=2,22,0)","v":{"$error":"#REF!"}},{"$f":"IF(#REF!=3,20,0)","v":{"$error":"#REF!"}},{"$f":"IF(#REF!=4,18,0)","v":{"$error":"#REF!"}},{"$f":"IF(#REF!=5,16,0)","v":{"$error":"#REF!"}},{"$f":"IF(#REF!=6,15,0)","v":{"$error":"#REF!"}},{"$f":"IF(#REF!=7,14,0)","v":{"$error":"#REF!"}},{"$f":"IF(#REF!=8,13,0)","v":{"$error":"#REF!"}},{"$f":"IF(#REF!=9,12,0)","v":{"$error":"#REF!"}},{"$f":"IF(#REF!=10,11,0)","v":{"$error":"#REF!"}},{"$f":"IF(#REF!=11,10,0)","v":{"$error":"#REF!"}},{"$f":"IF(#REF!=12,9,0)","v":{"$error":"#REF!"}},{"$f":"IF(#REF!=13,8,0)","v":{"$error":"#REF!"}},{"$f":"IF(#REF!=14,7,0)","v":{"$error":"#REF!"}},{"$f":"IF(#REF!=15,6,0)","v":{"$error":"#REF!"}},{"$f":"IF(#REF!=16,5,0)","v":{"$error":"#REF!"}},{"$f":"IF(#REF!=17,4,0)","v":{"$error":"#REF!"}},{"$f":"IF(#REF!=18,3,0)","v":{"$error":"#REF!"}},{"$f":"IF(#REF!=19,2,0)","v":{"$error":"#REF!"}},{"$f":"IF(#REF!=20,1,0)","v":{"$error":"#REF!"}},{"$f":"IF(#REF!>20,0,0)","v":{"$error":"#REF!"}},{"$f":"IF(#REF!=\"сх\",0,0)","v":{"$error":"#REF!"}},{"$error":"#REF!"},{"$f":"IF(#REF!=1,25,0)","v":{"$error":"#REF!"}},{"$f":"IF(#REF!=2,22,0)","v":{"$error":"#REF!"}},{"$f":"IF(#REF!=3,20,0)","v":{"$error":"#REF!"}},{"$f":"IF(#REF!=4,18,0)","v":{"$error":"#REF!"}},{"$f":"IF(#REF!=5,16,0)","v":{"$error":"#REF!"}},{"$f":"IF(#REF!=6,15,0)","v":{"$error":"#REF!"}},{"$f":"IF(#REF!=7,14,0)","v":{"$error":"#REF!"}},{"$f":"IF(#REF!=8,13,0)","v":{"$error":"#REF!"}},{"$f":"IF(#REF!=9,12,0)","v":{"$error":"#REF!"}},{"$f":"IF(#REF!=10,11,0)","v":{"$error":"#REF!"}},{"$f":"IF(#REF!=11,10,0)","v":{"$error":"#REF!"}},{"$f":"IF(#REF!=12,9,0)","v":{"$error":"#REF!"}},{"$f":"IF(#REF!=13,8,0)","v":{"$error":"#REF!"}},{"$f":"IF(#REF!=14,7,0)","v":{"$error":"#REF!"}},{"$f":"IF(#REF!=15,6,0)","v":{"$error":"#REF!"}},{"$f":"IF(#REF!=16,5,0)","v":{"$error":"#REF!"}},{"$f":"IF(#REF!=17,4,0)","v":{"$error":"#REF!"}},{"$f":"IF(#REF!=18,3,0)","v":{"$error":"#REF!"}},{"$f":"IF(#REF!=19,2,0)","v":{"$error":"#REF!"}},{"$f":"IF(#REF!=20,1,0)","v":{"$error":"#REF!"}},{"$f":"IF(#REF!>20,0,0)","v":{"$error":"#REF!"}},{"$f":"IF(#REF!=\"сх\",0,0)","v":{"$error":"#REF!"}},{"$error":"#REF!"},{"$f":"IF(#REF!=1,100,0)","v":{"$error":"#REF!"}},{"$f":"IF(#REF!=2,98,0)","v":{"$error":"#REF!"}},{"$f":"IF(#REF!=3,95,0)","v":{"$error":"#REF!"}},{"$f":"IF(#REF!=4,93,0)","v":{"$error":"#REF!"}},{"$f":"IF(#REF!=5,90,0)","v":{"$error":"#REF!"}},{"$f":"IF(#REF!=6,88,0)","v":{"$error":"#REF!"}},{"$f":"IF(#REF!=7,85,0)","v":{"$error":"#REF!"}},{"$f":"IF(#REF!=8,83,0)","v":{"$error":"#REF!"}},{"$f":"IF(#REF!=9,80,0)","v":{"$error":"#REF!"}},{"$f":"IF(#REF!=10,78,0)","v":{"$error":"#REF!"}},{"$f":"IF(#REF!=11,75,0)","v":{"$error":"#REF!"}},{"$f":"IF(#REF!=12,73,0)","v":{"$error":"#REF!"}},{"$f":"IF(#REF!=13,70,0)","v":{"$error":"#REF!"}},{"$f":"IF(#REF!=14,68,0)","v":{"$error":"#REF!"}},{"$f":"IF(#REF!=15,65,0)","v":{"$error":"#REF!"}},{"$f":"IF(#REF!=16,63,0)","v":{"$error":"#REF!"}},{"$f":"IF(#REF!=17,60,0)","v":{"$error":"#REF!"}},{"$f":"IF(#REF!=18,58,0)","v":{"$error":"#REF!"}},{"$f":"IF(#REF!=19,55,0)","v":{"$error":"#REF!"}},{"$f":"IF(#REF!=20,53,0)","v":{"$error":"#REF!"}},{"$f":"IF(#REF!>20,0,0)","v":{"$error":"#REF!"}},{"$f":"IF(#REF!=\"сх\",0,0)","v":{"$error":"#REF!"}},{"$error":"#REF!"},{"$f":"IF(#REF!=1,100,0)","v":{"$error":"#REF!"}},{"$f":"IF(#REF!=2,98,0)","v":{"$error":"#REF!"}},{"$f":"IF(#REF!=3,95,0)","v":{"$error":"#REF!"}},{"$f":"IF(#REF!=4,93,0)","v":{"$error":"#REF!"}},{"$f":"IF(#REF!=5,90,0)","v":{"$error":"#REF!"}},{"$f":"IF(#REF!=6,88,0)","v":{"$error":"#REF!"}},{"$f":"IF(#REF!=7,85,0)","v":{"$error":"#REF!"}},{"$f":"IF(#REF!=8,83,0)","v":{"$error":"#REF!"}},{"$f":"IF(#REF!=9,80,0)","v":{"$error":"#REF!"}},{"$f":"IF(#REF!=10,78,0)","v":{"$error":"#REF!"}},{"$f":"IF(#REF!=11,75,0)","v":{"$error":"#REF!"}},{"$f":"IF(#REF!=12,73,0)","v":{"$error":"#REF!"}},{"$f":"IF(#REF!=13,70,0)","v":{"$error":"#REF!"}},{"$f":"IF(#REF!=14,68,0)","v":{"$error":"#REF!"}},{"$f":"IF(#REF!=15,65,0)","v":{"$error":"#REF!"}},{"$f":"IF(#REF!=16,63,0)","v":{"$error":"#REF!"}},{"$f":"IF(#REF!=17,60,0)","v":{"$error":"#REF!"}},{"$f":"IF(#REF!=18,58,0)","v":{"$error":"#REF!"}},{"$f":"IF(#REF!=19,55,0)","v":{"$error":"#REF!"}},{"$f":"IF(#REF!=20,53,0)","v":{"$error":"#REF!"}},{"$f":"IF(#REF!>20,0,0)","v":{"$error":"#REF!"}},{"$f":"IF(#REF!=\"сх\",0,0)","v":{"$error":"#REF!"}},{"$error":"#REF!"}]
[]
["Главный судья соревнований"]
["судья Всероссийской категории:                                                                                                                                                                              Э. А. Иванов (г. Кострома, свидетельство МФР А 165)"]
[]
["Главный секретарь соревнований"]
["судья Всероссийской категории:                                                                                                                                                   А. Ю. Иванов (г. Москва; свидетельство МФР А 105; FIM 12089/11245)"]

{"sheet":"ВЗРОСЛЫЕ СУПЕРСПОРТ В","index":2,"n_rows":22,"n_cols":255,"rows_kept":22,"cut":false,"hidden":false,"merged":[[5,7,5,9],[0,12,3,12],[1,0,1,11],[2,0,2,11],[3,0,3,11],[4,0,4,11],[6,11,8,11],[6,12,8,12],[7,7,8,7],[7,8,8,8],[7,9,8,9],[7,10,8,10],[17,0,17,6],[20,0,20,6],[6,6,8,6],[6,7,6,8],[6,9,6,10],[6,0,8,0],[6,1,8,1],[6,2,8,2],[6,3,8,3],[6,4,8,4],[6,5,8,5]]}
[]
["Чемпионат МФР по кроссу на снегоходах 2019 года - I-й этап."]
["ПРОТОКОЛ ЛИЧНОГО ЗАЧЕТА",null,null,null,null,null,null,null,null,null,null,null,null,null,null,null,null,null,null,null,null,null,null,null,null,null,null,null,null,null,null,null,null,null,null,null,null,null,null,null,null,null,null,null,null,null,null,null,null,null,null,null,null,null,null,null,null,null,null,null,null,null,null,null,null,null,null,null,null,null,null,null,null,null,null,null,null,null,null,null,null,null,null,null,null,null,null,null,null,null,null,null,null,null,null,null,null,null,null,null,null,null,null,null,null,null,null,null,null,null,null,null,null,null,null,null,null,null,null,null,null,null,null,null,null,null,null,null,null,null,null,null,null,null,null,null,null,null,null,null,null,null,null,null,null,null,null,null,null,null,null,null,null,null,null,null,null,null,null,null,null,null,null,null,null,null,null,null,null,null,null,"первый этап"]
["г. Волжск, Республика Марий Эл.                                                                                                                                                                                                                          01 - 04 февраля 2019 года.",null,null,null,null,null,null,null,null,null,null,null,null,null,null,null,null,null,null,null,null,null,null,null,null,null,null,null,null,null,null,null,null,null,null,null,null,null,null,null,null,null,null,null,null,null,null,null,null,null,null,null,null,null,null,null,null,null,null,null,null,null,null,null,null,null,null,null,null,null,null,null,null,null,null,null,null,null,null,null,null,null,null,null,null,null,null,null,null,null,null,null,null,null,null,null,null,null,null,null,null,null,null,null,null,null,null,null,null,null,null,null,null,null,null,null,null,null,null,null,null,null,null,null,null,null,null,null,null,null,null,null,null,null,null,null,null,null,null,null,null,null,null,null,null,null,null,null,null,null,null,null,null,null,null,null,null,null,null,null,"первый заезд личные очки",null,null,null,null,null,null,null,null,null,null,null,null,null,null,null,null,null,null,null,null,null,"второй заезд личные очки",null,null,null,null,null,null,null,null,null,null,null,null,null,null,null,null,null,null,null,null,null,null,"Первый заезд командные очки",null,null,null,null,null,null,null,null,null,null,null,null,null,null,null,null,null,null,null,null,null,null,"Второй заезд командные очки"]
["Класс \"ВЗРОСЛЫЕ - СУПЕРСПОРТ В\" (0910203811А). ",null,null,null,null,null,null,null,null,null,null,null,null,null,null,null,null,null,null,null,null,null,null,null,null,null,null,null,null,null,null,null,null,null,null,null,null,null,null,null,null,null,null,null,null,null,null,null,null,null,null,null,null,null,null,null,null,null,null,null,null,null,null,null,null,null,null,null,null,null,null,null,null,null,null,null,null,null,null,null,null,null,null,null,null,null,null,null,null,null,null,null,null,null,null,null,null,null,null,null,null,null,null,null,null,null,null,null,null,null,null,null,null,null,null,null,null,null,null,null,null,null,null,null,null,null,null,null,null,null,null,null,null,null,null,null,null,null,null,null,null,null,null,null,null,null,null,null,null,null,null,null,null,null,null,null,null,null,null,1,2,3,4,5,6,7,8,9,10,11,12,13,14,15,16,17,18,19,20,21,"сх","Sym",1,2,3,4,5,6,7,8,9,10,11,12,13,14,15,16,17,18,19,20,21,"cx","sym",1,2,3,4,5,6,7,8,9,10,11,12,13,14,15,16,17,18,19,20,21,"сх","очки",1,2,3,4,5,6,7,8,9,10,11,12,13,14,15,16,17,18,19,20,21,"сх","очки",{"$f":"COUNT(FD5:IQ5)","v":84},"Н. Стро","В. стро","место"]
[]
["Место ","Ст. №","Фамилия, Имя","Разряд","Город (край, район, область)","Команда","Марка снегохода","1-й заезд",null,"2-й заезд",null,"Сумма очков              в личном зачете","Сумма очк. в командном зачете"]
[null,null,null,null,null,null,null,"место","лич. очки","место","лич. очки",null,null,null,null,null,"первый заезд личные очки",null,null,null,null,null,null,null,null,null,null,null,null,null,null,null,null,null,null,null,null,null,"второй заезд личные очки",null,null,null,null,null,null,null,null,null,null,null,null,null,null,null,null,null,null,null,null,null,null,"Первый заезд командные очки",null,null,null,null,null,null,null,null,null,null,null,null,null,null,null,null,null,null,null,null,null,null,null,null,null,null,null,null,null,null,null,null,null,null,null,null,null,null,null,null,null,null,"Второй заезд командные очки",null,null,null,null,null,null,null,null,null,null,null,null,null,null,null,null,null,null,null,null,null,null,null,null,null,null,null,null,null,null,null,null,null,null,null,null,null,null,null,null,null,null,null,1,2,null,null,null,null,null,null,null,null,null,null,null,null,null,null,null,null,null,null,null,null,null,"первый этап"]
[null,null,null,null,null,null,null,null,null,null,null,null,null,null,null,1,2,3,4,5,6,7,8,9,10,11,12,13,14,15,16,17,18,19,20,21,"сх",null,1,2,3,4,5,6,7,8,9,10,11,12,13,14,15,16,17,18,19,20,null,"cx",null,1,2,3,4,5,6,7,8,9,10,11,12,13,14,15,16,17,18,19,20,21,22,23,24,25,26,27,28,29,30,31,32,33,34,35,36,37,38,39,40,null,null,null,1,2,3,4,5,6,7,8,9,10,11,12,13,14,15,16,17,18,19,20,21,22,23,24,25,26,27,28,29,30,31,32,33,34,35,36,37,38,39,40,null,null,null,null,null,null,null,"мин","Н. Стро","В. стро","место",null,"чр1","чр2",null,null,"первый заезд личные очки",null,null,null,null,null,null,null,null,null,null,null,null,null,null,null,null,null,null,null,null,null,"второй заезд личные очки",null,null,null,null,null,null,null,null,null,null,null,null,null,null,null,null,null,null,null,null,null,null,"Первый заезд командные очки",null,null,null,null,null,null,null,null,null,null,null,null,null,null,null,null,null,null,null,null,null,null,"Второй заезд командные очки"]
[1,6,"Сорокопуд Дмитрий","б/р","г. Новый Уренгой, Ямало-Ненецкий АО","СТК \"Факел\"","LYNX",1,25,1,25,{"$f":"SUM(I10+K10)","v":50},{"$f":"#REF!+#REF!","v":{"$error":"#REF!"}},null,null,{"$f":"IF(#REF!=1,25,0)","v":{"$error":"#REF!"}},{"$f":"IF(#REF!=2,22,0)","v":{"$error":"#REF!"}},{"$f":"IF(#REF!=3,20,0)","v":{"$error":"#REF!"}},{"$f":"IF(#REF!=4,18,0)","v":{"$error":"#REF!"}},{"$f":"IF(#REF!=5,16,0)","v":{"$error":"#REF!"}},{"$f":"IF(#REF!=6,15,0)","v":{"$error":"#REF!"}},{"$f":"IF(#REF!=7,14,0)","v":{"$error":"#REF!"}},{"$f":"IF(#REF!=8,13,0)","v":{"$error":"#REF!"}},{"$f":"IF(#REF!=9,12,0)","v":{"$error":"#REF!"}},{"$f":"IF(#REF!=10,11,0)","v":{"$error":"#REF!"}},{"$f":"IF(#REF!=11,10,0)","v":{"$error":"#REF!"}},{"$f":"IF(#REF!=12,9,0)","v":{"$error":"#REF!"}},{"$f":"IF(#REF!=13,8,0)","v":{"$error":"#REF!"}},{"$f":"IF(#REF!=14,7,0)","v":{"$error":"#REF!"}},{"$f":"IF(#REF!=15,6,0)","v":{"$error":"#REF!"}},{"$f":"IF(#REF!=16,5,0)","v":{"$error":"#REF!"}},{"$f":"IF(#REF!=17,4,0)","v":{"$error":"#REF!"}},{"$f":"IF(#REF!=18,3,0)","v":{"$error":"#REF!"}},{"$f":"IF(#REF!=19,2,0)","v":{"$error":"#REF!"}},{"$f":"IF(#REF!=20,1,0)","v":{"$error":"#REF!"}},{"$f":"IF(#REF!>20,0,0)","v":{"$error":"#REF!"}},{"$f":"IF(#REF!=\"сх\",0,0)","v":{"$error":"#REF!"}},{"$f":"SUM(P10:AJ10)","v":{"$error":"#REF!"}},{"$f":"IF(#REF!=1,25,0)","v":{"$error":"#REF!"}},{"$f":"IF(#REF!=2,22,0)","v":{"$error":"#REF!"}},{"$f":"IF(#REF!=3,20,0)","v":{"$error":"#REF!"}},{"$f":"IF(#REF!=4,18,0)","v":{"$error":"#REF!"}},{"$f":"IF(#REF!=5,16,0)","v":{"$error":"#REF!"}},{"$f":"IF(#REF!=6,15,0)","v":{"$error":"#REF!"}},{"$f":"IF(#REF!=7,14,0)","v":{"$error":"#REF!"}},{"$f":"IF(#REF!=8,13,0)","v":{"$error":"#REF!"}},{"$f":"IF(#REF!=9,12,0)","v":{"$error":"#REF!"}},{"$f":"IF(#REF!=10,11,0)","v":{"$error":"#REF!"}},{"$f":"IF(#REF!=11,10,0)","v":{"$error":"#REF!"}},{"$f":"IF(#REF!=12,9,0)","v":{"$error":"#REF!"}},{"$f":"IF(#REF!=13,8,0)","v":{"$error":"#REF!"}},{"$f":"IF(#REF!=14,7,0)","v":{"$error":"#REF!"}},{"$f":"IF(#REF!=15,6,0)","v":{"$error":"#REF!"}},{"$f":"IF(#REF!=16,5,0)","v":{"$error":"#REF!"}},{"$f":"IF(#REF!=17,4,0)","v":{"$error":"#REF!"}},{"$f":"IF(#REF!=18,3,0)","v":{"$error":"#REF!"}},{"$f":"IF(#REF!=19,2,0)","v":{"$error":"#REF!"}},{"$f":"IF(#REF!=20,1,0)","v":{"$error":"#REF!"}},{"$f":"IF(#REF!>20,0,0)","v":{"$error":"#REF!"}},{"$f":"IF(#REF!=\"сх\",0,0)","v":{"$error":"#REF!"}},{"$f":"SUM(AM10:BG10)","v":{"$error":"#REF!"}},{"$f":"IF(#REF!=1,45,0)","v":{"$error":"#REF!"}},{"$f":"IF(#REF!=2,42,0)","v":{"$error":"#REF!"}},{"$f":"IF(#REF!=3,40,0)","v":{"$error":"#REF!"}},{"$f":"IF(#REF!=4,38,0)","v":{"$error":"#REF!"}},{"$f":"IF(#REF!=5,36,0)","v":{"$error":"#REF!"}},{"$f":"IF(#REF!=6,35,0)","v":{"$error":"#REF!"}},{"$f":"IF(#REF!=7,34,0)","v":{"$error":"#REF!"}},{"$f":"IF(#REF!=8,33,0)","v":{"$error":"#REF!"}},{"$f":"IF(#REF!=9,32,0)","v":{"$error":"#REF!"}},{"$f":"IF(#REF!=10,31,0)","v":{"$error":"#REF!"}},{"$f":"IF(#REF!=11,30,0)","v":{"$error":"#REF!"}},{"$f":"IF(#REF!=12,29,0)","v":{"$error":"#REF!"}},{"$f":"IF(#REF!=13,28,0)","v":{"$error":"#REF!"}},{"$f":"IF(#REF!=14,27,0)","v":{"$error":"#REF!"}},{"$f":"IF(#REF!=15,26,0)","v":{"$error":"#REF!"}},{"$f":"IF(#REF!=16,25,0)","v":{"$error":"#REF!"}},{"$f":"IF(#REF!=17,24,0)","v":{"$error":"#REF!"}},{"$f":"IF(#REF!=18,23,0)","v":{"$error":"#REF!"}},{"$f":"IF(#REF!=19,22,0)","v":{"$error":"#REF!"}},{"$f":"IF(#REF!=20,21,0)","v":{"$error":"#REF!"}},{"$f":"IF(#REF!=21,20,0)","v":{"$error":"#REF!"}},{"$f":"IF(#REF!=22,19,0)","v":{"$error":"#REF!"}},{"$f":"IF(#REF!=23,18,0)","v":{"$error":"#REF!"}},{"$f":"IF(#REF!=24,17,0)","v":{"$error":"#REF!"}},{"$f":"IF(#REF!=25,16,0)","v":{"$error":"#REF!"}},{"$f":"IF(#REF!=26,15,0)","v":{"$error":"#REF!"}},{"$f":"IF(#REF!=27,14,0)","v":{"$error":"#REF!"}},{"$f":"IF(#REF!=28,13,0)","v":{"$error":"#REF!"}},{"$f":"IF(#REF!=29,12,0)","v":{"$error":"#REF!"}},{"$f":"IF(#REF!=30,11,0)","v":{"$error":"#REF!"}},{"$f":"IF(#REF!=31,10,0)","v":{"$error":"#REF!"}},{"$f":"IF(#REF!=32,9,0)","v":{"$error":"#REF!"}},{"$f":"IF(#REF!=33,8,0)","v":{"$error":"#REF!"}},{"$f":"IF(#REF!=34,7,0)","v":{"$error":"#REF!"}},{"$f":"IF(#REF!=35,6,0)","v":{"$error":"#REF!"}},{"$f":"IF(#REF!=36,5,0)","v":{"$error":"#REF!"}},{"$f":"IF(#REF!=37,4,0)","v":{"$error":"#REF!"}},{"$f":"IF(#REF!=38,3,0)","v":{"$error":"#REF!"}},{"$f":"IF(#REF!=39,2,0)","v":{"$error":"#REF!"}},{"$f":"IF(#REF!=40,1,0)","v":{"$error":"#REF!"}},{"$f":"IF(#REF!>20,0,0)","v":{"$error":"#REF!"}},{"$f":"IF(#REF!=\"сх\",0,0)","v":{"$error":"#REF!"}},{"$f":"SUM(BJ10:CY10)","v":{"$error":"#REF!"}},{"$f":"IF(#REF!=1,45,0)","v":{"$error":"#REF!"}},{"$f":"IF(#REF!=2,42,0)","v":{"$error":"#REF!"}},{"$f":"IF(#REF!=3,40,0)","v":{"$error":"#REF!"}},{"$f":"IF(#REF!=4,38,0)","v":{"$error":"#REF!"}},{"$f":"IF(#REF!=5,36,0)","v":{"$error":"#REF!"}},{"$f":"IF(#REF!=6,35,0)","v":{"$error":"#REF!"}},{"$f":"IF(#REF!=7,34,0)","v":{"$error":"#REF!"}},{"$f":"IF(#REF!=8,33,0)","v":{"$error":"#REF!"}},{"$f":"IF(#REF!=9,32,0)","v":{"$error":"#REF!"}},{"$f":"IF(#REF!=10,31,0)","v":{"$error":"#REF!"}},{"$f":"IF(#REF!=11,30,0)","v":{"$error":"#REF!"}},{"$f":"IF(#REF!=12,29,0)","v":{"$error":"#REF!"}},{"$f":"IF(#REF!=13,28,0)","v":{"$error":"#REF!"}},{"$f":"IF(#REF!=14,27,0)","v":{"$error":"#REF!"}},{"$f":"IF(#REF!=15,26,0)","v":{"$error":"#REF!"}},{"$f":"IF(#REF!=16,25,0)","v":{"$error":"#REF!"}},{"$f":"IF(#REF!=17,24,0)","v":{"$error":"#REF!"}},{"$f":"IF(#REF!=18,23,0)","v":{"$error":"#REF!"}},{"$f":"IF(#REF!=19,22,0)","v":{"$error":"#REF!"}},{"$f":"IF(#REF!=20,21,0)","v":{"$error":"#REF!"}},{"$f":"IF(#REF!=21,20,0)","v":{"$error":"#REF!"}},{"$f":"IF(#REF!=22,19,0)","v":{"$error":"#REF!"}},{"$f":"IF(#REF!=23,18,0)","v":{"$error":"#REF!"}},{"$f":"IF(#REF!=24,17,0)","v":{"$error":"#REF!"}},{"$f":"IF(#REF!=25,16,0)","v":{"$error":"#REF!"}},{"$f":"IF(#REF!=26,15,0)","v":{"$error":"#REF!"}},{"$f":"IF(#REF!=27,14,0)","v":{"$error":"#REF!"}},{"$f":"IF(#REF!=28,13,0)","v":{"$error":"#REF!"}},{"$f":"IF(#REF!=29,12,0)","v":{"$error":"#REF!"}},{"$f":"IF(#REF!=30,11,0)","v":{"$error":"#REF!"}},{"$f":"IF(#REF!=31,10,0)","v":{"$error":"#REF!"}},{"$f":"IF(#REF!=32,9,0)","v":{"$error":"#REF!"}},{"$f":"IF(#REF!=33,8,0)","v":{"$error":"#REF!"}},{"$f":"IF(#REF!=34,7,0)","v":{"$error":"#REF!"}},{"$f":"IF(#REF!=35,6,0)","v":{"$error":"#REF!"}},{"$f":"IF(#REF!=36,5,0)","v":{"$error":"#REF!"}},{"$f":"IF(#REF!=37,4,0)","v":{"$error":"#REF!"}},{"$f":"IF(#REF!=38,3,0)","v":{"$error":"#REF!"}},{"$f":"IF(#REF!=39,2,0)","v":{"$error":"#REF!"}},{"$f":"IF(#REF!=40,1,0)","v":{"$error":"#REF!"}},{"$f":"IF(#REF!>20,0,0)","v":{"$error":"#REF!"}},{"$f":"IF(#REF!=\"сх\",0,0)","v":{"$error":"#REF!"}},{"$f":"SUM(DA10:EP10)","v":{"$error":"#REF!"}},null,{"$f":"IF(#REF!=\"сх\",\"ноль\",IF(#REF!>0,#REF!,\"Ноль\"))","v":{"$error":"#REF!"}},{"$f":"IF(#REF!=\"сх\",\"ноль\",IF(#REF!>0,#REF!,\"Ноль\"))","v":{"$error":"#REF!"}},null,{"$f":"MIN(ES10,ET10)","v":{"$error":"#REF!"}},{"$f":"IF(L10=#REF!,IF(#REF!<#REF!,#REF!,FA10),#REF!)","v":{"$error":"#REF!"}},{"$f":"IF(L10=#REF!,IF(#REF!<#REF!,0,1))","v":{"$error":"#REF!"}},{"$f":"IF(AND(EV10>=21,EV10<>0),EV10,IF(L10<#REF!,\"СТОП\",EW10+EX10))","v":{"$error":"#REF!"}},null,15,16,null,{"$f":"IF(#REF!=1,25,0)","v":{"$error":"#REF!"}},{"$f":"IF(#REF!=2,22,0)","v":{"$error":"#REF!"}},{"$f":"IF(#REF!=3,20,0)","v":{"$error":"#REF!"}},{"$f":"IF(#REF!=4,18,0)","v":{"$error":"#REF!"}},{"$f":"IF(#REF!=5,16,0)","v":{"$error":"#REF!"}},{"$f":"IF(#REF!=6,15,0)","v":{"$error":"#REF!"}},{"$f":"IF(#REF!=7,14,0)","v":{"$error":"#REF!"}},{"$f":"IF(#REF!=8,13,0)","v":{"$error":"#REF!"}},{"$f":"IF(#REF!=9,12,0)","v":{"$error":"#REF!"}},{"$f":"IF(#REF!=10,11,0)","v":{"$error":"#REF!"}},{"$f":"IF(#REF!=11,10,0)","v":{"$error":"#REF!"}},{"$f":"IF(#REF!=12,9,0)","v":{"$error":"#REF!"}},{"$f":"IF(#REF!=13,8,0)","v":{"$error":"#REF!"}},{"$f":"IF(#REF!=14,7,0)","v":{"$error":"#REF!"}},{"$f":"IF(#REF!=15,6,0)","v":{"$error":"#REF!"}},{"$f":"IF(#REF!=16,5,0)","v":{"$error":"#REF!"}},{"$f":"IF(#REF!=17,4,0)","v":{"$error":"#REF!"}},{"$f":"IF(#REF!=18,3,0)","v":{"$error":"#REF!"}},{"$f":"IF(#REF!=19,2,0)","v":{"$error":"#REF!"}},{"$f":"IF(#REF!=20,1,0)","v":{"$error":"#REF!"}},{"$f":"IF(#REF!>20,0,0)","v":{"$error":"#REF!"}},{"$f":"IF(#REF!=\"сх\",0,0)","v":{"$error":"#REF!"}},{"$f":"SUM(FD10:FY10)","v":{"$error":"#REF!"}},{"$f":"IF(#REF!=1,25,0)","v":{"$error":"#REF!"}},{"$f":"IF(#REF!=2,22,0)","v":{"$error":"#REF!"}},{"$f":"IF(#REF!=3,20,0)","v":{"$error":"#REF!"}},{"$f":"IF(#REF!=4,18,0)","v":{"$error":"#REF!"}},{"$f":"IF(#REF!=5,16,0)","v":{"$error":"#REF!"}},{"$f":"IF(#REF!=6,15,0)","v":{"$error":"#REF!"}},{"$f":"IF(#REF!=7,14,0)","v":{"$error":"#REF!"}},{"$f":"IF(#REF!=8,13,0)","v":{"$error":"#REF!"}},{"$f":"IF(#REF!=9,12,0)","v":{"$error":"#REF!"}},{"$f":"IF(#REF!=10,11,0)","v":{"$error":"#REF!"}},{"$f":"IF(#REF!=11,10,0)","v":{"$error":"#REF!"}},{"$f":"IF(#REF!=12,9,0)","v":{"$error":"#REF!"}},{"$f":"IF(#REF!=13,8,0)","v":{"$error":"#REF!"}},{"$f":"IF(#REF!=14,7,0)","v":{"$error":"#REF!"}},{"$f":"IF(#REF!=15,6,0)","v":{"$error":"#REF!"}},{"$f":"IF(#REF!=16,5,0)","v":{"$error":"#REF!"}},{"$f":"IF(#REF!=17,4,0)","v":{"$error":"#REF!"}},{"$f":"IF(#REF!=18,3,0)","v":{"$error":"#REF!"}},{"$f":"IF(#REF!=19,2,0)","v":{"$error":"#REF!"}},{"$f":"IF(#REF!=20,1,0)","v":{"$error":"#REF!"}},{"$f":"IF(#REF!>20,0,0)","v":{"$error":"#REF!"}},{"$f":"IF(#REF!=\"сх\",0,0)","v":{"$error":"#REF!"}},{"$f":"SUM(GA10:GV10)","v":{"$error":"#REF!"}},{"$f":"IF(#REF!=1,100,0)","v":{"$error":"#REF!"}},{"$f":"IF(#REF!=2,98,0)","v":{"$error":"#REF!"}},{"$f":"IF(#REF!=3,95,0)","v":{"$error":"#REF!"}},{"$f":"IF(#REF!=4,93,0)","v":{"$error":"#REF!"}},{"$f":"IF(#REF!=5,90,0)","v":{"$error":"#REF!"}},{"$f":"IF(#REF!=6,88,0)","v":{"$error":"#REF!"}},{"$f":"IF(#REF!=7,85,0)","v":{"$error":"#REF!"}},{"$f":"IF(#REF!=8,83,0)","v":{"$error":"#REF!"}},{"$f":"IF(#REF!=9,80,0)","v":{"$error":"#REF!"}},{"$f":"IF(#REF!=10,78,0)","v":{"$error":"#REF!"}},{"$f":"IF(#REF!=11,75,0)","v":{"$error":"#REF!"}},{"$f":"IF(#REF!=12,73,0)","v":{"$error":"#REF!"}},{"$f":"IF(#REF!=13,70,0)","v":{"$error":"#REF!"}},{"$f":"IF(#REF!=14,68,0)","v":{"$error":"#REF!"}},{"$f":"IF(#REF!=15,65,0)","v":{"$error":"#REF!"}},{"$f":"IF(#REF!=16,63,0)","v":{"$error":"#REF!"}},{"$f":"IF(#REF!=17,60,0)","v":{"$error":"#REF!"}},{"$f":"IF(#REF!=18,58,0)","v":{"$error":"#REF!"}},{"$f":"IF(#REF!=19,55,0)","v":{"$error":"#REF!"}},{"$f":"IF(#REF!=20,53,0)","v":{"$error":"#REF!"}},{"$f":"IF(#REF!>20,0,0)","v":{"$error":"#REF!"}},{"$f":"IF(#REF!=\"сх\",0,0)","v":{"$error":"#REF!"}},{"$f":"SUM(GX10:HS10)","v":{"$error":"#REF!"}},{"$f":"IF(#REF!=1,100,0)","v":{"$error":"#REF!"}},{"$f":"IF(#REF!=2,98,0)","v":{"$error":"#REF!"}},{"$f":"IF(#REF!=3,95,0)","v":{"$error":"#REF!"}},{"$f":"IF(#REF!=4,93,0)","v":{"$error":"#REF!"}},{"$f":"IF(#REF!=5,90,0)","v":{"$error":"#REF!"}},{"$f":"IF(#REF!=6,88,0)","v":{"$error":"#REF!"}},{"$f":"IF(#REF!=7,85,0)","v":{"$error":"#REF!"}},{"$f":"IF(#REF!=8,83,0)","v":{"$error":"#REF!"}},{"$f":"IF(#REF!=9,80,0)","v":{"$error":"#REF!"}},{"$f":"IF(#REF!=10,78,0)","v":{"$error":"#REF!"}},{"$f":"IF(#REF!=11,75,0)","v":{"$error":"#REF!"}},{"$f":"IF(#REF!=12,73,0)","v":{"$error":"#REF!"}},{"$f":"IF(#REF!=13,70,0)","v":{"$error":"#REF!"}},{"$f":"IF(#REF!=14,68,0)","v":{"$error":"#REF!"}},{"$f":"IF(#REF!=15,65,0)","v":{"$error":"#REF!"}},{"$f":"IF(#REF!=16,63,0)","v":{"$error":"#REF!"}},{"$f":"IF(#REF!=17,60,0)","v":{"$error":"#REF!"}},{"$f":"IF(#REF!=18,58,0)","v":{"$error":"#REF!"}},{"$f":"IF(#REF!=19,55,0)","v":{"$error":"#REF!"}},{"$f":"IF(#REF!=20,53,0)","v":{"$error":"#REF!"}},{"$f":"IF(#REF!>20,0,0)","v":{"$error":"#REF!"}},{"$f":"IF(#REF!=\"сх\",0,0)","v":{"$error":"#REF!"}},{"$f":"SUM(HU10:IP10)","v":{"$error":"#REF!"}}]
[2,17,"Красников Николай","змс","г. Уфа, Республика Башкортостан","ЦТВС \"Имени Г. Кадырова\"","LYNX",2,22,2,22,44,{"$f":"#REF!+#REF!","v":{"$error":"#REF!"}},null,null,{"$f":"IF(#REF!=1,25,0)","v":{"$error":"#REF!"}},{"$f":"IF(#REF!=2,22,0)","v":{"$error":"#REF!"}},{"$f":"IF(#REF!=3,20,0)","v":{"$error":"#REF!"}},{"$f":"IF(#REF!=4,18,0)","v":{"$error":"#REF!"}},{"$f":"IF(#REF!=5,16,0)","v":{"$error":"#REF!"}},{"$f":"IF(#REF!=6,15,0)","v":{"$error":"#REF!"}},{"$f":"IF(#REF!=7,14,0)","v":{"$error":"#REF!"}},{"$f":"IF(#REF!=8,13,0)","v":{"$error":"#REF!"}},{"$f":"IF(#REF!=9,12,0)","v":{"$error":"#REF!"}},{"$f":"IF(#REF!=10,11,0)","v":{"$error":"#REF!"}},{"$f":"IF(#REF!=11,10,0)","v":{"$error":"#REF!"}},{"$f":"IF(#REF!=12,9,0)","v":{"$error":"#REF!"}},{"$f":"IF(#REF!=13,8,0)","v":{"$error":"#REF!"}},{"$f":"IF(#REF!=14,7,0)","v":{"$error":"#REF!"}},{"$f":"IF(#REF!=15,6,0)","v":{"$error":"#REF!"}},{"$f":"IF(#REF!=16,5,0)","v":{"$error":"#REF!"}},{"$f":"IF(#REF!=17,4,0)","v":{"$error":"#REF!"}},{"$f":"IF(#REF!=18,3,0)","v":{"$error":"#REF!"}},{"$f":"IF(#REF!=19,2,0)","v":{"$error":"#REF!"}},{"$f":"IF(#REF!=20,1,0)","v":{"$error":"#REF!"}},{"$f":"IF(#REF!>20,0,0)","v":{"$error":"#REF!"}},{"$f":"IF(#REF!=\"сх\",0,0)","v":{"$error":"#REF!"}},{"$error":"#REF!"},{"$f":"IF(#REF!=1,25,0)","v":{"$error":"#REF!"}},{"$f":"IF(#REF!=2,22,0)","v":{"$error":"#REF!"}},{"$f":"IF(#REF!=3,20,0)","v":{"$error":"#REF!"}},{"$f":"IF(#REF!=4,18,0)","v":{"$error":"#REF!"}},{"$f":"IF(#REF!=5,16,0)","v":{"$error":"#REF!"}},{"$f":"IF(#REF!=6,15,0)","v":{"$error":"#REF!"}},{"$f":"IF(#REF!=7,14,0)","v":{"$error":"#REF!"}},{"$f":"IF(#REF!=8,13,0)","v":{"$error":"#REF!"}},{"$f":"IF(#REF!=9,12,0)","v":{"$error":"#REF!"}},{"$f":"IF(#REF!=10,11,0)","v":{"$error":"#REF!"}},{"$f":"IF(#REF!=11,10,0)","v":{"$error":"#REF!"}},{"$f":"IF(#REF!=12,9,0)","v":{"$error":"#REF!"}},{"$f":"IF(#REF!=13,8,0)","v":{"$error":"#REF!"}},{"$f":"IF(#REF!=14,7,0)","v":{"$error":"#REF!"}},{"$f":"IF(#REF!=15,6,0)","v":{"$error":"#REF!"}},{"$f":"IF(#REF!=16,5,0)","v":{"$error":"#REF!"}},{"$f":"IF(#REF!=17,4,0)","v":{"$error":"#REF!"}},{"$f":"IF(#REF!=18,3,0)","v":{"$error":"#REF!"}},{"$f":"IF(#REF!=19,2,0)","v":{"$error":"#REF!"}},{"$f":"IF(#REF!=20,1,0)","v":{"$error":"#REF!"}},{"$f":"IF(#REF!>20,0,0)","v":{"$error":"#REF!"}},{"$f":"IF(#REF!=\"сх\",0,0)","v":{"$error":"#REF!"}},{"$error":"#REF!"},{"$f":"IF(#REF!=1,45,0)","v":{"$error":"#REF!"}},{"$f":"IF(#REF!=2,42,0)","v":{"$error":"#REF!"}},{"$f":"IF(#REF!=3,40,0)","v":{"$error":"#REF!"}},{"$f":"IF(#REF!=4,38,0)","v":{"$error":"#REF!"}},{"$f":"IF(#REF!=5,36,0)","v":{"$error":"#REF!"}},{"$f":"IF(#REF!=6,35,0)","v":{"$error":"#REF!"}},{"$f":"IF(#REF!=7,34,0)","v":{"$error":"#REF!"}},{"$f":"IF(#REF!=8,33,0)","v":{"$error":"#REF!"}},{"$f":"IF(#REF!=9,32,0)","v":{"$error":"#REF!"}},{"$f":"IF(#REF!=10,31,0)","v":{"$error":"#REF!"}},{"$f":"IF(#REF!=11,30,0)","v":{"$error":"#REF!"}},{"$f":"IF(#REF!=12,29,0)","v":{"$error":"#REF!"}},{"$f":"IF(#REF!=13,28,0)","v":{"$error":"#REF!"}},{"$f":"IF(#REF!=14,27,0)","v":{"$error":"#REF!"}},{"$f":"IF(#REF!=15,26,0)","v":{"$error":"#REF!"}},{"$f":"IF(#REF!=16,25,0)","v":{"$error":"#REF!"}},{"$f":"IF(#REF!=17,24,0)","v":{"$error":"#REF!"}},{"$f":"IF(#REF!=18,23,0)","v":{"$error":"#REF!"}},{"$f":"IF(#REF!=19,22,0)","v":{"$error":"#REF!"}},{"$f":"IF(#REF!=20,21,0)","v":{"$error":"#REF!"}},{"$f":"IF(#REF!=21,20,0)","v":{"$error":"#REF!"}},{"$f":"IF(#REF!=22,19,0)","v":{"$error":"#REF!"}},{"$f":"IF(#REF!=23,18,0)","v":{"$error":"#REF!"}},{"$f":"IF(#REF!=24,17,0)","v":{"$error":"#REF!"}},{"$f":"IF(#REF!=25,16,0)","v":{"$error":"#REF!"}},{"$f":"IF(#REF!=26,15,0)","v":{"$error":"#REF!"}},{"$f":"IF(#REF!=27,14,0)","v":{"$error":"#REF!"}},{"$f":"IF(#REF!=28,13,0)","v":{"$error":"#REF!"}},{"$f":"IF(#REF!=29,12,0)","v":{"$error":"#REF!"}},{"$f":"IF(#REF!=30,11,0)","v":{"$error":"#REF!"}},{"$f":"IF(#REF!=31,10,0)","v":{"$error":"#REF!"}},{"$f":"IF(#REF!=32,9,0)","v":{"$error":"#REF!"}},{"$f":"IF(#REF!=33,8,0)","v":{"$error":"#REF!"}},{"$f":"IF(#REF!=34,7,0)","v":{"$error":"#REF!"}},{"$f":"IF(#REF!=35,6,0)","v":{"$error":"#REF!"}},{"$f":"IF(#REF!=36,5,0)","v":{"$error":"#REF!"}},{"$f":"IF(#REF!=37,4,0)","v":{"$error":"#REF!"}},{"$f":"IF(#REF!=38,3,0)","v":{"$error":"#REF!"}},{"$f":"IF(#REF!=39,2,0)","v":{"$error":"#REF!"}},{"$f":"IF(#REF!=40,1,0)","v":{"$error":"#REF!"}},{"$f":"IF(#REF!>20,0,0)","v":{"$error":"#REF!"}},{"$f":"IF(#REF!=\"сх\",0,0)","v":{"$error":"#REF!"}},{"$error":"#REF!"},{"$f":"IF(#REF!=1,45,0)","v":{"$error":"#REF!"}},{"$f":"IF(#REF!=2,42,0)","v":{"$error":"#REF!"}},{"$f":"IF(#REF!=3,40,0)","v":{"$error":"#REF!"}},{"$f":"IF(#REF!=4,38,0)","v":{"$error":"#REF!"}},{"$f":"IF(#REF!=5,36,0)","v":{"$error":"#REF!"}},{"$f":"IF(#REF!=6,35,0)","v":{"$error":"#REF!"}},{"$f":"IF(#REF!=7,34,0)","v":{"$error":"#REF!"}},{"$f":"IF(#REF!=8,33,0)","v":{"$error":"#REF!"}},{"$f":"IF(#REF!=9,32,0)","v":{"$error":"#REF!"}},{"$f":"IF(#REF!=10,31,0)","v":{"$error":"#REF!"}},{"$f":"IF(#REF!=11,30,0)","v":{"$error":"#REF!"}},{"$f":"IF(#REF!=12,29,0)","v":{"$error":"#REF!"}},{"$f":"IF(#REF!=13,28,0)","v":{"$error":"#REF!"}},{"$f":"IF(#REF!=14,27,0)","v":{"$error":"#REF!"}},{"$f":"IF(#REF!=15,26,0)","v":{"$error":"#REF!"}},{"$f":"IF(#REF!=16,25,0)","v":{"$error":"#REF!"}},{"$f":"IF(#REF!=17,24,0)","v":{"$error":"#REF!"}},{"$f":"IF(#REF!=18,23,0)","v":{"$error":"#REF!"}},{"$f":"IF(#REF!=19,22,0)","v":{"$error":"#REF!"}},{"$f":"IF(#REF!=20,21,0)","v":{"$error":"#REF!"}},{"$f":"IF(#REF!=21,20,0)","v":{"$error":"#REF!"}},{"$f":"IF(#REF!=22,19,0)","v":{"$error":"#REF!"}},{"$f":"IF(#REF!=23,18,0)","v":{"$error":"#REF!"}},{"$f":"IF(#REF!=24,17,0)","v":{"$error":"#REF!"}},{"$f":"IF(#REF!=25,16,0)","v":{"$error":"#REF!"}},{"$f":"IF(#REF!=26,15,0)","v":{"$error":"#REF!"}},{"$f":"IF(#REF!=27,14,0)","v":{"$error":"#REF!"}},{"$f":"IF(#REF!=28,13,0)","v":{"$error":"#REF!"}},{"$f":"IF(#REF!=29,12,0)","v":{"$error":"#REF!"}},{"$f":"IF(#REF!=30,11,0)","v":{"$error":"#REF!"}},{"$f":"IF(#REF!=31,10,0)","v":{"$error":"#REF!"}},{"$f":"IF(#REF!=32,9,0)","v":{"$error":"#REF!"}},{"$f":"IF(#REF!=33,8,0)","v":{"$error":"#REF!"}},{"$f":"IF(#REF!=34,7,0)","v":{"$error":"#REF!"}},{"$f":"IF(#REF!=35,6,0)","v":{"$error":"#REF!"}},{"$f":"IF(#REF!=36,5,0)","v":{"$error":"#REF!"}},{"$f":"IF(#REF!=37,4,0)","v":{"$error":"#REF!"}},{"$f":"IF(#REF!=38,3,0)","v":{"$error":"#REF!"}},{"$f":"IF(#REF!=39,2,0)","v":{"$error":"#REF!"}},{"$f":"IF(#REF!=40,1,0)","v":{"$error":"#REF!"}},{"$f":"IF(#REF!>20,0,0)","v":{"$error":"#REF!"}},{"$f":"IF(#REF!=\"сх\",0,0)","v":{"$error":"#REF!"}},{"$error":"#REF!"},null,{"$f":"IF(#REF!=\"сх\",\"ноль\",IF(#REF!>0,#REF!,\"Ноль\"))","v":{"$error":"#REF!"}},{"$f":"IF(#REF!=\"сх\",\"ноль\",IF(#REF!>0,#REF!,\"Ноль\"))","v":{"$error":"#REF!"}},null,{"$error":"#REF!"},{"$f":"IF(L11=#REF!,IF(#REF!<#REF!,#REF!,FA11),#REF!)","v":{"$error":"#REF!"}},{"$f":"IF(L11=#REF!,IF(#REF!<#REF!,0,1))","v":{"$error":"#REF!"}},{"$f":"IF(AND(EV11>=21,EV11<>0),EV11,IF(L11<#REF!,\"СТОП\",EW11+EX11))","v":{"$error":"#REF!"}},null,15,16,null,{"$f":"IF(#REF!=1,25,0)","v":{"$error":"#REF!"}},{"$f":"IF(#REF!=2,22,0)","v":{"$error":"#REF!"}},{"$f":"IF(#REF!=3,20,0)","v":{"$error":"#REF!"}},{"$f":"IF(#REF!=4,18,0)","v":{"$error":"#REF!"}},{"$f":"IF(#REF!=5,16,0)","v":{"$error":"#REF!"}},{"$f":"IF(#REF!=6,15,0)","v":{"$error":"#REF!"}},{"$f":"IF(#REF!=7,14,0)","v":{"$error":"#REF!"}},{"$f":"IF(#REF!=8,13,0)","v":{"$error":"#REF!"}},{"$f":"IF(#REF!=9,12,0)","v":{"$error":"#REF!"}},{"$f":"IF(#REF!=10,11,0)","v":{"$error":"#REF!"}},{"$f":"IF(#REF!=11,10,0)","v":{"$error":"#REF!"}},{"$f":"IF(#REF!=12,9,0)","v":{"$error":"#REF!"}},{"$f":"IF(#REF!=13,8,0)","v":{"$error":"#REF!"}},{"$f":"IF(#REF!=14,7,0)","v":{"$error":"#REF!"}},{"$f":"IF(#REF!=15,6,0)","v":{"$error":"#REF!"}},{"$f":"IF(#REF!=16,5,0)","v":{"$error":"#REF!"}},{"$f":"IF(#REF!=17,4,0)","v":{"$error":"#REF!"}},{"$f":"IF(#REF!=18,3,0)","v":{"$error":"#REF!"}},{"$f":"IF(#REF!=19,2,0)","v":{"$error":"#REF!"}},{"$f":"IF(#REF!=20,1,0)","v":{"$error":"#REF!"}},{"$f":"IF(#REF!>20,0,0)","v":{"$error":"#REF!"}},{"$f":"IF(#REF!=\"сх\",0,0)","v":{"$error":"#REF!"}},{"$error":"#REF!"},{"$f":"IF(#REF!=1,25,0)","v":{"$error":"#REF!"}},{"$f":"IF(#REF!=2,22,0)","v":{"$error":"#REF!"}},{"$f":"IF(#REF!=3,20,0)","v":{"$error":"#REF!"}},{"$f":"IF(#REF!=4,18,0)","v":{"$error":"#REF!"}},{"$f":"IF(#REF!=5,16,0)","v":{"$error":"#REF!"}},{"$f":"IF(#REF!=6,15,0)","v":{"$error":"#REF!"}},{"$f":"IF(#REF!=7,14,0)","v":{"$error":"#REF!"}},{"$f":"IF(#REF!=8,13,0)","v":{"$error":"#REF!"}},{"$f":"IF(#REF!=9,12,0)","v":{"$error":"#REF!"}},{"$f":"IF(#REF!=10,11,0)","v":{"$error":"#REF!"}},{"$f":"IF(#REF!=11,10,0)","v":{"$error":"#REF!"}},{"$f":"IF(#REF!=12,9,0)","v":{"$error":"#REF!"}},{"$f":"IF(#REF!=13,8,0)","v":{"$error":"#REF!"}},{"$f":"IF(#REF!=14,7,0)","v":{"$error":"#REF!"}},{"$f":"IF(#REF!=15,6,0)","v":{"$error":"#REF!"}},{"$f":"IF(#REF!=16,5,0)","v":{"$error":"#REF!"}},{"$f":"IF(#REF!=17,4,0)","v":{"$error":"#REF!"}},{"$f":"IF(#REF!=18,3,0)","v":{"$error":"#REF!"}},{"$f":"IF(#REF!=19,2,0)","v":{"$error":"#REF!"}},{"$f":"IF(#REF!=20,1,0)","v":{"$error":"#REF!"}},{"$f":"IF(#REF!>20,0,0)","v":{"$error":"#REF!"}},{"$f":"IF(#REF!=\"сх\",0,0)","v":{"$error":"#REF!"}},{"$error":"#REF!"},{"$f":"IF(#REF!=1,100,0)","v":{"$error":"#REF!"}},{"$f":"IF(#REF!=2,98,0)","v":{"$error":"#REF!"}},{"$f":"IF(#REF!=3,95,0)","v":{"$error":"#REF!"}},{"$f":"IF(#REF!=4,93,0)","v":{"$error":"#REF!"}},{"$f":"IF(#REF!=5,90,0)","v":{"$error":"#REF!"}},{"$f":"IF(#REF!=6,88,0)","v":{"$error":"#REF!"}},{"$f":"IF(#REF!=7,85,0)","v":{"$error":"#REF!"}},{"$f":"IF(#REF!=8,83,0)","v":{"$error":"#REF!"}},{"$f":"IF(#REF!=9,80,0)","v":{"$error":"#REF!"}},{"$f":"IF(#REF!=10,78,0)","v":{"$error":"#REF!"}},{"$f":"IF(#REF!=11,75,0)","v":{"$error":"#REF!"}},{"$f":"IF(#REF!=12,73,0)","v":{"$error":"#REF!"}},{"$f":"IF(#REF!=13,70,0)","v":{"$error":"#REF!"}},{"$f":"IF(#REF!=14,68,0)","v":{"$error":"#REF!"}},{"$f":"IF(#REF!=15,65,0)","v":{"$error":"#REF!"}},{"$f":"IF(#REF!=16,63,0)","v":{"$error":"#REF!"}},{"$f":"IF(#REF!=17,60,0)","v":{"$error":"#REF!"}},{"$f":"IF(#REF!=18,58,0)","v":{"$error":"#REF!"}},{"$f":"IF(#REF!=19,55,0)","v":{"$error":"#REF!"}},{"$f":"IF(#REF!=20,53,0)","v":{"$error":"#REF!"}},{"$f":"IF(#REF!>20,0,0)","v":{"$error":"#REF!"}},{"$f":"IF(#REF!=\"сх\",0,0)","v":{"$error":"#REF!"}},{"$error":"#REF!"},{"$f":"IF(#REF!=1,100,0)","v":{"$error":"#REF!"}},{"$f":"IF(#REF!=2,98,0)","v":{"$error":"#REF!"}},{"$f":"IF(#REF!=3,95,0)","v":{"$error":"#REF!"}},{"$f":"IF(#REF!=4,93,0)","v":{"$error":"#REF!"}},{"$f":"IF(#REF!=5,90,0)","v":{"$error":"#REF!"}},{"$f":"IF(#REF!=6,88,0)","v":{"$error":"#REF!"}},{"$f":"IF(#REF!=7,85,0)","v":{"$error":"#REF!"}},{"$f":"IF(#REF!=8,83,0)","v":{"$error":"#REF!"}},{"$f":"IF(#REF!=9,80,0)","v":{"$error":"#REF!"}},{"$f":"IF(#REF!=10,78,0)","v":{"$error":"#REF!"}},{"$f":"IF(#REF!=11,75,0)","v":{"$error":"#REF!"}},{"$f":"IF(#REF!=12,73,0)","v":{"$error":"#REF!"}},{"$f":"IF(#REF!=13,70,0)","v":{"$error":"#REF!"}},{"$f":"IF(#REF!=14,68,0)","v":{"$error":"#REF!"}},{"$f":"IF(#REF!=15,65,0)","v":{"$error":"#REF!"}},{"$f":"IF(#REF!=16,63,0)","v":{"$error":"#REF!"}},{"$f":"IF(#REF!=17,60,0)","v":{"$error":"#REF!"}},{"$f":"IF(#REF!=18,58,0)","v":{"$error":"#REF!"}},{"$f":"IF(#REF!=19,55,0)","v":{"$error":"#REF!"}},{"$f":"IF(#REF!=20,53,0)","v":{"$error":"#REF!"}},{"$f":"IF(#REF!>20,0,0)","v":{"$error":"#REF!"}},{"$f":"IF(#REF!=\"сх\",0,0)","v":{"$error":"#REF!"}},{"$error":"#REF!"}]
[3,43,"Воробьев Алексей","б/р","г. Волжск, Республика Марий Эл","\"Марий Эл\"","LYNX",3,20,3,20,40,{"$f":"#REF!+#REF!","v":{"$error":"#REF!"}},null,null,{"$f":"IF(#REF!=1,25,0)","v":{"$error":"#REF!"}},{"$f":"IF(#REF!=2,22,0)","v":{"$error":"#REF!"}},{"$f":"IF(#REF!=3,20,0)","v":{"$error":"#REF!"}},{"$f":"IF(#REF!=4,18,0)","v":{"$error":"#REF!"}},{"$f":"IF(#REF!=5,16,0)","v":{"$error":"#REF!"}},{"$f":"IF(#REF!=6,15,0)","v":{"$error":"#REF!"}},{"$f":"IF(#REF!=7,14,0)","v":{"$error":"#REF!"}},{"$f":"IF(#REF!=8,13,0)","v":{"$error":"#REF!"}},{"$f":"IF(#REF!=9,12,0)","v":{"$error":"#REF!"}},{"$f":"IF(#REF!=10,11,0)","v":{"$error":"#REF!"}},{"$f":"IF(#REF!=11,10,0)","v":{"$error":"#REF!"}},{"$f":"IF(#REF!=12,9,0)","v":{"$error":"#REF!"}},{"$f":"IF(#REF!=13,8,0)","v":{"$error":"#REF!"}},{"$f":"IF(#REF!=14,7,0)","v":{"$error":"#REF!"}},{"$f":"IF(#REF!=15,6,0)","v":{"$error":"#REF!"}},{"$f":"IF(#REF!=16,5,0)","v":{"$error":"#REF!"}},{"$f":"IF(#REF!=17,4,0)","v":{"$error":"#REF!"}},{"$f":"IF(#REF!=18,3,0)","v":{"$error":"#REF!"}},{"$f":"IF(#REF!=19,2,0)","v":{"$error":"#REF!"}},{"$f":"IF(#REF!=20,1,0)","v":{"$error":"#REF!"}},{"$f":"IF(#REF!>20,0,0)","v":{"$error":"#REF!"}},{"$f":"IF(#REF!=\"сх\",0,0)","v":{"$error":"#REF!"}},{"$f":"SUM(P12:AJ12)","v":{"$error":"#REF!"}},{"$f":"IF(#REF!=1,25,0)","v":{"$error":"#REF!"}},{"$f":"IF(#REF!=2,22,0)","v":{"$error":"#REF!"}},{"$f":"IF(#REF!=3,20,0)","v":{"$error":"#REF!"}},{"$f":"IF(#REF!=4,18,0)","v":{"$error":"#REF!"}},{"$f":"IF(#REF!=5,16,0)","v":{"$error":"#REF!"}},{"$f":"IF(#REF!=6,15,0)","v":{"$error":"#REF!"}},{"$f":"IF(#REF!=7,14,0)","v":{"$error":"#REF!"}},{"$f":"IF(#REF!=8,13,0)","v":{"$error":"#REF!"}},{"$f":"IF(#REF!=9,12,0)","v":{"$error":"#REF!"}},{"$f":"IF(#REF!=10,11,0)","v":{"$error":"#REF!"}},{"$f":"IF(#REF!=11,10,0)","v":{"$error":"#REF!"}},{"$f":"IF(#REF!=12,9,0)","v":{"$error":"#REF!"}},{"$f":"IF(#REF!=13,8,0)","v":{"$error":"#REF!"}},{"$f":"IF(#REF!=14,7,0)","v":{"$error":"#REF!"}},{"$f":"IF(#REF!=15,6,0)","v":{"$error":"#REF!"}},{"$f":"IF(#REF!=16,5,0)","v":{"$error":"#REF!"}},{"$f":"IF(#REF!=17,4,0)","v":{"$error":"#REF!"}},{"$f":"IF(#REF!=18,3,0)","v":{"$error":"#REF!"}},{"$f":"IF(#REF!=19,2,0)","v":{"$error":"#REF!"}},{"$f":"IF(#REF!=20,1,0)","v":{"$error":"#REF!"}},{"$f":"IF(#REF!>20,0,0)","v":{"$error":"#REF!"}},{"$f":"IF(#REF!=\"сх\",0,0)","v":{"$error":"#REF!"}},{"$f":"SUM(AM12:BG12)","v":{"$error":"#REF!"}},{"$f":"IF(#REF!=1,45,0)","v":{"$error":"#REF!"}},{"$f":"IF(#REF!=2,42,0)","v":{"$error":"#REF!"}},{"$f":"IF(#REF!=3,40,0)","v":{"$error":"#REF!"}},{"$f":"IF(#REF!=4,38,0)","v":{"$error":"#REF!"}},{"$f":"IF(#REF!=5,36,0)","v":{"$error":"#REF!"}},{"$f":"IF(#REF!=6,35,0)","v":{"$error":"#REF!"}},{"$f":"IF(#REF!=7,34,0)","v":{"$error":"#REF!"}},{"$f":"IF(#REF!=8,33,0)","v":{"$error":"#REF!"}},{"$f":"IF(#REF!=9,32,0)","v":{"$error":"#REF!"}},{"$f":"IF(#REF!=10,31,0)","v":{"$error":"#REF!"}},{"$f":"IF(#REF!=11,30,0)","v":{"$error":"#REF!"}},{"$f":"IF(#REF!=12,29,0)","v":{"$error":"#REF!"}},{"$f":"IF(#REF!=13,28,0)","v":{"$error":"#REF!"}},{"$f":"IF(#REF!=14,27,0)","v":{"$error":"#REF!"}},{"$f":"IF(#REF!=15,26,0)","v":{"$error":"#REF!"}},{"$f":"IF(#REF!=16,25,0)","v":{"$error":"#REF!"}},{"$f":"IF(#REF!=17,24,0)","v":{"$error":"#REF!"}},{"$f":"IF(#REF!=18,23,0)","v":{"$error":"#REF!"}},{"$f":"IF(#REF!=19,22,0)","v":{"$error":"#REF!"}},{"$f":"IF(#REF!=20,21,0)","v":{"$error":"#REF!"}},{"$f":"IF(#REF!=21,20,0)","v":{"$error":"#REF!"}},{"$f":"IF(#REF!=22,19,0)","v":{"$error":"#REF!"}},{"$f":"IF(#REF!=23,18,0)","v":{"$error":"#REF!"}},{"$f":"IF(#REF!=24,17,0)","v":{"$error":"#REF!"}},{"$f":"IF(#REF!=25,16,0)","v":{"$error":"#REF!"}},{"$f":"IF(#REF!=26,15,0)","v":{"$error":"#REF!"}},{"$f":"IF(#REF!=27,14,0)","v":{"$error":"#REF!"}},{"$f":"IF(#REF!=28,13,0)","v":{"$error":"#REF!"}},{"$f":"IF(#REF!=29,12,0)","v":{"$error":"#REF!"}},{"$f":"IF(#REF!=30,11,0)","v":{"$error":"#REF!"}},{"$f":"IF(#REF!=31,10,0)","v":{"$error":"#REF!"}},{"$f":"IF(#REF!=32,9,0)","v":{"$error":"#REF!"}},{"$f":"IF(#REF!=33,8,0)","v":{"$error":"#REF!"}},{"$f":"IF(#REF!=34,7,0)","v":{"$error":"#REF!"}},{"$f":"IF(#REF!=35,6,0)","v":{"$error":"#REF!"}},{"$f":"IF(#REF!=36,5,0)","v":{"$error":"#REF!"}},{"$f":"IF(#REF!=37,4,0)","v":{"$error":"#REF!"}},{"$f":"IF(#REF!=38,3,0)","v":{"$error":"#REF!"}},{"$f":"IF(#REF!=39,2,0)","v":{"$error":"#REF!"}},{"$f":"IF(#REF!=40,1,0)","v":{"$error":"#REF!"}},{"$f":"IF(#REF!>20,0,0)","v":{"$error":"#REF!"}},{"$f":"IF(#REF!=\"сх\",0,0)","v":{"$error":"#REF!"}},{"$f":"SUM(BJ12:CY12)","v":{"$error":"#REF!"}},{"$f":"IF(#REF!=1,45,0)","v":{"$error":"#REF!"}},{"$f":"IF(#REF!=2,42,0)","v":{"$error":"#REF!"}},{"$f":"IF(#REF!=3,40,0)","v":{"$error":"#REF!"}},{"$f":"IF(#REF!=4,38,0)","v":{"$error":"#REF!"}},{"$f":"IF(#REF!=5,36,0)","v":{"$error":"#REF!"}},{"$f":"IF(#REF!=6,35,0)","v":{"$error":"#REF!"}},{"$f":"IF(#REF!=7,34,0)","v":{"$error":"#REF!"}},{"$f":"IF(#REF!=8,33,0)","v":{"$error":"#REF!"}},{"$f":"IF(#REF!=9,32,0)","v":{"$error":"#REF!"}},{"$f":"IF(#REF!=10,31,0)","v":{"$error":"#REF!"}},{"$f":"IF(#REF!=11,30,0)","v":{"$error":"#REF!"}},{"$f":"IF(#REF!=12,29,0)","v":{"$error":"#REF!"}},{"$f":"IF(#REF!=13,28,0)","v":{"$error":"#REF!"}},{"$f":"IF(#REF!=14,27,0)","v":{"$error":"#REF!"}},{"$f":"IF(#REF!=15,26,0)","v":{"$error":"#REF!"}},{"$f":"IF(#REF!=16,25,0)","v":{"$error":"#REF!"}},{"$f":"IF(#REF!=17,24,0)","v":{"$error":"#REF!"}},{"$f":"IF(#REF!=18,23,0)","v":{"$error":"#REF!"}},{"$f":"IF(#REF!=19,22,0)","v":{"$error":"#REF!"}},{"$f":"IF(#REF!=20,21,0)","v":{"$error":"#REF!"}},{"$f":"IF(#REF!=21,20,0)","v":{"$error":"#REF!"}},{"$f":"IF(#REF!=22,19,0)","v":{"$error":"#REF!"}},{"$f":"IF(#REF!=23,18,0)","v":{"$error":"#REF!"}},{"$f":"IF(#REF!=24,17,0)","v":{"$error":"#REF!"}},{"$f":"IF(#REF!=25,16,0)","v":{"$error":"#REF!"}},{"$f":"IF(#REF!=26,15,0)","v":{"$error":"#REF!"}},{"$f":"IF(#REF!=27,14,0)","v":{"$error":"#REF!"}},{"$f":"IF(#REF!=28,13,0)","v":{"$error":"#REF!"}},{"$f":"IF(#REF!=29,12,0)","v":{"$error":"#REF!"}},{"$f":"IF(#REF!=30,11,0)","v":{"$error":"#REF!"}},{"$f":"IF(#REF!=31,10,0)","v":{"$error":"#REF!"}},{"$f":"IF(#REF!=32,9,0)","v":{"$error":"#REF!"}},{"$f":"IF(#REF!=33,8,0)","v":{"$error":"#REF!"}},{"$f":"IF(#REF!=34,7,0)","v":{"$error":"#REF!"}},{"$f":"IF(#REF!=35,6,0)","v":{"$error":"#REF!"}},{"$f":"IF(#REF!=36,5,0)","v":{"$error":"#REF!"}},{"$f":"IF(#REF!=37,4,0)","v":{"$error":"#REF!"}},{"$f":"IF(#REF!=38,3,0)","v":{"$error":"#REF!"}},{"$f":"IF(#REF!=39,2,0)","v":{"$error":"#REF!"}},{"$f":"IF(#REF!=40,1,0)","v":{"$error":"#REF!"}},{"$f":"IF(#REF!>20,0,0)","v":{"$error":"#REF!"}},{"$f":"IF(#REF!=\"сх\",0,0)","v":{"$error":"#REF!"}},{"$f":"SUM(DA12:EP12)","v":{"$error":"#REF!"}},null,{"$f":"IF(#REF!=\"сх\",\"ноль\",IF(#REF!>0,#REF!,\"Ноль\"))","v":{"$error":"#REF!"}},{"$f":"IF(#REF!=\"сх\",\"ноль\",IF(#REF!>0,#REF!,\"Ноль\"))","v":{"$error":"#REF!"}},null,{"$f":"MIN(ES12,ET12)","v":{"$error":"#REF!"}},{"$f":"IF(L12=#REF!,IF(#REF!<#REF!,#REF!,FA12),#REF!)","v":{"$error":"#REF!"}},{"$f":"IF(L12=#REF!,IF(#REF!<#REF!,0,1))","v":{"$error":"#REF!"}},{"$f":"IF(AND(EV12>=21,EV12<>0),EV12,IF(L12<#REF!,\"СТОП\",EW12+EX12))","v":{"$error":"#REF!"}},null,15,16,null,{"$f":"IF(#REF!=1,25,0)","v":{"$error":"#REF!"}},{"$f":"IF(#REF!=2,22,0)","v":{"$error":"#REF!"}},{"$f":"IF(#REF!=3,20,0)","v":{"$error":"#REF!"}},{"$f":"IF(#REF!=4,18,0)","v":{"$error":"#REF!"}},{"$f":"IF(#REF!=5,16,0)","v":{"$error":"#REF!"}},{"$f":"IF(#REF!=6,15,0)","v":{"$error":"#REF!"}},{"$f":"IF(#REF!=7,14,0)","v":{"$error":"#REF!"}},{"$f":"IF(#REF!=8,13,0)","v":{"$error":"#REF!"}},{"$f":"IF(#REF!=9,12,0)","v":{"$error":"#REF!"}},{"$f":"IF(#REF!=10,11,0)","v":{"$error":"#REF!"}},{"$f":"IF(#REF!=11,10,0)","v":{"$error":"#REF!"}},{"$f":"IF(#REF!=12,9,0)","v":{"$error":"#REF!"}},{"$f":"IF(#REF!=13,8,0)","v":{"$error":"#REF!"}},{"$f":"IF(#REF!=14,7,0)","v":{"$error":"#REF!"}},{"$f":"IF(#REF!=15,6,0)","v":{"$error":"#REF!"}},{"$f":"IF(#REF!=16,5,0)","v":{"$error":"#REF!"}},{"$f":"IF(#REF!=17,4,0)","v":{"$error":"#REF!"}},{"$f":"IF(#REF!=18,3,0)","v":{"$error":"#REF!"}},{"$f":"IF(#REF!=19,2,0)","v":{"$error":"#REF!"}},{"$f":"IF(#REF!=20,1,0)","v":{"$error":"#REF!"}},{"$f":"IF(#REF!>20,0,0)","v":{"$error":"#REF!"}},{"$f":"IF(#REF!=\"сх\",0,0)","v":{"$error":"#REF!"}},{"$f":"SUM(FD12:FY12)","v":{"$error":"#REF!"}},{"$f":"IF(#REF!=1,25,0)","v":{"$error":"#REF!"}},{"$f":"IF(#REF!=2,22,0)","v":{"$error":"#REF!"}},{"$f":"IF(#REF!=3,20,0)","v":{"$error":"#REF!"}},{"$f":"IF(#REF!=4,18,0)","v":{"$error":"#REF!"}},{"$f":"IF(#REF!=5,16,0)","v":{"$error":"#REF!"}},{"$f":"IF(#REF!=6,15,0)","v":{"$error":"#REF!"}},{"$f":"IF(#REF!=7,14,0)","v":{"$error":"#REF!"}},{"$f":"IF(#REF!=8,13,0)","v":{"$error":"#REF!"}},{"$f":"IF(#REF!=9,12,0)","v":{"$error":"#REF!"}},{"$f":"IF(#REF!=10,11,0)","v":{"$error":"#REF!"}},{"$f":"IF(#REF!=11,10,0)","v":{"$error":"#REF!"}},{"$f":"IF(#REF!=12,9,0)","v":{"$error":"#REF!"}},{"$f":"IF(#REF!=13,8,0)","v":{"$error":"#REF!"}},{"$f":"IF(#REF!=14,7,0)","v":{"$error":"#REF!"}},{"$f":"IF(#REF!=15,6,0)","v":{"$error":"#REF!"}},{"$f":"IF(#REF!=16,5,0)","v":{"$error":"#REF!"}},{"$f":"IF(#REF!=17,4,0)","v":{"$error":"#REF!"}},{"$f":"IF(#REF!=18,3,0)","v":{"$error":"#REF!"}},{"$f":"IF(#REF!=19,2,0)","v":{"$error":"#REF!"}},{"$f":"IF(#REF!=20,1,0)","v":{"$error":"#REF!"}},{"$f":"IF(#REF!>20,0,0)","v":{"$error":"#REF!"}},{"$f":"IF(#REF!=\"сх\",0,0)","v":{"$error":"#REF!"}},{"$f":"SUM(GA12:GV12)","v":{"$error":"#REF!"}},{"$f":"IF(#REF!=1,100,0)","v":{"$error":"#REF!"}},{"$f":"IF(#REF!=2,98,0)","v":{"$error":"#REF!"}},{"$f":"IF(#REF!=3,95,0)","v":{"$error":"#REF!"}},{"$f":"IF(#REF!=4,93,0)","v":{"$error":"#REF!"}},{"$f":"IF(#REF!=5,90,0)","v":{"$error":"#REF!"}},{"$f":"IF(#REF!=6,88,0)","v":{"$error":"#REF!"}},{"$f":"IF(#REF!=7,85,0)","v":{"$error":"#REF!"}},{"$f":"IF(#REF!=8,83,0)","v":{"$error":"#REF!"}},{"$f":"IF(#REF!=9,80,0)","v":{"$error":"#REF!"}},{"$f":"IF(#REF!=10,78,0)","v":{"$error":"#REF!"}},{"$f":"IF(#REF!=11,75,0)","v":{"$error":"#REF!"}},{"$f":"IF(#REF!=12,73,0)","v":{"$error":"#REF!"}},{"$f":"IF(#REF!=13,70,0)","v":{"$error":"#REF!"}},{"$f":"IF(#REF!=14,68,0)","v":{"$error":"#REF!"}},{"$f":"IF(#REF!=15,65,0)","v":{"$error":"#REF!"}},{"$f":"IF(#REF!=16,63,0)","v":{"$error":"#REF!"}},{"$f":"IF(#REF!=17,60,0)","v":{"$error":"#REF!"}},{"$f":"IF(#REF!=18,58,0)","v":{"$error":"#REF!"}},{"$f":"IF(#REF!=19,55,0)","v":{"$error":"#REF!"}},{"$f":"IF(#REF!=20,53,0)","v":{"$error":"#REF!"}},{"$f":"IF(#REF!>20,0,0)","v":{"$error":"#REF!"}},{"$f":"IF(#REF!=\"сх\",0,0)","v":{"$error":"#REF!"}},{"$f":"SUM(GX12:HS12)","v":{"$error":"#REF!"}},{"$f":"IF(#REF!=1,100,0)","v":{"$error":"#REF!"}},{"$f":"IF(#REF!=2,98,0)","v":{"$error":"#REF!"}},{"$f":"IF(#REF!=3,95,0)","v":{"$error":"#REF!"}},{"$f":"IF(#REF!=4,93,0)","v":{"$error":"#REF!"}},{"$f":"IF(#REF!=5,90,0)","v":{"$error":"#REF!"}},{"$f":"IF(#REF!=6,88,0)","v":{"$error":"#REF!"}},{"$f":"IF(#REF!=7,85,0)","v":{"$error":"#REF!"}},{"$f":"IF(#REF!=8,83,0)","v":{"$error":"#REF!"}},{"$f":"IF(#REF!=9,80,0)","v":{"$error":"#REF!"}},{"$f":"IF(#REF!=10,78,0)","v":{"$error":"#REF!"}},{"$f":"IF(#REF!=11,75,0)","v":{"$error":"#REF!"}},{"$f":"IF(#REF!=12,73,0)","v":{"$error":"#REF!"}},{"$f":"IF(#REF!=13,70,0)","v":{"$error":"#REF!"}},{"$f":"IF(#REF!=14,68,0)","v":{"$error":"#REF!"}},{"$f":"IF(#REF!=15,65,0)","v":{"$error":"#REF!"}},{"$f":"IF(#REF!=16,63,0)","v":{"$error":"#REF!"}},{"$f":"IF(#REF!=17,60,0)","v":{"$error":"#REF!"}},{"$f":"IF(#REF!=18,58,0)","v":{"$error":"#REF!"}},{"$f":"IF(#REF!=19,55,0)","v":{"$error":"#REF!"}},{"$f":"IF(#REF!=20,53,0)","v":{"$error":"#REF!"}},{"$f":"IF(#REF!>20,0,0)","v":{"$error":"#REF!"}},{"$f":"IF(#REF!=\"сх\",0,0)","v":{"$error":"#REF!"}},{"$f":"SUM(HU12:IP12)","v":{"$error":"#REF!"}}]
[4,648,"Мельников Максим","б/р","г. Ижевск, Удмуртская Республика","лично","Arctic - Cat",4,18,4,18,36,{"$f":"#REF!+#REF!","v":{"$error":"#REF!"}},null,null,{"$f":"IF(#REF!=1,25,0)","v":{"$error":"#REF!"}},{"$f":"IF(#REF!=2,22,0)","v":{"$error":"#REF!"}},{"$f":"IF(#REF!=3,20,0)","v":{"$error":"#REF!"}},{"$f":"IF(#REF!=4,18,0)","v":{"$error":"#REF!"}},{"$f":"IF(#REF!=5,16,0)","v":{"$error":"#REF!"}},{"$f":"IF(#REF!=6,15,0)","v":{"$error":"#REF!"}},{"$f":"IF(#REF!=7,14,0)","v":{"$error":"#REF!"}},{"$f":"IF(#REF!=8,13,0)","v":{"$error":"#REF!"}},{"$f":"IF(#REF!=9,12,0)","v":{"$error":"#REF!"}},{"$f":"IF(#REF!=10,11,0)","v":{"$error":"#REF!"}},{"$f":"IF(#REF!=11,10,0)","v":{"$error":"#REF!"}},{"$f":"IF(#REF!=12,9,0)","v":{"$error":"#REF!"}},{"$f":"IF(#REF!=13,8,0)","v":{"$error":"#REF!"}},{"$f":"IF(#REF!=14,7,0)","v":{"$error":"#REF!"}},{"$f":"IF(#REF!=15,6,0)","v":{"$error":"#REF!"}},{"$f":"IF(#REF!=16,5,0)","v":{"$error":"#REF!"}},{"$f":"IF(#REF!=17,4,0)","v":{"$error":"#REF!"}},{"$f":"IF(#REF!=18,3,0)","v":{"$error":"#REF!"}},{"$f":"IF(#REF!=19,2,0)","v":{"$error":"#REF!"}},{"$f":"IF(#REF!=20,1,0)","v":{"$error":"#REF!"}},{"$f":"IF(#REF!>20,0,0)","v":{"$error":"#REF!"}},{"$f":"IF(#REF!=\"сх\",0,0)","v":{"$error":"#REF!"}},{"$f":"SUM(P13:AJ13)","v":{"$error":"#REF!"}},{"$f":"IF(#REF!=1,25,0)","v":{"$error":"#REF!"}},{"$f":"IF(#REF!=2,22,0)","v":{"$error":"#REF!"}},{"$f":"IF(#REF!=3,20,0)","v":{"$error":"#REF!"}},{"$f":"IF(#REF!=4,18,0)","v":{"$error":"#REF!"}},{"$f":"IF(#REF!=5,16,0)","v":{"$error":"#REF!"}},{"$f":"IF(#REF!=6,15,0)","v":{"$error":"#REF!"}},{"$f":"IF(#REF!=7,14,0)","v":{"$error":"#REF!"}},{"$f":"IF(#REF!=8,13,0)","v":{"$error":"#REF!"}},{"$f":"IF(#REF!=9,12,0)","v":{"$error":"#REF!"}},{"$f":"IF(#REF!=10,11,0)","v":{"$error":"#REF!"}},{"$f":"IF(#REF!=11,10,0)","v":{"$error":"#REF!"}},{"$f":"IF(#REF!=12,9,0)","v":{"$error":"#REF!"}},{"$f":"IF(#REF!=13,8,0)","v":{"$error":"#REF!"}},{"$f":"IF(#REF!=14,7,0)","v":{"$error":"#REF!"}},{"$f":"IF(#REF!=15,6,0)","v":{"$error":"#REF!"}},{"$f":"IF(#REF!=16,5,0)","v":{"$error":"#REF!"}},{"$f":"IF(#REF!=17,4,0)","v":{"$error":"#REF!"}},{"$f":"IF(#REF!=18,3,0)","v":{"$error":"#REF!"}},{"$f":"IF(#REF!=19,2,0)","v":{"$error":"#REF!"}},{"$f":"IF(#REF!=20,1,0)","v":{"$error":"#REF!"}},{"$f":"IF(#REF!>20,0,0)","v":{"$error":"#REF!"}},{"$f":"IF(#REF!=\"сх\",0,0)","v":{"$error":"#REF!"}},{"$f":"SUM(AM13:BG13)","v":{"$error":"#REF!"}},{"$f":"IF(#REF!=1,45,0)","v":{"$error":"#REF!"}},{"$f":"IF(#REF!=2,42,0)","v":{"$error":"#REF!"}},{"$f":"IF(#REF!=3,40,0)","v":{"$error":"#REF!"}},{"$f":"IF(#REF!=4,38,0)","v":{"$error":"#REF!"}},{"$f":"IF(#REF!=5,36,0)","v":{"$error":"#REF!"}},{"$f":"IF(#REF!=6,35,0)","v":{"$error":"#REF!"}},{"$f":"IF(#REF!=7,34,0)","v":{"$error":"#REF!"}},{"$f":"IF(#REF!=8,33,0)","v":{"$error":"#REF!"}},{"$f":"IF(#REF!=9,32,0)","v":{"$error":"#REF!"}},{"$f":"IF(#REF!=10,31,0)","v":{"$error":"#REF!"}},{"$f":"IF(#REF!=11,30,0)","v":{"$error":"#REF!"}},{"$f":"IF(#REF!=12,29,0)","v":{"$error":"#REF!"}},{"$f":"IF(#REF!=13,28,0)","v":{"$error":"#REF!"}},{"$f":"IF(#REF!=14,27,0)","v":{"$error":"#REF!"}},{"$f":"IF(#REF!=15,26,0)","v":{"$error":"#REF!"}},{"$f":"IF(#REF!=16,25,0)","v":{"$error":"#REF!"}},{"$f":"IF(#REF!=17,24,0)","v":{"$error":"#REF!"}},{"$f":"IF(#REF!=18,23,0)","v":{"$error":"#REF!"}},{"$f":"IF(#REF!=19,22,0)","v":{"$error":"#REF!"}},{"$f":"IF(#REF!=20,21,0)","v":{"$error":"#REF!"}},{"$f":"IF(#REF!=21,20,0)","v":{"$error":"#REF!"}},{"$f":"IF(#REF!=22,19,0)","v":{"$error":"#REF!"}},{"$f":"IF(#REF!=23,18,0)","v":{"$error":"#REF!"}},{"$f":"IF(#REF!=24,17,0)","v":{"$error":"#REF!"}},{"$f":"IF(#REF!=25,16,0)","v":{"$error":"#REF!"}},{"$f":"IF(#REF!=26,15,0)","v":{"$error":"#REF!"}},{"$f":"IF(#REF!=27,14,0)","v":{"$error":"#REF!"}},{"$f":"IF(#REF!=28,13,0)","v":{"$error":"#REF!"}},{"$f":"IF(#REF!=29,12,0)","v":{"$error":"#REF!"}},{"$f":"IF(#REF!=30,11,0)","v":{"$error":"#REF!"}},{"$f":"IF(#REF!=31,10,0)","v":{"$error":"#REF!"}},{"$f":"IF(#REF!=32,9,0)","v":{"$error":"#REF!"}},{"$f":"IF(#REF!=33,8,0)","v":{"$error":"#REF!"}},{"$f":"IF(#REF!=34,7,0)","v":{"$error":"#REF!"}},{"$f":"IF(#REF!=35,6,0)","v":{"$error":"#REF!"}},{"$f":"IF(#REF!=36,5,0)","v":{"$error":"#REF!"}},{"$f":"IF(#REF!=37,4,0)","v":{"$error":"#REF!"}},{"$f":"IF(#REF!=38,3,0)","v":{"$error":"#REF!"}},{"$f":"IF(#REF!=39,2,0)","v":{"$error":"#REF!"}},{"$f":"IF(#REF!=40,1,0)","v":{"$error":"#REF!"}},{"$f":"IF(#REF!>20,0,0)","v":{"$error":"#REF!"}},{"$f":"IF(#REF!=\"сх\",0,0)","v":{"$error":"#REF!"}},{"$f":"SUM(BJ13:CY13)","v":{"$error":"#REF!"}},{"$f":"IF(#REF!=1,45,0)","v":{"$error":"#REF!"}},{"$f":"IF(#REF!=2,42,0)","v":{"$error":"#REF!"}},{"$f":"IF(#REF!=3,40,0)","v":{"$error":"#REF!"}},{"$f":"IF(#REF!=4,38,0)","v":{"$error":"#REF!"}},{"$f":"IF(#REF!=5,36,0)","v":{"$error":"#REF!"}},{"$f":"IF(#REF!=6,35,0)","v":{"$error":"#REF!"}},{"$f":"IF(#REF!=7,34,0)","v":{"$error":"#REF!"}},{"$f":"IF(#REF!=8,33,0)","v":{"$error":"#REF!"}},{"$f":"IF(#REF!=9,32,0)","v":{"$error":"#REF!"}},{"$f":"IF(#REF!=10,31,0)","v":{"$error":"#REF!"}},{"$f":"IF(#REF!=11,30,0)","v":{"$error":"#REF!"}},{"$f":"IF(#REF!=12,29,0)","v":{"$error":"#REF!"}},{"$f":"IF(#REF!=13,28,0)","v":{"$error":"#REF!"}},{"$f":"IF(#REF!=14,27,0)","v":{"$error":"#REF!"}},{"$f":"IF(#REF!=15,26,0)","v":{"$error":"#REF!"}},{"$f":"IF(#REF!=16,25,0)","v":{"$error":"#REF!"}},{"$f":"IF(#REF!=17,24,0)","v":{"$error":"#REF!"}},{"$f":"IF(#REF!=18,23,0)","v":{"$error":"#REF!"}},{"$f":"IF(#REF!=19,22,0)","v":{"$error":"#REF!"}},{"$f":"IF(#REF!=20,21,0)","v":{"$error":"#REF!"}},{"$f":"IF(#REF!=21,20,0)","v":{"$error":"#REF!"}},{"$f":"IF(#REF!=22,19,0)","v":{"$error":"#REF!"}},{"$f":"IF(#REF!=23,18,0)","v":{"$error":"#REF!"}},{"$f":"IF(#REF!=24,17,0)","v":{"$error":"#REF!"}},{"$f":"IF(#REF!=25,16,0)","v":{"$error":"#REF!"}},{"$f":"IF(#REF!=26,15,0)","v":{"$error":"#REF!"}},{"$f":"IF(#REF!=27,14,0)","v":{"$error":"#REF!"}},{"$f":"IF(#REF!=28,13,0)","v":{"$error":"#REF!"}},{"$f":"IF(#REF!=29,12,0)","v":{"$error":"#REF!"}},{"$f":"IF(#REF!=30,11,0)","v":{"$error":"#REF!"}},{"$f":"IF(#REF!=31,10,0)","v":{"$error":"#REF!"}},{"$f":"IF(#REF!=32,9,0)","v":{"$error":"#REF!"}},{"$f":"IF(#REF!=33,8,0)","v":{"$error":"#REF!"}},{"$f":"IF(#REF!=34,7,0)","v":{"$error":"#REF!"}},{"$f":"IF(#REF!=35,6,0)","v":{"$error":"#REF!"}},{"$f":"IF(#REF!=36,5,0)","v":{"$error":"#REF!"}},{"$f":"IF(#REF!=37,4,0)","v":{"$error":"#REF!"}},{"$f":"IF(#REF!=38,3,0)","v":{"$error":"#REF!"}},{"$f":"IF(#REF!=39,2,0)","v":{"$error":"#REF!"}},{"$f":"IF(#REF!=40,1,0)","v":{"$error":"#REF!"}},{"$f":"IF(#REF!>20,0,0)","v":{"$error":"#REF!"}},{"$f":"IF(#REF!=\"сх\",0,0)","v":{"$error":"#REF!"}},{"$f":"SUM(DA13:EP13)","v":{"$error":"#REF!"}},null,{"$f":"IF(#REF!=\"сх\",\"ноль\",IF(#REF!>0,#REF!,\"Ноль\"))","v":{"$error":"#REF!"}},{"$f":"IF(#REF!=\"сх\",\"ноль\",IF(#REF!>0,#REF!,\"Ноль\"))","v":{"$error":"#REF!"}},null,{"$f":"MIN(ES13,ET13)","v":{"$error":"#REF!"}},{"$f":"IF(L13=#REF!,IF(#REF!<#REF!,#REF!,FA13),#REF!)","v":{"$error":"#REF!"}},{"$f":"IF(L13=#REF!,IF(#REF!<#REF!,0,1))","v":{"$error":"#REF!"}},{"$f":"IF(AND(EV13>=21,EV13<>0),EV13,IF(L13<#REF!,\"СТОП\",EW13+EX13))","v":{"$error":"#REF!"}},null,15,16,null,{"$f":"IF(#REF!=1,25,0)","v":{"$error":"#REF!"}},{"$f":"IF(#REF!=2,22,0)","v":{"$error":"#REF!"}},{"$f":"IF(#REF!=3,20,0)","v":{"$error":"#REF!"}},{"$f":"IF(#REF!=4,18,0)","v":{"$error":"#REF!"}},{"$f":"IF(#REF!=5,16,0)","v":{"$error":"#REF!"}},{"$f":"IF(#REF!=6,15,0)","v":{"$error":"#REF!"}},{"$f":"IF(#REF!=7,14,0)","v":{"$error":"#REF!"}},{"$f":"IF(#REF!=8,13,0)","v":{"$error":"#REF!"}},{"$f":"IF(#REF!=9,12,0)","v":{"$error":"#REF!"}},{"$f":"IF(#REF!=10,11,0)","v":{"$error":"#REF!"}},{"$f":"IF(#REF!=11,10,0)","v":{"$error":"#REF!"}},{"$f":"IF(#REF!=12,9,0)","v":{"$error":"#REF!"}},{"$f":"IF(#REF!=13,8,0)","v":{"$error":"#REF!"}},{"$f":"IF(#REF!=14,7,0)","v":{"$error":"#REF!"}},{"$f":"IF(#REF!=15,6,0)","v":{"$error":"#REF!"}},{"$f":"IF(#REF!=16,5,0)","v":{"$error":"#REF!"}},{"$f":"IF(#REF!=17,4,0)","v":{"$error":"#REF!"}},{"$f":"IF(#REF!=18,3,0)","v":{"$error":"#REF!"}},{"$f":"IF(#REF!=19,2,0)","v":{"$error":"#REF!"}},{"$f":"IF(#REF!=20,1,0)","v":{"$error":"#REF!"}},{"$f":"IF(#REF!>20,0,0)","v":{"$error":"#REF!"}},{"$f":"IF(#REF!=\"сх\",0,0)","v":{"$error":"#REF!"}},{"$f":"SUM(FD13:FY13)","v":{"$error":"#REF!"}},{"$f":"IF(#REF!=1,25,0)","v":{"$error":"#REF!"}},{"$f":"IF(#REF!=2,22,0)","v":{"$error":"#REF!"}},{"$f":"IF(#REF!=3,20,0)","v":{"$error":"#REF!"}},{"$f":"IF(#REF!=4,18,0)","v":{"$error":"#REF!"}},{"$f":"IF(#REF!=5,16,0)","v":{"$error":"#REF!"}},{"$f":"IF(#REF!=6,15,0)","v":{"$error":"#REF!"}},{"$f":"IF(#REF!=7,14,0)","v":{"$error":"#REF!"}},{"$f":"IF(#REF!=8,13,0)","v":{"$error":"#REF!"}},{"$f":"IF(#REF!=9,12,0)","v":{"$error":"#REF!"}},{"$f":"IF(#REF!=10,11,0)","v":{"$error":"#REF!"}},{"$f":"IF(#REF!=11,10,0)","v":{"$error":"#REF!"}},{"$f":"IF(#REF!=12,9,0)","v":{"$error":"#REF!"}},{"$f":"IF(#REF!=13,8,0)","v":{"$error":"#REF!"}},{"$f":"IF(#REF!=14,7,0)","v":{"$error":"#REF!"}},{"$f":"IF(#REF!=15,6,0)","v":{"$error":"#REF!"}},{"$f":"IF(#REF!=16,5,0)","v":{"$error":"#REF!"}},{"$f":"IF(#REF!=17,4,0)","v":{"$error":"#REF!"}},{"$f":"IF(#REF!=18,3,0)","v":{"$error":"#REF!"}},{"$f":"IF(#REF!=19,2,0)","v":{"$error":"#REF!"}},{"$f":"IF(#REF!=20,1,0)","v":{"$error":"#REF!"}},{"$f":"IF(#REF!>20,0,0)","v":{"$error":"#REF!"}},{"$f":"IF(#REF!=\"сх\",0,0)","v":{"$error":"#REF!"}},{"$f":"SUM(GA13:GV13)","v":{"$error":"#REF!"}},{"$f":"IF(#REF!=1,100,0)","v":{"$error":"#REF!"}},{"$f":"IF(#REF!=2,98,0)","v":{"$error":"#REF!"}},{"$f":"IF(#REF!=3,95,0)","v":{"$error":"#REF!"}},{"$f":"IF(#REF!=4,93,0)","v":{"$error":"#REF!"}},{"$f":"IF(#REF!=5,90,0)","v":{"$error":"#REF!"}},{"$f":"IF(#REF!=6,88,0)","v":{"$error":"#REF!"}},{"$f":"IF(#REF!=7,85,0)","v":{"$error":"#REF!"}},{"$f":"IF(#REF!=8,83,0)","v":{"$error":"#REF!"}},{"$f":"IF(#REF!=9,80,0)","v":{"$error":"#REF!"}},{"$f":"IF(#REF!=10,78,0)","v":{"$error":"#REF!"}},{"$f":"IF(#REF!=11,75,0)","v":{"$error":"#REF!"}},{"$f":"IF(#REF!=12,73,0)","v":{"$error":"#REF!"}},{"$f":"IF(#REF!=13,70,0)","v":{"$error":"#REF!"}},{"$f":"IF(#REF!=14,68,0)","v":{"$error":"#REF!"}},{"$f":"IF(#REF!=15,65,0)","v":{"$error":"#REF!"}},{"$f":"IF(#REF!=16,63,0)","v":{"$error":"#REF!"}},{"$f":"IF(#REF!=17,60,0)","v":{"$error":"#REF!"}},{"$f":"IF(#REF!=18,58,0)","v":{"$error":"#REF!"}},{"$f":"IF(#REF!=19,55,0)","v":{"$error":"#REF!"}},{"$f":"IF(#REF!=20,53,0)","v":{"$error":"#REF!"}},{"$f":"IF(#REF!>20,0,0)","v":{"$error":"#REF!"}},{"$f":"IF(#REF!=\"сх\",0,0)","v":{"$error":"#REF!"}},{"$f":"SUM(GX13:HS13)","v":{"$error":"#REF!"}},{"$f":"IF(#REF!=1,100,0)","v":{"$error":"#REF!"}},{"$f":"IF(#REF!=2,98,0)","v":{"$error":"#REF!"}},{"$f":"IF(#REF!=3,95,0)","v":{"$error":"#REF!"}},{"$f":"IF(#REF!=4,93,0)","v":{"$error":"#REF!"}},{"$f":"IF(#REF!=5,90,0)","v":{"$error":"#REF!"}},{"$f":"IF(#REF!=6,88,0)","v":{"$error":"#REF!"}},{"$f":"IF(#REF!=7,85,0)","v":{"$error":"#REF!"}},{"$f":"IF(#REF!=8,83,0)","v":{"$error":"#REF!"}},{"$f":"IF(#REF!=9,80,0)","v":{"$error":"#REF!"}},{"$f":"IF(#REF!=10,78,0)","v":{"$error":"#REF!"}},{"$f":"IF(#REF!=11,75,0)","v":{"$error":"#REF!"}},{"$f":"IF(#REF!=12,73,0)","v":{"$error":"#REF!"}},{"$f":"IF(#REF!=13,70,0)","v":{"$error":"#REF!"}},{"$f":"IF(#REF!=14,68,0)","v":{"$error":"#REF!"}},{"$f":"IF(#REF!=15,65,0)","v":{"$error":"#REF!"}},{"$f":"IF(#REF!=16,63,0)","v":{"$error":"#REF!"}},{"$f":"IF(#REF!=17,60,0)","v":{"$error":"#REF!"}},{"$f":"IF(#REF!=18,58,0)","v":{"$error":"#REF!"}},{"$f":"IF(#REF!=19,55,0)","v":{"$error":"#REF!"}},{"$f":"IF(#REF!=20,53,0)","v":{"$error":"#REF!"}},{"$f":"IF(#REF!>20,0,0)","v":{"$error":"#REF!"}},{"$f":"IF(#REF!=\"сх\",0,0)","v":{"$error":"#REF!"}},{"$f":"SUM(HU13:IP13)","v":{"$error":"#REF!"}}]
[5,71,"Свиридок Максим","I","г. Новый Уренгой, Ямало-Ненецкий АО","СТК \"Факел\"","LYNX",5,16,5,16,32]
[6,70,"Брагин Артем","б/р","г. Альметьевск, Республика Татарстан","лично","LYNX",6,15,6,15,30,{"$f":"#REF!+#REF!","v":{"$error":"#REF!"}},null,null,{"$f":"IF(#REF!=1,25,0)","v":{"$error":"#REF!"}},{"$f":"IF(#REF!=2,22,0)","v":{"$error":"#REF!"}},{"$f":"IF(#REF!=3,20,0)","v":{"$error":"#REF!"}},{"$f":"IF(#REF!=4,18,0)","v":{"$error":"#REF!"}},{"$f":"IF(#REF!=5,16,0)","v":{"$error":"#REF!"}},{"$f":"IF(#REF!=6,15,0)","v":{"$error":"#REF!"}},{"$f":"IF(#REF!=7,14,0)","v":{"$error":"#REF!"}},{"$f":"IF(#REF!=8,13,0)","v":{"$error":"#REF!"}},{"$f":"IF(#REF!=9,12,0)","v":{"$error":"#REF!"}},{"$f":"IF(#REF!=10,11,0)","v":{"$error":"#REF!"}},{"$f":"IF(#REF!=11,10,0)","v":{"$error":"#REF!"}},{"$f":"IF(#REF!=12,9,0)","v":{"$error":"#REF!"}},{"$f":"IF(#REF!=13,8,0)","v":{"$error":"#REF!"}},{"$f":"IF(#REF!=14,7,0)","v":{"$error":"#REF!"}},{"$f":"IF(#REF!=15,6,0)","v":{"$error":"#REF!"}},{"$f":"IF(#REF!=16,5,0)","v":{"$error":"#REF!"}},{"$f":"IF(#REF!=17,4,0)","v":{"$error":"#REF!"}},{"$f":"IF(#REF!=18,3,0)","v":{"$error":"#REF!"}},{"$f":"IF(#REF!=19,2,0)","v":{"$error":"#REF!"}},{"$f":"IF(#REF!=20,1,0)","v":{"$error":"#REF!"}},{"$f":"IF(#REF!>20,0,0)","v":{"$error":"#REF!"}},{"$f":"IF(#REF!=\"сх\",0,0)","v":{"$error":"#REF!"}},{"$error":"#REF!"},{"$f":"IF(#REF!=1,25,0)","v":{"$error":"#REF!"}},{"$f":"IF(#REF!=2,22,0)","v":{"$error":"#REF!"}},{"$f":"IF(#REF!=3,20,0)","v":{"$error":"#REF!"}},{"$f":"IF(#REF!=4,18,0)","v":{"$error":"#REF!"}},{"$f":"IF(#REF!=5,16,0)","v":{"$error":"#REF!"}},{"$f":"IF(#REF!=6,15,0)","v":{"$error":"#REF!"}},{"$f":"IF(#REF!=7,14,0)","v":{"$error":"#REF!"}},{"$f":"IF(#REF!=8,13,0)","v":{"$error":"#REF!"}},{"$f":"IF(#REF!=9,12,0)","v":{"$error":"#REF!"}},{"$f":"IF(#REF!=10,11,0)","v":{"$error":"#REF!"}},{"$f":"IF(#REF!=11,10,0)","v":{"$error":"#REF!"}},{"$f":"IF(#REF!=12,9,0)","v":{"$error":"#REF!"}},{"$f":"IF(#REF!=13,8,0)","v":{"$error":"#REF!"}},{"$f":"IF(#REF!=14,7,0)","v":{"$error":"#REF!"}},{"$f":"IF(#REF!=15,6,0)","v":{"$error":"#REF!"}},{"$f":"IF(#REF!=16,5,0)","v":{"$error":"#REF!"}},{"$f":"IF(#REF!=17,4,0)","v":{"$error":"#REF!"}},{"$f":"IF(#REF!=18,3,0)","v":{"$error":"#REF!"}},{"$f":"IF(#REF!=19,2,0)","v":{"$error":"#REF!"}},{"$f":"IF(#REF!=20,1,0)","v":{"$error":"#REF!"}},{"$f":"IF(#REF!>20,0,0)","v":{"$error":"#REF!"}},{"$f":"IF(#REF!=\"сх\",0,0)","v":{"$error":"#REF!"}},{"$error":"#REF!"},{"$f":"IF(#REF!=1,45,0)","v":{"$error":"#REF!"}},{"$f":"IF(#REF!=2,42,0)","v":{"$error":"#REF!"}},{"$f":"IF(#REF!=3,40,0)","v":{"$error":"#REF!"}},{"$f":"IF(#REF!=4,38,0)","v":{"$error":"#REF!"}},{"$f":"IF(#REF!=5,36,0)","v":{"$error":"#REF!"}},{"$f":"IF(#REF!=6,35,0)","v":{"$error":"#REF!"}},{"$f":"IF(#REF!=7,34,0)","v":{"$error":"#REF!"}},{"$f":"IF(#REF!=8,33,0)","v":{"$error":"#REF!"}},{"$f":"IF(#REF!=9,32,0)","v":{"$error":"#REF!"}},{"$f":"IF(#REF!=10,31,0)","v":{"$error":"#REF!"}},{"$f":"IF(#REF!=11,30,0)","v":{"$error":"#REF!"}},{"$f":"IF(#REF!=12,29,0)","v":{"$error":"#REF!"}},{"$f":"IF(#REF!=13,28,0)","v":{"$error":"#REF!"}},{"$f":"IF(#REF!=14,27,0)","v":{"$error":"#REF!"}},{"$f":"IF(#REF!=15,26,0)","v":{"$error":"#REF!"}},{"$f":"IF(#REF!=16,25,0)","v":{"$error":"#REF!"}},{"$f":"IF(#REF!=17,24,0)","v":{"$error":"#REF!"}},{"$f":"IF(#REF!=18,23,0)","v":{"$error":"#REF!"}},{"$f":"IF(#REF!=19,22,0)","v":{"$error":"#REF!"}},{"$f":"IF(#REF!=20,21,0)","v":{"$error":"#REF!"}},{"$f":"IF(#REF!=21,20,0)","v":{"$error":"#REF!"}},{"$f":"IF(#REF!=22,19,0)","v":{"$error":"#REF!"}},{"$f":"IF(#REF!=23,18,0)","v":{"$error":"#REF!"}},{"$f":"IF(#REF!=24,17,0)","v":{"$error":"#REF!"}},{"$f":"IF(#REF!=25,16,0)","v":{"$error":"#REF!"}},{"$f":"IF(#REF!=26,15,0)","v":{"$error":"#REF!"}},{"$f":"IF(#REF!=27,14,0)","v":{"$error":"#REF!"}},{"$f":"IF(#REF!=28,13,0)","v":{"$error":"#REF!"}},{"$f":"IF(#REF!=29,12,0)","v":{"$error":"#REF!"}},{"$f":"IF(#REF!=30,11,0)","v":{"$error":"#REF!"}},{"$f":"IF(#REF!=31,10,0)","v":{"$error":"#REF!"}},{"$f":"IF(#REF!=32,9,0)","v":{"$error":"#REF!"}},{"$f":"IF(#REF!=33,8,0)","v":{"$error":"#REF!"}},{"$f":"IF(#REF!=34,7,0)","v":{"$error":"#REF!"}},{"$f":"IF(#REF!=35,6,0)","v":{"$error":"#REF!"}},{"$f":"IF(#REF!=36,5,0)","v":{"$error":"#REF!"}},{"$f":"IF(#REF!=37,4,0)","v":{"$error":"#REF!"}},{"$f":"IF(#REF!=38,3,0)","v":{"$error":"#REF!"}},{"$f":"IF(#REF!=39,2,0)","v":{"$error":"#REF!"}},{"$f":"IF(#REF!=40,1,0)","v":{"$error":"#REF!"}},{"$f":"IF(#REF!>20,0,0)","v":{"$error":"#REF!"}},{"$f":"IF(#REF!=\"сх\",0,0)","v":{"$error":"#REF!"}},{"$error":"#REF!"},{"$f":"IF(#REF!=1,45,0)","v":{"$error":"#REF!"}},{"$f":"IF(#REF!=2,42,0)","v":{"$error":"#REF!"}},{"$f":"IF(#REF!=3,40,0)","v":{"$error":"#REF!"}},{"$f":"IF(#REF!=4,38,0)","v":{"$error":"#REF!"}},{"$f":"IF(#REF!=5,36,0)","v":{"$error":"#REF!"}},{"$f":"IF(#REF!=6,35,0)","v":{"$error":"#REF!"}},{"$f":"IF(#REF!=7,34,0)","v":{"$error":"#REF!"}},{"$f":"IF(#REF!=8,33,0)","v":{"$error":"#REF!"}},{"$f":"IF(#REF!=9,32,0)","v":{"$error":"#REF!"}},{"$f":"IF(#REF!=10,31,0)","v":{"$error":"#REF!"}},{"$f":"IF(#REF!=11,30,0)","v":{"$error":"#REF!"}},{"$f":"IF(#REF!=12,29,0)","v":{"$error":"#REF!"}},{"$f":"IF(#REF!=13,28,0)","v":{"$error":"#REF!"}},{"$f":"IF(#REF!=14,27,0)","v":{"$error":"#REF!"}},{"$f":"IF(#REF!=15,26,0)","v":{"$error":"#REF!"}},{"$f":"IF(#REF!=16,25,0)","v":{"$error":"#REF!"}},{"$f":"IF(#REF!=17,24,0)","v":{"$error":"#REF!"}},{"$f":"IF(#REF!=18,23,0)","v":{"$error":"#REF!"}},{"$f":"IF(#REF!=19,22,0)","v":{"$error":"#REF!"}},{"$f":"IF(#REF!=20,21,0)","v":{"$error":"#REF!"}},{"$f":"IF(#REF!=21,20,0)","v":{"$error":"#REF!"}},{"$f":"IF(#REF!=22,19,0)","v":{"$error":"#REF!"}},{"$f":"IF(#REF!=23,18,0)","v":{"$error":"#REF!"}},{"$f":"IF(#REF!=24,17,0)","v":{"$error":"#REF!"}},{"$f":"IF(#REF!=25,16,0)","v":{"$error":"#REF!"}},{"$f":"IF(#REF!=26,15,0)","v":{"$error":"#REF!"}},{"$f":"IF(#REF!=27,14,0)","v":{"$error":"#REF!"}},{"$f":"IF(#REF!=28,13,0)","v":{"$error":"#REF!"}},{"$f":"IF(#REF!=29,12,0)","v":{"$error":"#REF!"}},{"$f":"IF(#REF!=30,11,0)","v":{"$error":"#REF!"}},{"$f":"IF(#REF!=31,10,0)","v":{"$error":"#REF!"}},{"$f":"IF(#REF!=32,9,0)","v":{"$error":"#REF!"}},{"$f":"IF(#REF!=33,8,0)","v":{"$error":"#REF!"}},{"$f":"IF(#REF!=34,7,0)","v":{"$error":"#REF!"}},{"$f":"IF(#REF!=35,6,0)","v":{"$error":"#REF!"}},{"$f":"IF(#REF!=36,5,0)","v":{"$error":"#REF!"}},{"$f":"IF(#REF!=37,4,0)","v":{"$error":"#REF!"}},{"$f":"IF(#REF!=38,3,0)","v":{"$error":"#REF!"}},{"$f":"IF(#REF!=39,2,0)","v":{"$error":"#REF!"}},{"$f":"IF(#REF!=40,1,0)","v":{"$error":"#REF!"}},{"$f":"IF(#REF!>20,0,0)","v":{"$error":"#REF!"}},{"$f":"IF(#REF!=\"сх\",0,0)","v":{"$error":"#REF!"}},{"$error":"#REF!"},null,{"$f":"IF(#REF!=\"сх\",\"ноль\",IF(#REF!>0,#REF!,\"Ноль\"))","v":{"$error":"#REF!"}},{"$f":"IF(#REF!=\"сх\",\"ноль\",IF(#REF!>0,#REF!,\"Ноль\"))","v":{"$error":"#REF!"}},null,{"$error":"#REF!"},{"$f":"IF(L15=#REF!,IF(#REF!<#REF!,#REF!,FA15),#REF!)","v":{"$error":"#REF!"}},{"$f":"IF(L15=#REF!,IF(#REF!<#REF!,0,1))","v":{"$error":"#REF!"}},{"$f":"IF(AND(EV15>=21,EV15<>0),EV15,IF(L15<#REF!,\"СТОП\",EW15+EX15))","v":{"$error":"#REF!"}},null,15,16,null,{"$f":"IF(#REF!=1,25,0)","v":{"$error":"#REF!"}},{"$f":"IF(#REF!=2,22,0)","v":{"$error":"#REF!"}},{"$f":"IF(#REF!=3,20,0)","v":{"$error":"#REF!"}},{"$f":"IF(#REF!=4,18,0)","v":{"$error":"#REF!"}},{"$f":"IF(#REF!=5,16,0)","v":{"$error":"#REF!"}},{"$f":"IF(#REF!=6,15,0)","v":{"$error":"#REF!"}},{"$f":"IF(#REF!=7,14,0)","v":{"$error":"#REF!"}},{"$f":"IF(#REF!=8,13,0)","v":{"$error":"#REF!"}},{"$f":"IF(#REF!=9,12,0)","v":{"$error":"#REF!"}},{"$f":"IF(#REF!=10,11,0)","v":{"$error":"#REF!"}},{"$f":"IF(#REF!=11,10,0)","v":{"$error":"#REF!"}},{"$f":"IF(#REF!=12,9,0)","v":{"$error":"#REF!"}},{"$f":"IF(#REF!=13,8,0)","v":{"$error":"#REF!"}},{"$f":"IF(#REF!=14,7,0)","v":{"$error":"#REF!"}},{"$f":"IF(#REF!=15,6,0)","v":{"$error":"#REF!"}},{"$f":"IF(#REF!=16,5,0)","v":{"$error":"#REF!"}},{"$f":"IF(#REF!=17,4,0)","v":{"$error":"#REF!"}},{"$f":"IF(#REF!=18,3,0)","v":{"$error":"#REF!"}},{"$f":"IF(#REF!=19,2,0)","v":{"$error":"#REF!"}},{"$f":"IF(#REF!=20,1,0)","v":{"$error":"#REF!"}},{"$f":"IF(#REF!>20,0,0)","v":{"$error":"#REF!"}},{"$f":"IF(#REF!=\"сх\",0,0)","v":{"$error":"#REF!"}},{"$error":"#REF!"},{"$f":"IF(#REF!=1,25,0)","v":{"$error":"#REF!"}},{"$f":"IF(#REF!=2,22,0)","v":{"$error":"#REF!"}},{"$f":"IF(#REF!=3,20,0)","v":{"$error":"#REF!"}},{"$f":"IF(#REF!=4,18,0)","v":{"$error":"#REF!"}},{"$f":"IF(#REF!=5,16,0)","v":{"$error":"#REF!"}},{"$f":"IF(#REF!=6,15,0)","v":{"$error":"#REF!"}},{"$f":"IF(#REF!=7,14,0)","v":{"$error":"#REF!"}},{"$f":"IF(#REF!=8,13,0)","v":{"$error":"#REF!"}},{"$f":"IF(#REF!=9,12,0)","v":{"$error":"#REF!"}},{"$f":"IF(#REF!=10,11,0)","v":{"$error":"#REF!"}},{"$f":"IF(#REF!=11,10,0)","v":{"$error":"#REF!"}},{"$f":"IF(#REF!=12,9,0)","v":{"$error":"#REF!"}},{"$f":"IF(#REF!=13,8,0)","v":{"$error":"#REF!"}},{"$f":"IF(#REF!=14,7,0)","v":{"$error":"#REF!"}},{"$f":"IF(#REF!=15,6,0)","v":{"$error":"#REF!"}},{"$f":"IF(#REF!=16,5,0)","v":{"$error":"#REF!"}},{"$f":"IF(#REF!=17,4,0)","v":{"$error":"#REF!"}},{"$f":"IF(#REF!=18,3,0)","v":{"$error":"#REF!"}},{"$f":"IF(#REF!=19,2,0)","v":{"$error":"#REF!"}},{"$f":"IF(#REF!=20,1,0)","v":{"$error":"#REF!"}},{"$f":"IF(#REF!>20,0,0)","v":{"$error":"#REF!"}},{"$f":"IF(#REF!=\"сх\",0,0)","v":{"$error":"#REF!"}},{"$error":"#REF!"},{"$f":"IF(#REF!=1,100,0)","v":{"$error":"#REF!"}},{"$f":"IF(#REF!=2,98,0)","v":{"$error":"#REF!"}},{"$f":"IF(#REF!=3,95,0)","v":{"$error":"#REF!"}},{"$f":"IF(#REF!=4,93,0)","v":{"$error":"#REF!"}},{"$f":"IF(#REF!=5,90,0)","v":{"$error":"#REF!"}},{"$f":"IF(#REF!=6,88,0)","v":{"$error":"#REF!"}},{"$f":"IF(#REF!=7,85,0)","v":{"$error":"#REF!"}},{"$f":"IF(#REF!=8,83,0)","v":{"$error":"#REF!"}},{"$f":"IF(#REF!=9,80,0)","v":{"$error":"#REF!"}},{"$f":"IF(#REF!=10,78,0)","v":{"$error":"#REF!"}},{"$f":"IF(#REF!=11,75,0)","v":{"$error":"#REF!"}},{"$f":"IF(#REF!=12,73,0)","v":{"$error":"#REF!"}},{"$f":"IF(#REF!=13,70,0)","v":{"$error":"#REF!"}},{"$f":"IF(#REF!=14,68,0)","v":{"$error":"#REF!"}},{"$f":"IF(#REF!=15,65,0)","v":{"$error":"#REF!"}},{"$f":"IF(#REF!=16,63,0)","v":{"$error":"#REF!"}},{"$f":"IF(#REF!=17,60,0)","v":{"$error":"#REF!"}},{"$f":"IF(#REF!=18,58,0)","v":{"$error":"#REF!"}},{"$f":"IF(#REF!=19,55,0)","v":{"$error":"#REF!"}},{"$f":"IF(#REF!=20,53,0)","v":{"$error":"#REF!"}},{"$f":"IF(#REF!>20,0,0)","v":{"$error":"#REF!"}},{"$f":"IF(#REF!=\"сх\",0,0)","v":{"$error":"#REF!"}},{"$error":"#REF!"},{"$f":"IF(#REF!=1,100,0)","v":{"$error":"#REF!"}},{"$f":"IF(#REF!=2,98,0)","v":{"$error":"#REF!"}},{"$f":"IF(#REF!=3,95,0)","v":{"$error":"#REF!"}},{"$f":"IF(#REF!=4,93,0)","v":{"$error":"#REF!"}},{"$f":"IF(#REF!=5,90,0)","v":{"$error":"#REF!"}},{"$f":"IF(#REF!=6,88,0)","v":{"$error":"#REF!"}},{"$f":"IF(#REF!=7,85,0)","v":{"$error":"#REF!"}},{"$f":"IF(#REF!=8,83,0)","v":{"$error":"#REF!"}},{"$f":"IF(#REF!=9,80,0)","v":{"$error":"#REF!"}},{"$f":"IF(#REF!=10,78,0)","v":{"$error":"#REF!"}},{"$f":"IF(#REF!=11,75,0)","v":{"$error":"#REF!"}},{"$f":"IF(#REF!=12,73,0)","v":{"$error":"#REF!"}},{"$f":"IF(#REF!=13,70,0)","v":{"$error":"#REF!"}},{"$f":"IF(#REF!=14,68,0)","v":{"$error":"#REF!"}},{"$f":"IF(#REF!=15,65,0)","v":{"$error":"#REF!"}},{"$f":"IF(#REF!=16,63,0)","v":{"$error":"#REF!"}},{"$f":"IF(#REF!=17,60,0)","v":{"$error":"#REF!"}},{"$f":"IF(#REF!=18,58,0)","v":{"$error":"#REF!"}},{"$f":"IF(#REF!=19,55,0)","v":{"$error":"#REF!"}},{"$f":"IF(#REF!=20,53,0)","v":{"$error":"#REF!"}},{"$f":"IF(#REF!>20,0,0)","v":{"$error":"#REF!"}},{"$f":"IF(#REF!=\"сх\",0,0)","v":{"$error":"#REF!"}},{"$error":"#REF!"}]
[7,20,"Чибирев Евгений","б/р","г. Зеленодольск, Республика Татарстан","лично","Polaris",7,14,7,14,28,{"$f":"#REF!+#REF!","v":{"$error":"#REF!"}},null,null,{"$f":"IF(#REF!=1,25,0)","v":{"$error":"#REF!"}},{"$f":"IF(#REF!=2,22,0)","v":{"$error":"#REF!"}},{"$f":"IF(#REF!=3,20,0)","v":{"$error":"#REF!"}},{"$f":"IF(#REF!=4,18,0)","v":{"$error":"#REF!"}},{"$f":"IF(#REF!=5,16,0)","v":{"$error":"#REF!"}},{"$f":"IF(#REF!=6,15,0)","v":{"$error":"#REF!"}},{"$f":"IF(#REF!=7,14,0)","v":{"$error":"#REF!"}},{"$f":"IF(#REF!=8,13,0)","v":{"$error":"#REF!"}},{"$f":"IF(#REF!=9,12,0)","v":{"$error":"#REF!"}},{"$f":"IF(#REF!=10,11,0)","v":{"$error":"#REF!"}},{"$f":"IF(#REF!=11,10,0)","v":{"$error":"#REF!"}},{"$f":"IF(#REF!=12,9,0)","v":{"$error":"#REF!"}},{"$f":"IF(#REF!=13,8,0)","v":{"$error":"#REF!"}},{"$f":"IF(#REF!=14,7,0)","v":{"$error":"#REF!"}},{"$f":"IF(#REF!=15,6,0)","v":{"$error":"#REF!"}},{"$f":"IF(#REF!=16,5,0)","v":{"$error":"#REF!"}},{"$f":"IF(#REF!=17,4,0)","v":{"$error":"#REF!"}},{"$f":"IF(#REF!=18,3,0)","v":{"$error":"#REF!"}},{"$f":"IF(#REF!=19,2,0)","v":{"$error":"#REF!"}},{"$f":"IF(#REF!=20,1,0)","v":{"$error":"#REF!"}},{"$f":"IF(#REF!>20,0,0)","v":{"$error":"#REF!"}},{"$f":"IF(#REF!=\"сх\",0,0)","v":{"$error":"#REF!"}},{"$error":"#REF!"},{"$f":"IF(#REF!=1,25,0)","v":{"$error":"#REF!"}},{"$f":"IF(#REF!=2,22,0)","v":{"$error":"#REF!"}},{"$f":"IF(#REF!=3,20,0)","v":{"$error":"#REF!"}},{"$f":"IF(#REF!=4,18,0)","v":{"$error":"#REF!"}},{"$f":"IF(#REF!=5,16,0)","v":{"$error":"#REF!"}},{"$f":"IF(#REF!=6,15,0)","v":{"$error":"#REF!"}},{"$f":"IF(#REF!=7,14,0)","v":{"$error":"#REF!"}},{"$f":"IF(#REF!=8,13,0)","v":{"$error":"#REF!"}},{"$f":"IF(#REF!=9,12,0)","v":{"$error":"#REF!"}},{"$f":"IF(#REF!=10,11,0)","v":{"$error":"#REF!"}},{"$f":"IF(#REF!=11,10,0)","v":{"$error":"#REF!"}},{"$f":"IF(#REF!=12,9,0)","v":{"$error":"#REF!"}},{"$f":"IF(#REF!=13,8,0)","v":{"$error":"#REF!"}},{"$f":"IF(#REF!=14,7,0)","v":{"$error":"#REF!"}},{"$f":"IF(#REF!=15,6,0)","v":{"$error":"#REF!"}},{"$f":"IF(#REF!=16,5,0)","v":{"$error":"#REF!"}},{"$f":"IF(#REF!=17,4,0)","v":{"$error":"#REF!"}},{"$f":"IF(#REF!=18,3,0)","v":{"$error":"#REF!"}},{"$f":"IF(#REF!=19,2,0)","v":{"$error":"#REF!"}},{"$f":"IF(#REF!=20,1,0)","v":{"$error":"#REF!"}},{"$f":"IF(#REF!>20,0,0)","v":{"$error":"#REF!"}},{"$f":"IF(#REF!=\"сх\",0,0)","v":{"$error":"#REF!"}},{"$error":"#REF!"},{"$f":"IF(#REF!=1,45,0)","v":{"$error":"#REF!"}},{"$f":"IF(#REF!=2,42,0)","v":{"$error":"#REF!"}},{"$f":"IF(#REF!=3,40,0)","v":{"$error":"#REF!"}},{"$f":"IF(#REF!=4,38,0)","v":{"$error":"#REF!"}},{"$f":"IF(#REF!=5,36,0)","v":{"$error":"#REF!"}},{"$f":"IF(#REF!=6,35,0)","v":{"$error":"#REF!"}},{"$f":"IF(#REF!=7,34,0)","v":{"$error":"#REF!"}},{"$f":"IF(#REF!=8,33,0)","v":{"$error":"#REF!"}},{"$f":"IF(#REF!=9,32,0)","v":{"$error":"#REF!"}},{"$f":"IF(#REF!=10,31,0)","v":{"$error":"#REF!"}},{"$f":"IF(#REF!=11,30,0)","v":{"$error":"#REF!"}},{"$f":"IF(#REF!=12,29,0)","v":{"$error":"#REF!"}},{"$f":"IF(#REF!=13,28,0)","v":{"$error":"#REF!"}},{"$f":"IF(#REF!=14,27,0)","v":{"$error":"#REF!"}},{"$f":"IF(#REF!=15,26,0)","v":{"$error":"#REF!"}},{"$f":"IF(#REF!=16,25,0)","v":{"$error":"#REF!"}},{"$f":"IF(#REF!=17,24,0)","v":{"$error":"#REF!"}},{"$f":"IF(#REF!=18,23,0)","v":{"$error":"#REF!"}},{"$f":"IF(#REF!=19,22,0)","v":{"$error":"#REF!"}},{"$f":"IF(#REF!=20,21,0)","v":{"$error":"#REF!"}},{"$f":"IF(#REF!=21,20,0)","v":{"$error":"#REF!"}},{"$f":"IF(#REF!=22,19,0)","v":{"$error":"#REF!"}},{"$f":"IF(#REF!=23,18,0)","v":{"$error":"#REF!"}},{"$f":"IF(#REF!=24,17,0)","v":{"$error":"#REF!"}},{"$f":"IF(#REF!=25,16,0)","v":{"$error":"#REF!"}},{"$f":"IF(#REF!=26,15,0)","v":{"$error":"#REF!"}},{"$f":"IF(#REF!=27,14,0)","v":{"$error":"#REF!"}},{"$f":"IF(#REF!=28,13,0)","v":{"$error":"#REF!"}},{"$f":"IF(#REF!=29,12,0)","v":{"$error":"#REF!"}},{"$f":"IF(#REF!=30,11,0)","v":{"$error":"#REF!"}},{"$f":"IF(#REF!=31,10,0)","v":{"$error":"#REF!"}},{"$f":"IF(#REF!=32,9,0)","v":{"$error":"#REF!"}},{"$f":"IF(#REF!=33,8,0)","v":{"$error":"#REF!"}},{"$f":"IF(#REF!=34,7,0)","v":{"$error":"#REF!"}},{"$f":"IF(#REF!=35,6,0)","v":{"$error":"#REF!"}},{"$f":"IF(#REF!=36,5,0)","v":{"$error":"#REF!"}},{"$f":"IF(#REF!=37,4,0)","v":{"$error":"#REF!"}},{"$f":"IF(#REF!=38,3,0)","v":{"$error":"#REF!"}},{"$f":"IF(#REF!=39,2,0)","v":{"$error":"#REF!"}},{"$f":"IF(#REF!=40,1,0)","v":{"$error":"#REF!"}},{"$f":"IF(#REF!>20,0,0)","v":{"$error":"#REF!"}},{"$f":"IF(#REF!=\"сх\",0,0)","v":{"$error":"#REF!"}},{"$error":"#REF!"},{"$f":"IF(#REF!=1,45,0)","v":{"$error":"#REF!"}},{"$f":"IF(#REF!=2,42,0)","v":{"$error":"#REF!"}},{"$f":"IF(#REF!=3,40,0)","v":{"$error":"#REF!"}},{"$f":"IF(#REF!=4,38,0)","v":{"$error":"#REF!"}},{"$f":"IF(#REF!=5,36,0)","v":{"$error":"#REF!"}},{"$f":"IF(#REF!=6,35,0)","v":{"$error":"#REF!"}},{"$f":"IF(#REF!=7,34,0)","v":{"$error":"#REF!"}},{"$f":"IF(#REF!=8,33,0)","v":{"$error":"#REF!"}},{"$f":"IF(#REF!=9,32,0)","v":{"$error":"#REF!"}},{"$f":"IF(#REF!=10,31,0)","v":{"$error":"#REF!"}},{"$f":"IF(#REF!=11,30,0)","v":{"$error":"#REF!"}},{"$f":"IF(#REF!=12,29,0)","v":{"$error":"#REF!"}},{"$f":"IF(#REF!=13,28,0)","v":{"$error":"#REF!"}},{"$f":"IF(#REF!=14,27,0)","v":{"$error":"#REF!"}},{"$f":"IF(#REF!=15,26,0)","v":{"$error":"#REF!"}},{"$f":"IF(#REF!=16,25,0)","v":{"$error":"#REF!"}},{"$f":"IF(#REF!=17,24,0)","v":{"$error":"#REF!"}},{"$f":"IF(#REF!=18,23,0)","v":{"$error":"#REF!"}},{"$f":"IF(#REF!=19,22,0)","v":{"$error":"#REF!"}},{"$f":"IF(#REF!=20,21,0)","v":{"$error":"#REF!"}},{"$f":"IF(#REF!=21,20,0)","v":{"$error":"#REF!"}},{"$f":"IF(#REF!=22,19,0)","v":{"$error":"#REF!"}},{"$f":"IF(#REF!=23,18,0)","v":{"$error":"#REF!"}},{"$f":"IF(#REF!=24,17,0)","v":{"$error":"#REF!"}},{"$f":"IF(#REF!=25,16,0)","v":{"$error":"#REF!"}},{"$f":"IF(#REF!=26,15,0)","v":{"$error":"#REF!"}},{"$f":"IF(#REF!=27,14,0)","v":{"$error":"#REF!"}},{"$f":"IF(#REF!=28,13,0)","v":{"$error":"#REF!"}},{"$f":"IF(#REF!=29,12,0)","v":{"$error":"#REF!"}},{"$f":"IF(#REF!=30,11,0)","v":{"$error":"#REF!"}},{"$f":"IF(#REF!=31,10,0)","v":{"$error":"#REF!"}},{"$f":"IF(#REF!=32,9,0)","v":{"$error":"#REF!"}},{"$f":"IF(#REF!=33,8,0)","v":{"$error":"#REF!"}},{"$f":"IF(#REF!=34,7,0)","v":{"$error":"#REF!"}},{"$f":"IF(#REF!=35,6,0)","v":{"$error":"#REF!"}},{"$f":"IF(#REF!=36,5,0)","v":{"$error":"#REF!"}},{"$f":"IF(#REF!=37,4,0)","v":{"$error":"#REF!"}},{"$f":"IF(#REF!=38,3,0)","v":{"$error":"#REF!"}},{"$f":"IF(#REF!=39,2,0)","v":{"$error":"#REF!"}},{"$f":"IF(#REF!=40,1,0)","v":{"$error":"#REF!"}},{"$f":"IF(#REF!>20,0,0)","v":{"$error":"#REF!"}},{"$f":"IF(#REF!=\"сх\",0,0)","v":{"$error":"#REF!"}},{"$error":"#REF!"},null,{"$f":"IF(#REF!=\"сх\",\"ноль\",IF(#REF!>0,#REF!,\"Ноль\"))","v":{"$error":"#REF!"}},{"$f":"IF(#REF!=\"сх\",\"ноль\",IF(#REF!>0,#REF!,\"Ноль\"))","v":{"$error":"#REF!"}},null,{"$error":"#REF!"},{"$f":"IF(L16=#REF!,IF(#REF!<#REF!,#REF!,FA16),#REF!)","v":{"$error":"#REF!"}},{"$f":"IF(L16=#REF!,IF(#REF!<#REF!,0,1))","v":{"$error":"#REF!"}},{"$f":"IF(AND(EV16>=21,EV16<>0),EV16,IF(L16<#REF!,\"СТОП\",EW16+EX16))","v":{"$error":"#REF!"}},null,15,16,null,{"$f":"IF(#REF!=1,25,0)","v":{"$error":"#REF!"}},{"$f":"IF(#REF!=2,22,0)","v":{"$error":"#REF!"}},{"$f":"IF(#REF!=3,20,0)","v":{"$error":"#REF!"}},{"$f":"IF(#REF!=4,18,0)","v":{"$error":"#REF!"}},{"$f":"IF(#REF!=5,16,0)","v":{"$error":"#REF!"}},{"$f":"IF(#REF!=6,15,0)","v":{"$error":"#REF!"}},{"$f":"IF(#REF!=7,14,0)","v":{"$error":"#REF!"}},{"$f":"IF(#REF!=8,13,0)","v":{"$error":"#REF!"}},{"$f":"IF(#REF!=9,12,0)","v":{"$error":"#REF!"}},{"$f":"IF(#REF!=10,11,0)","v":{"$error":"#REF!"}},{"$f":"IF(#REF!=11,10,0)","v":{"$error":"#REF!"}},{"$f":"IF(#REF!=12,9,0)","v":{"$error":"#REF!"}},{"$f":"IF(#REF!=13,8,0)","v":{"$error":"#REF!"}},{"$f":"IF(#REF!=14,7,0)","v":{"$error":"#REF!"}},{"$f":"IF(#REF!=15,6,0)","v":{"$error":"#REF!"}},{"$f":"IF(#REF!=16,5,0)","v":{"$error":"#REF!"}},{"$f":"IF(#REF!=17,4,0)","v":{"$error":"#REF!"}},{"$f":"IF(#REF!=18,3,0)","v":{"$error":"#REF!"}},{"$f":"IF(#REF!=19,2,0)","v":{"$error":"#REF!"}},{"$f":"IF(#REF!=20,1,0)","v":{"$error":"#REF!"}},{"$f":"IF(#REF!>20,0,0)","v":{"$error":"#REF!"}},{"$f":"IF(#REF!=\"сх\",0,0)","v":{"$error":"#REF!"}},{"$error":"#REF!"},{"$f":"IF(#REF!=1,25,0)","v":{"$error":"#REF!"}},{"$f":"IF(#REF!=2,22,0)","v":{"$error":"#REF!"}},{"$f":"IF(#REF!=3,20,0)","v":{"$error":"#REF!"}},{"$f":"IF(#REF!=4,18,0)","v":{"$error":"#REF!"}},{"$f":"IF(#REF!=5,16,0)","v":{"$error":"#REF!"}},{"$f":"IF(#REF!=6,15,0)","v":{"$error":"#REF!"}},{"$f":"IF(#REF!=7,14,0)","v":{"$error":"#REF!"}},{"$f":"IF(#REF!=8,13,0)","v":{"$error":"#REF!"}},{"$f":"IF(#REF!=9,12,0)","v":{"$error":"#REF!"}},{"$f":"IF(#REF!=10,11,0)","v":{"$error":"#REF!"}},{"$f":"IF(#REF!=11,10,0)","v":{"$error":"#REF!"}},{"$f":"IF(#REF!=12,9,0)","v":{"$error":"#REF!"}},{"$f":"IF(#REF!=13,8,0)","v":{"$error":"#REF!"}},{"$f":"IF(#REF!=14,7,0)","v":{"$error":"#REF!"}},{"$f":"IF(#REF!=15,6,0)","v":{"$error":"#REF!"}},{"$f":"IF(#REF!=16,5,0)","v":{"$error":"#REF!"}},{"$f":"IF(#REF!=17,4,0)","v":{"$error":"#REF!"}},{"$f":"IF(#REF!=18,3,0)","v":{"$error":"#REF!"}},{"$f":"IF(#REF!=19,2,0)","v":{"$error":"#REF!"}},{"$f":"IF(#REF!=20,1,0)","v":{"$error":"#REF!"}},{"$f":"IF(#REF!>20,0,0)","v":{"$error":"#REF!"}},{"$f":"IF(#REF!=\"сх\",0,0)","v":{"$error":"#REF!"}},{"$error":"#REF!"},{"$f":"IF(#REF!=1,100,0)","v":{"$error":"#REF!"}},{"$f":"IF(#REF!=2,98,0)","v":{"$error":"#REF!"}},{"$f":"IF(#REF!=3,95,0)","v":{"$error":"#REF!"}},{"$f":"IF(#REF!=4,93,0)","v":{"$error":"#REF!"}},{"$f":"IF(#REF!=5,90,0)","v":{"$error":"#REF!"}},{"$f":"IF(#REF!=6,88,0)","v":{"$error":"#REF!"}},{"$f":"IF(#REF!=7,85,0)","v":{"$error":"#REF!"}},{"$f":"IF(#REF!=8,83,0)","v":{"$error":"#REF!"}},{"$f":"IF(#REF!=9,80,0)","v":{"$error":"#REF!"}},{"$f":"IF(#REF!=10,78,0)","v":{"$error":"#REF!"}},{"$f":"IF(#REF!=11,75,0)","v":{"$error":"#REF!"}},{"$f":"IF(#REF!=12,73,0)","v":{"$error":"#REF!"}},{"$f":"IF(#REF!=13,70,0)","v":{"$error":"#REF!"}},{"$f":"IF(#REF!=14,68,0)","v":{"$error":"#REF!"}},{"$f":"IF(#REF!=15,65,0)","v":{"$error":"#REF!"}},{"$f":"IF(#REF!=16,63,0)","v":{"$error":"#REF!"}},{"$f":"IF(#REF!=17,60,0)","v":{"$error":"#REF!"}},{"$f":"IF(#REF!=18,58,0)","v":{"$error":"#REF!"}},{"$f":"IF(#REF!=19,55,0)","v":{"$error":"#REF!"}},{"$f":"IF(#REF!=20,53,0)","v":{"$error":"#REF!"}},{"$f":"IF(#REF!>20,0,0)","v":{"$error":"#REF!"}},{"$f":"IF(#REF!=\"сх\",0,0)","v":{"$error":"#REF!"}},{"$error":"#REF!"},{"$f":"IF(#REF!=1,100,0)","v":{"$error":"#REF!"}},{"$f":"IF(#REF!=2,98,0)","v":{"$error":"#REF!"}},{"$f":"IF(#REF!=3,95,0)","v":{"$error":"#REF!"}},{"$f":"IF(#REF!=4,93,0)","v":{"$error":"#REF!"}},{"$f":"IF(#REF!=5,90,0)","v":{"$error":"#REF!"}},{"$f":"IF(#REF!=6,88,0)","v":{"$error":"#REF!"}},{"$f":"IF(#REF!=7,85,0)","v":{"$error":"#REF!"}},{"$f":"IF(#REF!=8,83,0)","v":{"$error":"#REF!"}},{"$f":"IF(#REF!=9,80,0)","v":{"$error":"#REF!"}},{"$f":"IF(#REF!=10,78,0)","v":{"$error":"#REF!"}},{"$f":"IF(#REF!=11,75,0)","v":{"$error":"#REF!"}},{"$f":"IF(#REF!=12,73,0)","v":{"$error":"#REF!"}},{"$f":"IF(#REF!=13,70,0)","v":{"$error":"#REF!"}},{"$f":"IF(#REF!=14,68,0)","v":{"$error":"#REF!"}},{"$f":"IF(#REF!=15,65,0)","v":{"$error":"#REF!"}},{"$f":"IF(#REF!=16,63,0)","v":{"$error":"#REF!"}},{"$f":"IF(#REF!=17,60,0)","v":{"$error":"#REF!"}},{"$f":"IF(#REF!=18,58,0)","v":{"$error":"#REF!"}},{"$f":"IF(#REF!=19,55,0)","v":{"$error":"#REF!"}},{"$f":"IF(#REF!=20,53,0)","v":{"$error":"#REF!"}},{"$f":"IF(#REF!>20,0,0)","v":{"$error":"#REF!"}},{"$f":"IF(#REF!=\"сх\",0,0)","v":{"$error":"#REF!"}},{"$error":"#REF!"}]
[]
["Главный судья соревнований"]
["судья Всероссийской категории:                                                                                                                                                                              Э. А. Иванов (г. Кострома, свидетельство МФР А 165)"]
[]
["Главный секретарь соревнований"]
["судья Всероссийской категории:                                                                                                                                                    А. Ю. Иванов (г. Москва; свидетельство МФР А 105; FIM 12089/11245)"]